

BEGIN:VCALENDAR
VERSION:2.0
PRODID:-//Campus Events - ECPv6.15.20//NONSGML v1.0//EN
CALSCALE:GREGORIAN
METHOD:PUBLISH
X-ORIGINAL-URL:https://events.bridgeport.edu
X-WR-CALDESC:Events for Campus Events
REFRESH-INTERVAL;VALUE=DURATION:PT1H
X-Robots-Tag:noindex
X-PUBLISHED-TTL:PT1H
BEGIN:VTIMEZONE
TZID:America/New_York
BEGIN:DAYLIGHT
TZOFFSETFROM:-0500
TZOFFSETTO:-0400
TZNAME:EDT
DTSTART:20250309T070000
END:DAYLIGHT
BEGIN:STANDARD
TZOFFSETFROM:-0400
TZOFFSETTO:-0500
TZNAME:EST
DTSTART:20251102T060000
END:STANDARD
BEGIN:DAYLIGHT
TZOFFSETFROM:-0500
TZOFFSETTO:-0400
TZNAME:EDT
DTSTART:20260308T070000
END:DAYLIGHT
BEGIN:STANDARD
TZOFFSETFROM:-0400
TZOFFSETTO:-0500
TZNAME:EST
DTSTART:20261101T060000
END:STANDARD
BEGIN:DAYLIGHT
TZOFFSETFROM:-0500
TZOFFSETTO:-0400
TZNAME:EDT
DTSTART:20270314T070000
END:DAYLIGHT
BEGIN:STANDARD
TZOFFSETFROM:-0400
TZOFFSETTO:-0500
TZNAME:EST
DTSTART:20271107T060000
END:STANDARD
END:VTIMEZONE
BEGIN:VEVENT
DTSTART;TZID=America/New_York:20260310T113000
DTEND;TZID=America/New_York:20260310T130000
DTSTAMP:20260420T093327
CREATED:20260304T210313Z
LAST-MODIFIED:20260304T210316Z
UID:152409-1773142200-1773147600@events.bridgeport.edu
SUMMARY:CME Luncheon w President Wilken
DESCRIPTION:
URL:https://events.bridgeport.edu/event/cme-luncheon-w-president-wilken/
LOCATION:WALD 1st Floor Campus: Main Campus
CATEGORIES:Social,Student,VIP Events
END:VEVENT
BEGIN:VEVENT
DTSTART;TZID=America/New_York:20260312T170000
DTEND;TZID=America/New_York:20260312T180000
DTSTAMP:20260420T093327
CREATED:20260225T205008Z
LAST-MODIFIED:20260225T205051Z
UID:152186-1773334800-1773338400@events.bridgeport.edu
SUMMARY:Luck of the Bingo - Student Programming Board
DESCRIPTION:
URL:https://events.bridgeport.edu/event/luck-of-the-bingo-student-programming-board/
LOCATION:JCSC Knights Twisted\, 244 University Avenue\, Bridgeport\, CT\, 06604\, United States
CATEGORIES:Social,Student
END:VEVENT
BEGIN:VEVENT
DTSTART;TZID=America/New_York:20260318T150000
DTEND;TZID=America/New_York:20260318T160000
DTSTAMP:20260420T093327
CREATED:20260304T202832Z
LAST-MODIFIED:20260304T202842Z
UID:152407-1773846000-1773849600@events.bridgeport.edu
SUMMARY:The Money Series: Unlocking Coins Through Community Connections - Student Financial Services
DESCRIPTION:
URL:https://events.bridgeport.edu/event/the-money-series-unlocking-coins-through-community-connections-student-financial-services/
LOCATION:WAHL – Discovery Pavilion\, 126 Park Avenue\, Bridgeport\, CT\, 06604\, United States
CATEGORIES:Administrative,Student,Training
END:VEVENT
BEGIN:VEVENT
DTSTART;TZID=America/New_York:20260323T100000
DTEND;TZID=America/New_York:20260323T170000
DTSTAMP:20260420T093327
CREATED:20260312T164252Z
LAST-MODIFIED:20260312T165037Z
UID:152611-1774260000-1774285200@events.bridgeport.edu
SUMMARY:2026 GRAD PHOTOS- https://seniors.legacystudios.com/university-bridgeport-ct/
DESCRIPTION:
URL:https://events.bridgeport.edu/event/2026-grad-photos-by-appointment-only-https-seniors-legacystudios-com-university-bridgeport-ct/
LOCATION:Wahlstrom Library 2nd floor – Heckman Center\, 126 Park Avenue\, Bridgeport\, CT\, 06604\, United States
CATEGORIES:Student,VIP Events
END:VEVENT
BEGIN:VEVENT
DTSTART;TZID=America/New_York:20260324T100000
DTEND;TZID=America/New_York:20260324T170000
DTSTAMP:20260420T093327
CREATED:20260312T164643Z
LAST-MODIFIED:20260312T164911Z
UID:152614-1774346400-1774371600@events.bridgeport.edu
SUMMARY:2026 GRAD PHOTOS- https://seniors.legacystudios.com/university-bridgeport-ct/
DESCRIPTION:
URL:https://events.bridgeport.edu/event/2026-grad-photos-by-appointment-only-3-23-3-25-https-seniors-legacystudios-com-university-bridgeport-ct/
LOCATION:Wahlstrom Library 2nd floor – Heckman Center\, 126 Park Avenue\, Bridgeport\, CT\, 06604\, United States
CATEGORIES:Student,VIP Events
END:VEVENT
BEGIN:VEVENT
DTSTART;TZID=America/New_York:20260325T100000
DTEND;TZID=America/New_York:20260325T170000
DTSTAMP:20260420T093327
CREATED:20260312T164725Z
LAST-MODIFIED:20260312T164949Z
UID:152616-1774432800-1774458000@events.bridgeport.edu
SUMMARY:2026 GRAD PHOTOS-https://seniors.legacystudios.com/university-bridgeport-ct/
DESCRIPTION:
URL:https://events.bridgeport.edu/event/2026-grad-photos-by-appointment-only-3-23-3-25-https-seniors-legacystudios-com-university-bridgeport-ct-2/
LOCATION:Wahlstrom Library 2nd floor – Heckman Center\, 126 Park Avenue\, Bridgeport\, CT\, 06604\, United States
CATEGORIES:Student,VIP Events
END:VEVENT
END:VCALENDAR