

BEGIN:VCALENDAR
VERSION:2.0
PRODID:-//Campus Events - ECPv6.15.20//NONSGML v1.0//EN
CALSCALE:GREGORIAN
METHOD:PUBLISH
X-ORIGINAL-URL:https://events.bridgeport.edu
X-WR-CALDESC:Events for Campus Events
REFRESH-INTERVAL;VALUE=DURATION:PT1H
X-Robots-Tag:noindex
X-PUBLISHED-TTL:PT1H
BEGIN:VTIMEZONE
TZID:America/New_York
BEGIN:DAYLIGHT
TZOFFSETFROM:-0500
TZOFFSETTO:-0400
TZNAME:EDT
DTSTART:20250309T070000
END:DAYLIGHT
BEGIN:STANDARD
TZOFFSETFROM:-0400
TZOFFSETTO:-0500
TZNAME:EST
DTSTART:20251102T060000
END:STANDARD
BEGIN:DAYLIGHT
TZOFFSETFROM:-0500
TZOFFSETTO:-0400
TZNAME:EDT
DTSTART:20260308T070000
END:DAYLIGHT
BEGIN:STANDARD
TZOFFSETFROM:-0400
TZOFFSETTO:-0500
TZNAME:EST
DTSTART:20261101T060000
END:STANDARD
BEGIN:DAYLIGHT
TZOFFSETFROM:-0500
TZOFFSETTO:-0400
TZNAME:EDT
DTSTART:20270314T070000
END:DAYLIGHT
BEGIN:STANDARD
TZOFFSETFROM:-0400
TZOFFSETTO:-0500
TZNAME:EST
DTSTART:20271107T060000
END:STANDARD
END:VTIMEZONE
BEGIN:VEVENT
DTSTART;TZID=America/New_York:20260331T120000
DTEND;TZID=America/New_York:20260331T140000
DTSTAMP:20260421T013608
CREATED:20260316T135743Z
LAST-MODIFIED:20260316T135743Z
UID:152716-1774958400-1774965600@events.bridgeport.edu
SUMMARY:Treat Yourself - SGA Tabling
DESCRIPTION:
URL:https://events.bridgeport.edu/event/treat-yourself-sga-tabling/
LOCATION:WAHL – Library Lobby 1st Floor\, 126 Park Avenue\, Bridgeport\, CT\, 06604\, United States
CATEGORIES:Social,Student Organizations
END:VEVENT
BEGIN:VEVENT
DTSTART;TZID=America/New_York:20260330T193000
DTEND;TZID=America/New_York:20260330T213000
DTSTAMP:20260421T013608
CREATED:20260217T164234Z
LAST-MODIFIED:20260222T054740Z
UID:146508-1774899000-1774906200@events.bridgeport.edu
SUMMARY:F.L.O.H Practice
DESCRIPTION:
URL:https://events.bridgeport.edu/event/f-l-o-h-practice-14/
LOCATION:JCSC 003
CATEGORIES:Student Organizations
END:VEVENT
BEGIN:VEVENT
DTSTART;TZID=America/New_York:20260330T163000
DTEND;TZID=America/New_York:20260330T180000
DTSTAMP:20260421T013608
CREATED:20260217T164233Z
LAST-MODIFIED:20260222T054740Z
UID:146507-1774888200-1774893600@events.bridgeport.edu
SUMMARY:Psychology Club General Meeting
DESCRIPTION:
URL:https://events.bridgeport.edu/event/psychology-club-general-meeting-5/
LOCATION:CARH 152
CATEGORIES:Student Organizations
END:VEVENT
BEGIN:VEVENT
DTSTART;TZID=America/New_York:20260329T143000
DTEND;TZID=America/New_York:20260329T193000
DTSTAMP:20260421T013608
CREATED:20260217T164222Z
LAST-MODIFIED:20260222T054740Z
UID:146505-1774794600-1774812600@events.bridgeport.edu
SUMMARY:International Campus Church - Bridges Friends of Internationals
DESCRIPTION:
URL:https://events.bridgeport.edu/event/international-campus-church-bridges-friends-of-internationals-9/
LOCATION:JCSC 100
CATEGORIES:Student Organizations
END:VEVENT
BEGIN:VEVENT
DTSTART;TZID=America/New_York:20260329T080000
DTEND;TZID=America/New_York:20260329T220000
DTSTAMP:20260421T013608
CREATED:20260217T164233Z
LAST-MODIFIED:20260222T054740Z
UID:146506-1774771200-1774821600@events.bridgeport.edu
SUMMARY:Build the Future: IEEE Innovation Hackathon
DESCRIPTION:
URL:https://events.bridgeport.edu/event/build-the-future-ieee-innovation-hackathon-2/
LOCATION:JCSC KNIGHT S1 – Social Room
CATEGORIES:Student Organizations
END:VEVENT
BEGIN:VEVENT
DTSTART;TZID=America/New_York:20260328T080000
DTEND;TZID=America/New_York:20260328T220000
DTSTAMP:20260421T013608
CREATED:20260217T164222Z
LAST-MODIFIED:20260222T054740Z
UID:146504-1774684800-1774735200@events.bridgeport.edu
SUMMARY:Build the Future: IEEE Innovation Hackathon
DESCRIPTION:
URL:https://events.bridgeport.edu/event/build-the-future-ieee-innovation-hackathon/
LOCATION:JCSC KNIGHT S1 – Social Room
CATEGORIES:Student Organizations
END:VEVENT
BEGIN:VEVENT
DTSTART;TZID=America/New_York:20260327T190000
DTEND;TZID=America/New_York:20260327T223000
DTSTAMP:20260421T013608
CREATED:20260217T164222Z
LAST-MODIFIED:20260312T200741Z
UID:146503-1774638000-1774650600@events.bridgeport.edu
SUMMARY:Black Is Beauty - Black Student Alliance
DESCRIPTION:
URL:https://events.bridgeport.edu/event/black-is-beauty-black-student-alliance/
LOCATION:JCSC KNIGHT S1 – Social Room
CATEGORIES:Social,Student Organizations
END:VEVENT
BEGIN:VEVENT
DTSTART;TZID=America/New_York:20260326T190000
DTEND;TZID=America/New_York:20260326T230000
DTSTAMP:20260421T013608
CREATED:20260217T164222Z
LAST-MODIFIED:20260222T054729Z
UID:146500-1774551600-1774566000@events.bridgeport.edu
SUMMARY:Black Is Beauty Practice - Black Student Alliance
DESCRIPTION:
URL:https://events.bridgeport.edu/event/black-is-beauty-practice-black-student-alliance-14/
LOCATION:JCSC KNIGHT S1 – Social Room
CATEGORIES:Student Organizations
END:VEVENT
BEGIN:VEVENT
DTSTART;TZID=America/New_York:20260326T180000
DTEND;TZID=America/New_York:20260326T220000
DTSTAMP:20260421T013608
CREATED:20260217T164222Z
LAST-MODIFIED:20260222T054740Z
UID:146502-1774548000-1774562400@events.bridgeport.edu
SUMMARY:SNA Bowling Night! - UB National Student Nurse's Association
DESCRIPTION:
URL:https://events.bridgeport.edu/event/sna-bowling-night-ub-national-student-nurses-association/
LOCATION:JCSC UBowl
CATEGORIES:Student Organizations
END:VEVENT
BEGIN:VEVENT
DTSTART;TZID=America/New_York:20260326T120000
DTEND;TZID=America/New_York:20260326T140000
DTSTAMP:20260421T013608
CREATED:20260204T024646Z
LAST-MODIFIED:20260309T194103Z
UID:144720-1774526400-1774533600@events.bridgeport.edu
SUMMARY:Cookies & Creativity: Decorate a Cookie!- Commuter Students at UB
DESCRIPTION:
URL:https://events.bridgeport.edu/event/commuter-valentines-treat-table-commuter-students-at-ub-2/
LOCATION:JCSC – 1st floor Lobby\, 244 University Avenue\, Bridgeport\, CT\, 06604\, United States
CATEGORIES:Social,Student Organizations
END:VEVENT
BEGIN:VEVENT
DTSTART;TZID=America/New_York:20260325T193000
DTEND;TZID=America/New_York:20260325T213000
DTSTAMP:20260421T013608
CREATED:20260217T164222Z
LAST-MODIFIED:20260222T054729Z
UID:146499-1774467000-1774474200@events.bridgeport.edu
SUMMARY:F.L.O.H Practice
DESCRIPTION:
URL:https://events.bridgeport.edu/event/f-l-o-h-practice-13/
LOCATION:JCSC 003
CATEGORIES:Student Organizations
END:VEVENT
BEGIN:VEVENT
DTSTART;TZID=America/New_York:20260325T190000
DTEND;TZID=America/New_York:20260325T230000
DTSTAMP:20260421T013608
CREATED:20260217T164222Z
LAST-MODIFIED:20260222T054729Z
UID:146497-1774465200-1774479600@events.bridgeport.edu
SUMMARY:Black Is Beauty Practice
DESCRIPTION:
URL:https://events.bridgeport.edu/event/black-is-beauty-practice/
LOCATION:JCSC KNIGHT S1 – Social Room
CATEGORIES:Student Organizations
END:VEVENT
BEGIN:VEVENT
DTSTART;TZID=America/New_York:20260325T183000
DTEND;TZID=America/New_York:20260325T211500
DTSTAMP:20260421T013608
CREATED:20260217T164222Z
LAST-MODIFIED:20260222T054729Z
UID:146498-1774463400-1774473300@events.bridgeport.edu
SUMMARY:Dinner and Bible Discussion - Bridges Friends of International
DESCRIPTION:
URL:https://events.bridgeport.edu/event/dinner-and-bible-discussion-bridges-friends-of-international-7/
LOCATION:BARN Barnum
CATEGORIES:Student Organizations
END:VEVENT
BEGIN:VEVENT
DTSTART;TZID=America/New_York:20260325T180000
DTEND;TZID=America/New_York:20260325T190000
DTSTAMP:20260421T013608
CREATED:20260217T164222Z
LAST-MODIFIED:20260222T054729Z
UID:146495-1774461600-1774465200@events.bridgeport.edu
SUMMARY:UB Gospel Choir Rehearsal
DESCRIPTION:
URL:https://events.bridgeport.edu/event/ub-gospel-choir-rehearsal-6/
LOCATION:JCSC 101-107
CATEGORIES:Student Organizations
END:VEVENT
BEGIN:VEVENT
DTSTART;TZID=America/New_York:20260325T150000
DTEND;TZID=America/New_York:20260325T163000
DTSTAMP:20260421T013608
CREATED:20260217T164210Z
LAST-MODIFIED:20260222T054729Z
UID:146494-1774450800-1774456200@events.bridgeport.edu
SUMMARY:Highlight Your Vision: The Vision Board Experience - hosted by SPB and BSA
DESCRIPTION:
URL:https://events.bridgeport.edu/event/highlight-your-vision-the-vision-board-experience-hosted-by-spb-and-bsa/
LOCATION:MDH HUB A
CATEGORIES:Student Organizations
END:VEVENT
BEGIN:VEVENT
DTSTART;TZID=America/New_York:20260325T150000
DTEND;TZID=America/New_York:20260325T160000
DTSTAMP:20260421T013608
CREATED:20260217T164222Z
LAST-MODIFIED:20260324T151544Z
UID:146496-1774450800-1774454400@events.bridgeport.edu
SUMMARY:SPB- Meeting
DESCRIPTION:
URL:https://events.bridgeport.edu/event/spb-meeting-3/
LOCATION:WAHL 158
CATEGORIES:Student Organizations
END:VEVENT
BEGIN:VEVENT
DTSTART;TZID=America/New_York:20260324T193000
DTEND;TZID=America/New_York:20260324T213000
DTSTAMP:20260421T013608
CREATED:20260217T164210Z
LAST-MODIFIED:20260222T054729Z
UID:146493-1774380600-1774387800@events.bridgeport.edu
SUMMARY:F.L.O.H Practice
DESCRIPTION:
URL:https://events.bridgeport.edu/event/f-l-o-h-practice-12/
LOCATION:JCSC 003
CATEGORIES:Student Organizations
END:VEVENT
BEGIN:VEVENT
DTSTART;TZID=America/New_York:20260324T190000
DTEND;TZID=America/New_York:20260324T220000
DTSTAMP:20260421T013608
CREATED:20260217T164210Z
LAST-MODIFIED:20260222T054729Z
UID:146492-1774378800-1774389600@events.bridgeport.edu
SUMMARY:Black Is Beauty Practice - Black Student Alliance
DESCRIPTION:
URL:https://events.bridgeport.edu/event/black-is-beauty-practice-black-student-alliance-13/
LOCATION:JCSC KNIGHT S1 – Social Room
CATEGORIES:Student Organizations
END:VEVENT
BEGIN:VEVENT
DTSTART;TZID=America/New_York:20260324T160000
DTEND;TZID=America/New_York:20260324T180000
DTSTAMP:20260421T013608
CREATED:20260217T164210Z
LAST-MODIFIED:20260222T054729Z
UID:146491-1774368000-1774375200@events.bridgeport.edu
SUMMARY:Intro to Blood Bank - The Medical Laboratory Science Club
DESCRIPTION:
URL:https://events.bridgeport.edu/event/intro-to-blood-bank-the-medical-laboratory-science-club/
LOCATION:DANA 126
CATEGORIES:Student Organizations
END:VEVENT
BEGIN:VEVENT
DTSTART;TZID=America/New_York:20260323T193000
DTEND;TZID=America/New_York:20260323T213000
DTSTAMP:20260421T013608
CREATED:20260217T164210Z
LAST-MODIFIED:20260222T054718Z
UID:146488-1774294200-1774301400@events.bridgeport.edu
SUMMARY:F.L.O.H Practice
DESCRIPTION:
URL:https://events.bridgeport.edu/event/f-l-o-h-practice-11/
LOCATION:JCSC 003
CATEGORIES:Student Organizations
END:VEVENT
BEGIN:VEVENT
DTSTART;TZID=America/New_York:20260323T190000
DTEND;TZID=America/New_York:20260323T220000
DTSTAMP:20260421T013608
CREATED:20260217T164210Z
LAST-MODIFIED:20260222T054718Z
UID:146489-1774292400-1774303200@events.bridgeport.edu
SUMMARY:Black Is Beauty Practice - Black Student Alliance
DESCRIPTION:
URL:https://events.bridgeport.edu/event/black-is-beauty-practice-black-student-alliance-12/
LOCATION:JCSC KNIGHT S1 – Social Room
CATEGORIES:Student Organizations
END:VEVENT
BEGIN:VEVENT
DTSTART;TZID=America/New_York:20260323T163000
DTEND;TZID=America/New_York:20260323T180000
DTSTAMP:20260421T013608
CREATED:20260217T164210Z
LAST-MODIFIED:20260222T054718Z
UID:146486-1774283400-1774288800@events.bridgeport.edu
SUMMARY:Psychology Club General Meeting
DESCRIPTION:
URL:https://events.bridgeport.edu/event/psychology-club-general-meeting-4/
LOCATION:CARH 152
CATEGORIES:Student Organizations
END:VEVENT
BEGIN:VEVENT
DTSTART;TZID=America/New_York:20260323T121500
DTEND;TZID=America/New_York:20260323T131500
DTSTAMP:20260421T013608
CREATED:20260303T205555Z
LAST-MODIFIED:20260303T205558Z
UID:152376-1774268100-1774271700@events.bridgeport.edu
SUMMARY:UBSGA Presents: The Wellness Way Approach to Autoimmune and Thyroid-UBSC Student Government Association
DESCRIPTION:
URL:https://events.bridgeport.edu/event/ubsga-presents-the-wellness-way-approach-to-autoimmune-and-thyroid-ubsc-student-government-association/
LOCATION:CC 100 Campus: Main Campus\, 75 Linden Avenue\, Bridgeport\, CT\, 06604\, United States
CATEGORIES:Student Organizations
END:VEVENT
BEGIN:VEVENT
DTSTART;TZID=America/New_York:20260322T160000
DTEND;TZID=America/New_York:20260322T180000
DTSTAMP:20260421T013608
CREATED:20260217T164210Z
LAST-MODIFIED:20260222T054718Z
UID:146485-1774195200-1774202400@events.bridgeport.edu
SUMMARY:Chapter Meetings - Alpha Kappa Alpha Sorority\, Inc.
DESCRIPTION:
URL:https://events.bridgeport.edu/event/chapter-meetings-alpha-kappa-alpha-sorority-inc/
LOCATION:CARH 152
CATEGORIES:Student Organizations
END:VEVENT
BEGIN:VEVENT
DTSTART;TZID=America/New_York:20260322T143000
DTEND;TZID=America/New_York:20260322T193000
DTSTAMP:20260421T013608
CREATED:20260217T164210Z
LAST-MODIFIED:20260222T054718Z
UID:146484-1774189800-1774207800@events.bridgeport.edu
SUMMARY:International Campus Church - Bridges Friends of Internationals
DESCRIPTION:
URL:https://events.bridgeport.edu/event/international-campus-church-bridges-friends-of-internationals-8/
LOCATION:JCSC 100
CATEGORIES:Student Organizations
END:VEVENT
BEGIN:VEVENT
DTSTART;TZID=America/New_York:20260320T193000
DTEND;TZID=America/New_York:20260320T213000
DTSTAMP:20260421T013608
CREATED:20260217T164158Z
LAST-MODIFIED:20260222T054718Z
UID:146482-1774035000-1774042200@events.bridgeport.edu
SUMMARY:F.L.O.H Practice
DESCRIPTION:
URL:https://events.bridgeport.edu/event/f-l-o-h-practice-10/
LOCATION:JCSC 003
CATEGORIES:Student Organizations
END:VEVENT
BEGIN:VEVENT
DTSTART;TZID=America/New_York:20260320T190000
DTEND;TZID=America/New_York:20260320T220000
DTSTAMP:20260421T013608
CREATED:20260217T164210Z
LAST-MODIFIED:20260222T054718Z
UID:146483-1774033200-1774044000@events.bridgeport.edu
SUMMARY:Black Is Beauty Practice - Black Student Alliance
DESCRIPTION:
URL:https://events.bridgeport.edu/event/black-is-beauty-practice-black-student-alliance-11/
LOCATION:JCSC KNIGHT S1 – Social Room
CATEGORIES:Student Organizations
END:VEVENT
BEGIN:VEVENT
DTSTART;TZID=America/New_York:20260320T180000
DTEND;TZID=America/New_York:20260320T193000
DTSTAMP:20260421T013608
CREATED:20260303T191402Z
LAST-MODIFIED:20260303T191413Z
UID:152359-1774029600-1774035000@events.bridgeport.edu
SUMMARY:Playing the Odds: Casino Night - Alpha Kappa Alpha Sorority\, Inc.
DESCRIPTION:
URL:https://events.bridgeport.edu/event/playing-the-odds-casino-night-alpha-kappa-alpha-sorority-inc/
LOCATION:MDH HUB Campus: Main Campus\, 374 Linden Avenue\, Bridgeport\, CT\, 06604\, United States
CATEGORIES:Social,Student Organizations
END:VEVENT
BEGIN:VEVENT
DTSTART;TZID=America/New_York:20260320T173000
DTEND;TZID=America/New_York:20260320T183000
DTSTAMP:20260421T013608
CREATED:20260224T162924Z
LAST-MODIFIED:20260224T162924Z
UID:152134-1774027800-1774031400@events.bridgeport.edu
SUMMARY:Pie The E-board Member - Black Student Alliance
DESCRIPTION:
URL:https://events.bridgeport.edu/event/pie-the-e-board-member-black-student-alliance/
LOCATION:MDH HUB A Campus: Main Campus\, 374 Linden Avenue\, Bridgeport\, CT\, 06604\, United States
CATEGORIES:Social,Student Organizations
END:VEVENT
BEGIN:VEVENT
DTSTART;TZID=America/New_York:20260319T173000
DTEND;TZID=America/New_York:20260319T190000
DTSTAMP:20260421T013608
CREATED:20260217T164158Z
LAST-MODIFIED:20260302T185956Z
UID:146480-1773941400-1773946800@events.bridgeport.edu
SUMMARY:Queens of the Strip: Women's History Night - Alpha Kappa Alpha Sorority\, Inc.
DESCRIPTION:
URL:https://events.bridgeport.edu/event/viva-las-vegas-a-d9-vegas-showcase/
LOCATION:John J Cox Student Center – Great Room\, 244 University Avenue\, Bridgeport\, CT\, 06604\, United States
CATEGORIES:Social,Student Organizations
END:VEVENT
END:VCALENDAR