

BEGIN:VCALENDAR
VERSION:2.0
PRODID:-//Campus Events - ECPv6.15.20//NONSGML v1.0//EN
CALSCALE:GREGORIAN
METHOD:PUBLISH
X-WR-CALNAME:Campus Events
X-ORIGINAL-URL:https://events.bridgeport.edu
X-WR-CALDESC:Events for Campus Events
REFRESH-INTERVAL;VALUE=DURATION:PT1H
X-Robots-Tag:noindex
X-PUBLISHED-TTL:PT1H
BEGIN:VTIMEZONE
TZID:America/New_York
BEGIN:DAYLIGHT
TZOFFSETFROM:-0500
TZOFFSETTO:-0400
TZNAME:EDT
DTSTART:20250309T070000
END:DAYLIGHT
BEGIN:STANDARD
TZOFFSETFROM:-0400
TZOFFSETTO:-0500
TZNAME:EST
DTSTART:20251102T060000
END:STANDARD
BEGIN:DAYLIGHT
TZOFFSETFROM:-0500
TZOFFSETTO:-0400
TZNAME:EDT
DTSTART:20260308T070000
END:DAYLIGHT
BEGIN:STANDARD
TZOFFSETFROM:-0400
TZOFFSETTO:-0500
TZNAME:EST
DTSTART:20261101T060000
END:STANDARD
BEGIN:DAYLIGHT
TZOFFSETFROM:-0500
TZOFFSETTO:-0400
TZNAME:EDT
DTSTART:20270314T070000
END:DAYLIGHT
BEGIN:STANDARD
TZOFFSETFROM:-0400
TZOFFSETTO:-0500
TZNAME:EST
DTSTART:20271107T060000
END:STANDARD
END:VTIMEZONE
BEGIN:VEVENT
DTSTART;TZID=America/New_York:20260408T181300
DTEND;TZID=America/New_York:20260408T201300
DTSTAMP:20260420T235658
CREATED:20260407T205916Z
LAST-MODIFIED:20260407T205916Z
UID:153381-1775671980-1775679180@events.bridgeport.edu
SUMMARY:Policy and Popcorn - Delta Sigma Theta Sorority\, Inc.
DESCRIPTION:
URL:https://events.bridgeport.edu/event/policy-and-popcorn-delta-sigma-theta-sorority-inc/
LOCATION:CARH 153 Campus: Main Campus\, 303 University Avenue\, Bridgeport\, CT\, 06604\, United States
CATEGORIES:Social,Student Organizations
END:VEVENT
BEGIN:VEVENT
DTSTART;TZID=America/New_York:20260408T180000
DTEND;TZID=America/New_York:20260408T190000
DTSTAMP:20260420T235658
CREATED:20260217T164246Z
LAST-MODIFIED:20260222T054803Z
UID:146526-1775671200-1775674800@events.bridgeport.edu
SUMMARY:UB Gospel Choir Rehearsal
DESCRIPTION:
URL:https://events.bridgeport.edu/event/ub-gospel-choir-rehearsal-8/
LOCATION:JCSC 101-107
CATEGORIES:Student Organizations
END:VEVENT
BEGIN:VEVENT
DTSTART;TZID=America/New_York:20260408T180000
DTEND;TZID=America/New_York:20260408T190000
DTSTAMP:20260420T235658
CREATED:20260217T164246Z
LAST-MODIFIED:20260222T054803Z
UID:146527-1775671200-1775674800@events.bridgeport.edu
SUMMARY:SPB- Meeting
DESCRIPTION:
URL:https://events.bridgeport.edu/event/spb-meeting-4/
LOCATION:WAHL 158
CATEGORIES:Student Organizations
END:VEVENT
BEGIN:VEVENT
DTSTART;TZID=America/New_York:20260408T123000
DTEND;TZID=America/New_York:20260408T133000
DTSTAMP:20260420T235658
CREATED:20260217T164246Z
LAST-MODIFIED:20260222T054803Z
UID:146525-1775651400-1775655000@events.bridgeport.edu
SUMMARY:House of Representative Meeting - Student Government Association
DESCRIPTION:
URL:https://events.bridgeport.edu/event/house-of-representative-meeting-student-government-association-4/
LOCATION:CARH 253
CATEGORIES:Student Organizations
END:VEVENT
BEGIN:VEVENT
DTSTART;TZID=America/New_York:20260408T122000
DTEND;TZID=America/New_York:20260408T140000
DTSTAMP:20260420T235658
CREATED:20260217T164234Z
LAST-MODIFIED:20260326T232739Z
UID:146510-1775650800-1775656800@events.bridgeport.edu
SUMMARY:From Streets to Screens: Skate Trivia - UB Skate Club
DESCRIPTION:
URL:https://events.bridgeport.edu/event/from-streets-to-screens-skate-trivia-ub-skate-club/
LOCATION:CARH 152
CATEGORIES:Student Organizations
END:VEVENT
BEGIN:VEVENT
DTSTART;TZID=America/New_York:20260407T180000
DTEND;TZID=America/New_York:20260407T200000
DTSTAMP:20260420T235658
CREATED:20260326T232900Z
LAST-MODIFIED:20260326T232902Z
UID:153089-1775584800-1775592000@events.bridgeport.edu
SUMMARY:Study with Beta Iota-Alpha Kappa Alpha Sorority\, Inc.
DESCRIPTION:
URL:https://events.bridgeport.edu/event/study-with-beta-iota-alpha-kappa-alpha-sorority-inc/
LOCATION:WAHL – Discovery Pavilion\, 126 Park Avenue\, Bridgeport\, CT\, 06604\, United States
CATEGORIES:Student Organizations
END:VEVENT
BEGIN:VEVENT
DTSTART;TZID=America/New_York:20260407T170000
DTEND;TZID=America/New_York:20260407T173000
DTSTAMP:20260420T235658
CREATED:20260217T164246Z
LAST-MODIFIED:20260222T054752Z
UID:146523-1775581200-1775583000@events.bridgeport.edu
SUMMARY:General Meetings - The Medical Laboratory Science Club
DESCRIPTION:
URL:https://events.bridgeport.edu/event/general-meetings-the-medical-laboratory-science-club-2/
LOCATION:ONLN Online
CATEGORIES:Student Organizations
END:VEVENT
BEGIN:VEVENT
DTSTART;TZID=America/New_York:20260407T130000
DTEND;TZID=America/New_York:20260407T180000
DTSTAMP:20260420T235658
CREATED:20260217T164246Z
LAST-MODIFIED:20260222T054752Z
UID:146524-1775566800-1775584800@events.bridgeport.edu
SUMMARY:American Red Cross Blood Drive - UB National Student Nurse's Association
DESCRIPTION:
URL:https://events.bridgeport.edu/event/american-red-cross-blood-drive-ub-national-student-nurses-association/
LOCATION:WAHL HC – South
CATEGORIES:Student Organizations
END:VEVENT
BEGIN:VEVENT
DTSTART;TZID=America/New_York:20260407T120000
DTEND;TZID=America/New_York:20260407T140000
DTSTAMP:20260420T235658
CREATED:20260217T164246Z
LAST-MODIFIED:20260222T054752Z
UID:146521-1775563200-1775570400@events.bridgeport.edu
SUMMARY:Purple Knight's Birthday Party - Student Government Association
DESCRIPTION:
URL:https://events.bridgeport.edu/event/purple-knights-birthday-party-student-government-association/
LOCATION:WAHL HC Main Area
CATEGORIES:Student Organizations
END:VEVENT
BEGIN:VEVENT
DTSTART;TZID=America/New_York:20260406T163000
DTEND;TZID=America/New_York:20260406T180000
DTSTAMP:20260420T235658
CREATED:20260217T164246Z
LAST-MODIFIED:20260222T054752Z
UID:146519-1775493000-1775498400@events.bridgeport.edu
SUMMARY:Psychology Club General Meeting
DESCRIPTION:
URL:https://events.bridgeport.edu/event/psychology-club-general-meeting-6/
LOCATION:CARH 152
CATEGORIES:Student Organizations
END:VEVENT
BEGIN:VEVENT
DTSTART;TZID=America/New_York:20260406T120000
DTEND;TZID=America/New_York:20260406T140000
DTSTAMP:20260420T235658
CREATED:20260316T204135Z
LAST-MODIFIED:20260316T204138Z
UID:152731-1775476800-1775484000@events.bridgeport.edu
SUMMARY:April Tabling - Student Programming Board
DESCRIPTION:
URL:https://events.bridgeport.edu/event/april-tabling-student-programming-board/
LOCATION:MDH HUB A Campus: Main Campus\, 374 Linden Avenue\, Bridgeport\, CT\, 06604\, United States
CATEGORIES:Social,Student Organizations
END:VEVENT
BEGIN:VEVENT
DTSTART;TZID=America/New_York:20260405T143000
DTEND;TZID=America/New_York:20260405T193000
DTSTAMP:20260420T235658
CREATED:20260217T164246Z
LAST-MODIFIED:20260222T054752Z
UID:146518-1775399400-1775417400@events.bridgeport.edu
SUMMARY:International Campus Church - Bridges Friends of Internationals
DESCRIPTION:
URL:https://events.bridgeport.edu/event/international-campus-church-bridges-friends-of-internationals-10/
LOCATION:JCSC 100
CATEGORIES:Student Organizations
END:VEVENT
BEGIN:VEVENT
DTSTART;TZID=America/New_York:20260403T193000
DTEND;TZID=America/New_York:20260403T223000
DTSTAMP:20260420T235658
CREATED:20260217T164246Z
LAST-MODIFIED:20260222T054752Z
UID:146517-1775244600-1775255400@events.bridgeport.edu
SUMMARY:F.L.O.H Practice
DESCRIPTION:
URL:https://events.bridgeport.edu/event/f-l-o-h-practice-18/
LOCATION:JCSC 003
CATEGORIES:Student Organizations
END:VEVENT
BEGIN:VEVENT
DTSTART;TZID=America/New_York:20260402T193000
DTEND;TZID=America/New_York:20260402T213000
DTSTAMP:20260420T235658
CREATED:20260217T164234Z
LAST-MODIFIED:20260222T054752Z
UID:146514-1775158200-1775165400@events.bridgeport.edu
SUMMARY:F.L.O.H Practice
DESCRIPTION:
URL:https://events.bridgeport.edu/event/f-l-o-h-practice-17/
LOCATION:JCSC 003
CATEGORIES:Student Organizations
END:VEVENT
BEGIN:VEVENT
DTSTART;TZID=America/New_York:20260402T170000
DTEND;TZID=America/New_York:20260402T210000
DTSTAMP:20260420T235658
CREATED:20260217T164234Z
LAST-MODIFIED:20260222T054752Z
UID:146516-1775149200-1775163600@events.bridgeport.edu
SUMMARY:Study Session - The Medical Laboratory Science Club
DESCRIPTION:
URL:https://events.bridgeport.edu/event/study-session-the-medical-laboratory-science-club/
LOCATION:DANA 129
CATEGORIES:Student Organizations
END:VEVENT
BEGIN:VEVENT
DTSTART;TZID=America/New_York:20260401T193000
DTEND;TZID=America/New_York:20260401T213000
DTSTAMP:20260420T235658
CREATED:20260217T164234Z
LAST-MODIFIED:20260222T054752Z
UID:146513-1775071800-1775079000@events.bridgeport.edu
SUMMARY:F.L.O.H Practice
DESCRIPTION:
URL:https://events.bridgeport.edu/event/f-l-o-h-practice-16/
LOCATION:JCSC 003
CATEGORIES:Student Organizations
END:VEVENT
BEGIN:VEVENT
DTSTART;TZID=America/New_York:20260401T190000
DTEND;TZID=America/New_York:20260401T203000
DTSTAMP:20260420T235658
CREATED:20260217T164234Z
LAST-MODIFIED:20260222T054752Z
UID:146512-1775070000-1775075400@events.bridgeport.edu
SUMMARY:Aphrodisiac - hosted by F.L.O.H\, SPB & BSA
DESCRIPTION:
URL:https://events.bridgeport.edu/event/aphrodisiac-hosted-by-f-l-o-h-spb-bsa/
LOCATION:JCSC 100
CATEGORIES:Student Organizations
END:VEVENT
BEGIN:VEVENT
DTSTART;TZID=America/New_York:20260401T183000
DTEND;TZID=America/New_York:20260401T210000
DTSTAMP:20260420T235658
CREATED:20260318T175912Z
LAST-MODIFIED:20260318T175920Z
UID:152816-1775068200-1775077200@events.bridgeport.edu
SUMMARY:Dinner and Bible Discussion-Bridges Friends of Internationals
DESCRIPTION:
URL:https://events.bridgeport.edu/event/dinner-and-bible-discussion-bridges-friends-of-internationals/
LOCATION:BARN – Game Room
CATEGORIES:Social,Student Organizations
END:VEVENT
BEGIN:VEVENT
DTSTART;TZID=America/New_York:20260401T180000
DTEND;TZID=America/New_York:20260401T190000
DTSTAMP:20260420T235658
CREATED:20260217T164234Z
LAST-MODIFIED:20260222T054740Z
UID:146511-1775066400-1775070000@events.bridgeport.edu
SUMMARY:UB Gospel Choir Rehearsal
DESCRIPTION:
URL:https://events.bridgeport.edu/event/ub-gospel-choir-rehearsal-7/
LOCATION:JCSC 101-107
CATEGORIES:Student Organizations
END:VEVENT
BEGIN:VEVENT
DTSTART;TZID=America/New_York:20260331T193000
DTEND;TZID=America/New_York:20260331T213000
DTSTAMP:20260420T235658
CREATED:20260217T164234Z
LAST-MODIFIED:20260222T054740Z
UID:146509-1774985400-1774992600@events.bridgeport.edu
SUMMARY:F.L.O.H Practice
DESCRIPTION:
URL:https://events.bridgeport.edu/event/f-l-o-h-practice-15/
LOCATION:JCSC 003
CATEGORIES:Student Organizations
END:VEVENT
BEGIN:VEVENT
DTSTART;TZID=America/New_York:20260331T120000
DTEND;TZID=America/New_York:20260331T140000
DTSTAMP:20260420T235658
CREATED:20260316T135743Z
LAST-MODIFIED:20260316T135743Z
UID:152716-1774958400-1774965600@events.bridgeport.edu
SUMMARY:Treat Yourself - SGA Tabling
DESCRIPTION:
URL:https://events.bridgeport.edu/event/treat-yourself-sga-tabling/
LOCATION:WAHL – Library Lobby 1st Floor\, 126 Park Avenue\, Bridgeport\, CT\, 06604\, United States
CATEGORIES:Social,Student Organizations
END:VEVENT
BEGIN:VEVENT
DTSTART;TZID=America/New_York:20260330T193000
DTEND;TZID=America/New_York:20260330T213000
DTSTAMP:20260420T235658
CREATED:20260217T164234Z
LAST-MODIFIED:20260222T054740Z
UID:146508-1774899000-1774906200@events.bridgeport.edu
SUMMARY:F.L.O.H Practice
DESCRIPTION:
URL:https://events.bridgeport.edu/event/f-l-o-h-practice-14/
LOCATION:JCSC 003
CATEGORIES:Student Organizations
END:VEVENT
BEGIN:VEVENT
DTSTART;TZID=America/New_York:20260330T163000
DTEND;TZID=America/New_York:20260330T180000
DTSTAMP:20260420T235658
CREATED:20260217T164233Z
LAST-MODIFIED:20260222T054740Z
UID:146507-1774888200-1774893600@events.bridgeport.edu
SUMMARY:Psychology Club General Meeting
DESCRIPTION:
URL:https://events.bridgeport.edu/event/psychology-club-general-meeting-5/
LOCATION:CARH 152
CATEGORIES:Student Organizations
END:VEVENT
BEGIN:VEVENT
DTSTART;TZID=America/New_York:20260329T143000
DTEND;TZID=America/New_York:20260329T193000
DTSTAMP:20260420T235658
CREATED:20260217T164222Z
LAST-MODIFIED:20260222T054740Z
UID:146505-1774794600-1774812600@events.bridgeport.edu
SUMMARY:International Campus Church - Bridges Friends of Internationals
DESCRIPTION:
URL:https://events.bridgeport.edu/event/international-campus-church-bridges-friends-of-internationals-9/
LOCATION:JCSC 100
CATEGORIES:Student Organizations
END:VEVENT
BEGIN:VEVENT
DTSTART;TZID=America/New_York:20260329T080000
DTEND;TZID=America/New_York:20260329T220000
DTSTAMP:20260420T235658
CREATED:20260217T164233Z
LAST-MODIFIED:20260222T054740Z
UID:146506-1774771200-1774821600@events.bridgeport.edu
SUMMARY:Build the Future: IEEE Innovation Hackathon
DESCRIPTION:
URL:https://events.bridgeport.edu/event/build-the-future-ieee-innovation-hackathon-2/
LOCATION:JCSC KNIGHT S1 – Social Room
CATEGORIES:Student Organizations
END:VEVENT
BEGIN:VEVENT
DTSTART;TZID=America/New_York:20260328T080000
DTEND;TZID=America/New_York:20260328T220000
DTSTAMP:20260420T235658
CREATED:20260217T164222Z
LAST-MODIFIED:20260222T054740Z
UID:146504-1774684800-1774735200@events.bridgeport.edu
SUMMARY:Build the Future: IEEE Innovation Hackathon
DESCRIPTION:
URL:https://events.bridgeport.edu/event/build-the-future-ieee-innovation-hackathon/
LOCATION:JCSC KNIGHT S1 – Social Room
CATEGORIES:Student Organizations
END:VEVENT
BEGIN:VEVENT
DTSTART;TZID=America/New_York:20260327T190000
DTEND;TZID=America/New_York:20260327T223000
DTSTAMP:20260420T235658
CREATED:20260217T164222Z
LAST-MODIFIED:20260312T200741Z
UID:146503-1774638000-1774650600@events.bridgeport.edu
SUMMARY:Black Is Beauty - Black Student Alliance
DESCRIPTION:
URL:https://events.bridgeport.edu/event/black-is-beauty-black-student-alliance/
LOCATION:JCSC KNIGHT S1 – Social Room
CATEGORIES:Social,Student Organizations
END:VEVENT
BEGIN:VEVENT
DTSTART;TZID=America/New_York:20260326T190000
DTEND;TZID=America/New_York:20260326T230000
DTSTAMP:20260420T235658
CREATED:20260217T164222Z
LAST-MODIFIED:20260222T054729Z
UID:146500-1774551600-1774566000@events.bridgeport.edu
SUMMARY:Black Is Beauty Practice - Black Student Alliance
DESCRIPTION:
URL:https://events.bridgeport.edu/event/black-is-beauty-practice-black-student-alliance-14/
LOCATION:JCSC KNIGHT S1 – Social Room
CATEGORIES:Student Organizations
END:VEVENT
BEGIN:VEVENT
DTSTART;TZID=America/New_York:20260326T180000
DTEND;TZID=America/New_York:20260326T220000
DTSTAMP:20260420T235658
CREATED:20260217T164222Z
LAST-MODIFIED:20260222T054740Z
UID:146502-1774548000-1774562400@events.bridgeport.edu
SUMMARY:SNA Bowling Night! - UB National Student Nurse's Association
DESCRIPTION:
URL:https://events.bridgeport.edu/event/sna-bowling-night-ub-national-student-nurses-association/
LOCATION:JCSC UBowl
CATEGORIES:Student Organizations
END:VEVENT
BEGIN:VEVENT
DTSTART;TZID=America/New_York:20260326T120000
DTEND;TZID=America/New_York:20260326T140000
DTSTAMP:20260420T235658
CREATED:20260204T024646Z
LAST-MODIFIED:20260309T194103Z
UID:144720-1774526400-1774533600@events.bridgeport.edu
SUMMARY:Cookies & Creativity: Decorate a Cookie!- Commuter Students at UB
DESCRIPTION:
URL:https://events.bridgeport.edu/event/commuter-valentines-treat-table-commuter-students-at-ub-2/
LOCATION:JCSC – 1st floor Lobby\, 244 University Avenue\, Bridgeport\, CT\, 06604\, United States
CATEGORIES:Social,Student Organizations
END:VEVENT
END:VCALENDAR