

BEGIN:VCALENDAR
VERSION:2.0
PRODID:-//Campus Events - ECPv6.15.20//NONSGML v1.0//EN
CALSCALE:GREGORIAN
METHOD:PUBLISH
X-WR-CALNAME:Campus Events
X-ORIGINAL-URL:https://events.bridgeport.edu
X-WR-CALDESC:Events for Campus Events
REFRESH-INTERVAL;VALUE=DURATION:PT1H
X-Robots-Tag:noindex
X-PUBLISHED-TTL:PT1H
BEGIN:VTIMEZONE
TZID:America/New_York
BEGIN:DAYLIGHT
TZOFFSETFROM:-0500
TZOFFSETTO:-0400
TZNAME:EDT
DTSTART:20250309T070000
END:DAYLIGHT
BEGIN:STANDARD
TZOFFSETFROM:-0400
TZOFFSETTO:-0500
TZNAME:EST
DTSTART:20251102T060000
END:STANDARD
BEGIN:DAYLIGHT
TZOFFSETFROM:-0500
TZOFFSETTO:-0400
TZNAME:EDT
DTSTART:20260308T070000
END:DAYLIGHT
BEGIN:STANDARD
TZOFFSETFROM:-0400
TZOFFSETTO:-0500
TZNAME:EST
DTSTART:20261101T060000
END:STANDARD
BEGIN:DAYLIGHT
TZOFFSETFROM:-0500
TZOFFSETTO:-0400
TZNAME:EDT
DTSTART:20270314T070000
END:DAYLIGHT
BEGIN:STANDARD
TZOFFSETFROM:-0400
TZOFFSETTO:-0500
TZNAME:EST
DTSTART:20271107T060000
END:STANDARD
END:VTIMEZONE
BEGIN:VEVENT
DTSTART;TZID=America/New_York:20260420T191300
DTEND;TZID=America/New_York:20260420T201300
DTSTAMP:20260420T222125
CREATED:20260403T154352Z
LAST-MODIFIED:20260410T201835Z
UID:153279-1776712380-1776715980@events.bridgeport.edu
SUMMARY:Crimson Conversations-Delta Sigma Theta Sorority\, Inc.
DESCRIPTION:
URL:https://events.bridgeport.edu/event/crimson-conversations-delta-sigma-theta-sorority-inc/
LOCATION:UNI Hall Residence Hall Campus: Main Campus
CATEGORIES:Social,Student Organizations
END:VEVENT
BEGIN:VEVENT
DTSTART;TZID=America/New_York:20260420T090000
DTEND;TZID=America/New_York:20260420T130000
DTSTAMP:20260420T222125
CREATED:20260407T210200Z
LAST-MODIFIED:20260407T210200Z
UID:153383-1776675600-1776690000@events.bridgeport.edu
SUMMARY:Coffee Refresher Bar for Finals Week - PA Student Government Association
DESCRIPTION:
URL:https://events.bridgeport.edu/event/coffee-refresher-bar-for-finals-week-pa-student-government-association/
LOCATION:DANA Conference Kitchen
CATEGORIES:Social,Student Organizations
END:VEVENT
BEGIN:VEVENT
DTSTART;TZID=America/New_York:20260419T143000
DTEND;TZID=America/New_York:20260419T193000
DTSTAMP:20260420T222125
CREATED:20260217T164257Z
LAST-MODIFIED:20260222T054803Z
UID:146536-1776609000-1776627000@events.bridgeport.edu
SUMMARY:International Campus Church - Bridges Friends of Internationals
DESCRIPTION:
URL:https://events.bridgeport.edu/event/international-campus-church-bridges-friends-of-internationals-12/
LOCATION:JCSC 100
CATEGORIES:Student Organizations
END:VEVENT
BEGIN:VEVENT
DTSTART;TZID=America/New_York:20260417T191300
DTEND;TZID=America/New_York:20260417T201300
DTSTAMP:20260420T222125
CREATED:20260331T183013Z
LAST-MODIFIED:20260331T183013Z
UID:153200-1776453180-1776456780@events.bridgeport.edu
SUMMARY:Study with DST - Delta Sigma Theta Sorority\, Inc.
DESCRIPTION:
URL:https://events.bridgeport.edu/event/study-with-dst-delta-sigma-theta-sorority-inc/
LOCATION:UNI Hall Residence Hall Campus: Main Campus
CATEGORIES:Social,Student Organizations
END:VEVENT
BEGIN:VEVENT
DTSTART;TZID=America/New_York:20260417T120000
DTEND;TZID=America/New_York:20260417T140000
DTSTAMP:20260420T222125
CREATED:20260316T135220Z
LAST-MODIFIED:20260316T135223Z
UID:152713-1776427200-1776434400@events.bridgeport.edu
SUMMARY:Bloom and Brush - SPB Tabling
DESCRIPTION:
URL:https://events.bridgeport.edu/event/bloom-and-brush-spb-tabling/
LOCATION:MDH HUB Campus: Main Campus\, 374 Linden Avenue\, Bridgeport\, CT\, 06604\, United States
CATEGORIES:Social,Student Organizations
END:VEVENT
BEGIN:VEVENT
DTSTART;TZID=America/New_York:20260416T180000
DTEND;TZID=America/New_York:20260416T190000
DTSTAMP:20260420T222125
CREATED:20260403T153955Z
LAST-MODIFIED:20260403T153955Z
UID:153276-1776362400-1776366000@events.bridgeport.edu
SUMMARY:SNA Bowling Night
DESCRIPTION:
URL:https://events.bridgeport.edu/event/sna-bowling-night/
LOCATION:JCSC UBowl Campus: Main Campus
CATEGORIES:Social,Student Organizations
END:VEVENT
BEGIN:VEVENT
DTSTART;TZID=America/New_York:20260416T110000
DTEND;TZID=America/New_York:20260416T130000
DTSTAMP:20260420T222125
CREATED:20260316T205937Z
LAST-MODIFIED:20260415T201949Z
UID:152733-1776337200-1776344400@events.bridgeport.edu
SUMMARY:Spring Cookie Decorating-Commuter Students at UB
DESCRIPTION:
URL:https://events.bridgeport.edu/event/spring-cookie-decorating-commuter-students-at-ub/
LOCATION:MDH HUB A Campus: Main Campus\, 374 Linden Avenue\, Bridgeport\, CT\, 06604\, United States
CATEGORIES:Social,Student Organizations
END:VEVENT
BEGIN:VEVENT
DTSTART;TZID=America/New_York:20260415T200000
DTEND;TZID=America/New_York:20260415T220000
DTSTAMP:20260420T222125
CREATED:20260316T194252Z
LAST-MODIFIED:20260409T171357Z
UID:152724-1776283200-1776290400@events.bridgeport.edu
SUMMARY:Not Quite Midnight Bites - SPB
DESCRIPTION:
URL:https://events.bridgeport.edu/event/not-quite-midnight-brunch-digital-yearbook-night-spb/
LOCATION:OUTDOOR Chaffee Circle Campus: Main Campus
CATEGORIES:Social,Student Organizations
END:VEVENT
BEGIN:VEVENT
DTSTART;TZID=America/New_York:20260415T183000
DTEND;TZID=America/New_York:20260415T210000
DTSTAMP:20260420T222125
CREATED:20260318T180038Z
LAST-MODIFIED:20260318T180041Z
UID:152820-1776277800-1776286800@events.bridgeport.edu
SUMMARY:Dinner and Bible Discussion-Bridges Friends of Internationals
DESCRIPTION:
URL:https://events.bridgeport.edu/event/dinner-and-bible-discussion-bridges-friends-of-internationals-3/
LOCATION:BARN – Game Room
CATEGORIES:Social,Student Organizations
END:VEVENT
BEGIN:VEVENT
DTSTART;TZID=America/New_York:20260415T183000
DTEND;TZID=America/New_York:20260415T200000
DTSTAMP:20260420T222125
CREATED:20260409T144540Z
LAST-MODIFIED:20260409T144540Z
UID:153430-1776277800-1776283200@events.bridgeport.edu
SUMMARY:UBSC 2026 Talent Show
DESCRIPTION:
URL:https://events.bridgeport.edu/event/ubsc-2026-talent-show/
LOCATION:CC 100 Campus: Main Campus\, 75 Linden Avenue\, Bridgeport\, CT\, 06604\, United States
CATEGORIES:Social,Student Organizations
END:VEVENT
BEGIN:VEVENT
DTSTART;TZID=America/New_York:20260415T180000
DTEND;TZID=America/New_York:20260415T190000
DTSTAMP:20260420T222125
CREATED:20260217T164257Z
LAST-MODIFIED:20260222T054803Z
UID:146535-1776276000-1776279600@events.bridgeport.edu
SUMMARY:UB Gospel Choir Rehearsal
DESCRIPTION:
URL:https://events.bridgeport.edu/event/ub-gospel-choir-rehearsal-9/
LOCATION:JCSC 101-107
CATEGORIES:Student Organizations
END:VEVENT
BEGIN:VEVENT
DTSTART;TZID=America/New_York:20260414T090000
DTEND;TZID=America/New_York:20260414T160000
DTSTAMP:20260420T222125
CREATED:20260403T155043Z
LAST-MODIFIED:20260403T155043Z
UID:153281-1776157200-1776182400@events.bridgeport.edu
SUMMARY:Trip to Baywater Properties and M&T Bank-UB Business Club
DESCRIPTION:
URL:https://events.bridgeport.edu/event/trip-to-baywater-properties-and-mt-bank-ub-business-club/
LOCATION:OUTDOOR OFF CAMPUS
CATEGORIES:Retreat,Student Organizations
END:VEVENT
BEGIN:VEVENT
DTSTART;TZID=America/New_York:20260413T163000
DTEND;TZID=America/New_York:20260413T180000
DTSTAMP:20260420T222125
CREATED:20260217T164257Z
LAST-MODIFIED:20260222T054803Z
UID:146534-1776097800-1776103200@events.bridgeport.edu
SUMMARY:Psychology Club General Meeting
DESCRIPTION:
URL:https://events.bridgeport.edu/event/psychology-club-general-meeting-7/
LOCATION:CARH 152
CATEGORIES:Student Organizations
END:VEVENT
BEGIN:VEVENT
DTSTART;TZID=America/New_York:20260412T170000
DTEND;TZID=America/New_York:20260412T180000
DTSTAMP:20260420T222125
CREATED:20260217T164257Z
LAST-MODIFIED:20260222T054803Z
UID:146531-1776013200-1776016800@events.bridgeport.edu
SUMMARY:Monthly Meeting  - Delta Sigma Theta Sorority\, Inc
DESCRIPTION:
URL:https://events.bridgeport.edu/event/monthly-meeting-delta-sigma-theta-sorority-inc-2/
LOCATION:CARH 152
CATEGORIES:Student Organizations
END:VEVENT
BEGIN:VEVENT
DTSTART;TZID=America/New_York:20260412T160000
DTEND;TZID=America/New_York:20260412T180000
DTSTAMP:20260420T222125
CREATED:20260217T164257Z
LAST-MODIFIED:20260222T054803Z
UID:146533-1776009600-1776016800@events.bridgeport.edu
SUMMARY:Chapter Meeting - Alpha Kappa Alpha Sorority\, Inc.
DESCRIPTION:
URL:https://events.bridgeport.edu/event/chapter-meeting-alpha-kappa-alpha-sorority-inc/
LOCATION:CARH 252
CATEGORIES:Student Organizations
END:VEVENT
BEGIN:VEVENT
DTSTART;TZID=America/New_York:20260412T143000
DTEND;TZID=America/New_York:20260412T193000
DTSTAMP:20260420T222125
CREATED:20260217T164257Z
LAST-MODIFIED:20260222T054803Z
UID:146530-1776004200-1776022200@events.bridgeport.edu
SUMMARY:International Campus Church - Bridges Friends of Internationals
DESCRIPTION:
URL:https://events.bridgeport.edu/event/international-campus-church-bridges-friends-of-internationals-11/
LOCATION:JCSC 100
CATEGORIES:Student Organizations
END:VEVENT
BEGIN:VEVENT
DTSTART;TZID=America/New_York:20260410T183000
DTEND;TZID=America/New_York:20260410T193000
DTSTAMP:20260420T222125
CREATED:20260316T202907Z
LAST-MODIFIED:20260318T205940Z
UID:152727-1775845800-1775849400@events.bridgeport.edu
SUMMARY:Family Feud - BSA
DESCRIPTION:
URL:https://events.bridgeport.edu/event/family-feud-bsa/
LOCATION:CARH 152 Campus: Main Campus\, 303 University Avenue\, Bridgeport\, CT\, United States
CATEGORIES:Social,Student Organizations
END:VEVENT
BEGIN:VEVENT
DTSTART;TZID=America/New_York:20260410T160000
DTEND;TZID=America/New_York:20260410T180000
DTSTAMP:20260420T222125
CREATED:20260217T164246Z
LAST-MODIFIED:20260222T054803Z
UID:146529-1775836800-1775844000@events.bridgeport.edu
SUMMARY:Skate and Shine - hosted by F.L.O.H and UB Skate
DESCRIPTION:
URL:https://events.bridgeport.edu/event/skate-and-shine-hosted-by-f-l-o-h-and-ub-skate/
LOCATION:WRC Wheeler Parking Lot
CATEGORIES:Student Organizations
END:VEVENT
BEGIN:VEVENT
DTSTART;TZID=America/New_York:20260408T193000
DTEND;TZID=America/New_York:20260408T213000
DTSTAMP:20260420T222125
CREATED:20260317T155326Z
LAST-MODIFIED:20260317T155330Z
UID:152762-1775676600-1775683800@events.bridgeport.edu
SUMMARY:Bites & Bingo - Student Programming Board
DESCRIPTION:
URL:https://events.bridgeport.edu/event/bites-bingo-student-programming-board/
LOCATION:JCSC-Great Room\, 244 University Avenue\, Bridgeport\, CT\, 06604\, United States
CATEGORIES:Social,Student Organizations
END:VEVENT
BEGIN:VEVENT
DTSTART;TZID=America/New_York:20260408T183000
DTEND;TZID=America/New_York:20260408T210000
DTSTAMP:20260420T222125
CREATED:20260318T175959Z
LAST-MODIFIED:20260318T180002Z
UID:152818-1775673000-1775682000@events.bridgeport.edu
SUMMARY:Dinner and Bible Discussion-Bridges Friends of Internationals
DESCRIPTION:
URL:https://events.bridgeport.edu/event/dinner-and-bible-discussion-bridges-friends-of-internationals-2/
LOCATION:BARN – Game Room
CATEGORIES:Social,Student Organizations
END:VEVENT
BEGIN:VEVENT
DTSTART;TZID=America/New_York:20260408T181300
DTEND;TZID=America/New_York:20260408T201300
DTSTAMP:20260420T222125
CREATED:20260407T205916Z
LAST-MODIFIED:20260407T205916Z
UID:153381-1775671980-1775679180@events.bridgeport.edu
SUMMARY:Policy and Popcorn - Delta Sigma Theta Sorority\, Inc.
DESCRIPTION:
URL:https://events.bridgeport.edu/event/policy-and-popcorn-delta-sigma-theta-sorority-inc/
LOCATION:CARH 153 Campus: Main Campus\, 303 University Avenue\, Bridgeport\, CT\, 06604\, United States
CATEGORIES:Social,Student Organizations
END:VEVENT
BEGIN:VEVENT
DTSTART;TZID=America/New_York:20260408T180000
DTEND;TZID=America/New_York:20260408T190000
DTSTAMP:20260420T222125
CREATED:20260217T164246Z
LAST-MODIFIED:20260222T054803Z
UID:146526-1775671200-1775674800@events.bridgeport.edu
SUMMARY:UB Gospel Choir Rehearsal
DESCRIPTION:
URL:https://events.bridgeport.edu/event/ub-gospel-choir-rehearsal-8/
LOCATION:JCSC 101-107
CATEGORIES:Student Organizations
END:VEVENT
BEGIN:VEVENT
DTSTART;TZID=America/New_York:20260408T180000
DTEND;TZID=America/New_York:20260408T190000
DTSTAMP:20260420T222125
CREATED:20260217T164246Z
LAST-MODIFIED:20260222T054803Z
UID:146527-1775671200-1775674800@events.bridgeport.edu
SUMMARY:SPB- Meeting
DESCRIPTION:
URL:https://events.bridgeport.edu/event/spb-meeting-4/
LOCATION:WAHL 158
CATEGORIES:Student Organizations
END:VEVENT
BEGIN:VEVENT
DTSTART;TZID=America/New_York:20260408T123000
DTEND;TZID=America/New_York:20260408T133000
DTSTAMP:20260420T222125
CREATED:20260217T164246Z
LAST-MODIFIED:20260222T054803Z
UID:146525-1775651400-1775655000@events.bridgeport.edu
SUMMARY:House of Representative Meeting - Student Government Association
DESCRIPTION:
URL:https://events.bridgeport.edu/event/house-of-representative-meeting-student-government-association-4/
LOCATION:CARH 253
CATEGORIES:Student Organizations
END:VEVENT
BEGIN:VEVENT
DTSTART;TZID=America/New_York:20260408T122000
DTEND;TZID=America/New_York:20260408T140000
DTSTAMP:20260420T222125
CREATED:20260217T164234Z
LAST-MODIFIED:20260326T232739Z
UID:146510-1775650800-1775656800@events.bridgeport.edu
SUMMARY:From Streets to Screens: Skate Trivia - UB Skate Club
DESCRIPTION:
URL:https://events.bridgeport.edu/event/from-streets-to-screens-skate-trivia-ub-skate-club/
LOCATION:CARH 152
CATEGORIES:Student Organizations
END:VEVENT
BEGIN:VEVENT
DTSTART;TZID=America/New_York:20260407T180000
DTEND;TZID=America/New_York:20260407T200000
DTSTAMP:20260420T222125
CREATED:20260326T232900Z
LAST-MODIFIED:20260326T232902Z
UID:153089-1775584800-1775592000@events.bridgeport.edu
SUMMARY:Study with Beta Iota-Alpha Kappa Alpha Sorority\, Inc.
DESCRIPTION:
URL:https://events.bridgeport.edu/event/study-with-beta-iota-alpha-kappa-alpha-sorority-inc/
LOCATION:WAHL – Discovery Pavilion\, 126 Park Avenue\, Bridgeport\, CT\, 06604\, United States
CATEGORIES:Student Organizations
END:VEVENT
BEGIN:VEVENT
DTSTART;TZID=America/New_York:20260407T170000
DTEND;TZID=America/New_York:20260407T173000
DTSTAMP:20260420T222125
CREATED:20260217T164246Z
LAST-MODIFIED:20260222T054752Z
UID:146523-1775581200-1775583000@events.bridgeport.edu
SUMMARY:General Meetings - The Medical Laboratory Science Club
DESCRIPTION:
URL:https://events.bridgeport.edu/event/general-meetings-the-medical-laboratory-science-club-2/
LOCATION:ONLN Online
CATEGORIES:Student Organizations
END:VEVENT
BEGIN:VEVENT
DTSTART;TZID=America/New_York:20260407T130000
DTEND;TZID=America/New_York:20260407T180000
DTSTAMP:20260420T222125
CREATED:20260217T164246Z
LAST-MODIFIED:20260222T054752Z
UID:146524-1775566800-1775584800@events.bridgeport.edu
SUMMARY:American Red Cross Blood Drive - UB National Student Nurse's Association
DESCRIPTION:
URL:https://events.bridgeport.edu/event/american-red-cross-blood-drive-ub-national-student-nurses-association/
LOCATION:WAHL HC – South
CATEGORIES:Student Organizations
END:VEVENT
BEGIN:VEVENT
DTSTART;TZID=America/New_York:20260407T120000
DTEND;TZID=America/New_York:20260407T140000
DTSTAMP:20260420T222125
CREATED:20260217T164246Z
LAST-MODIFIED:20260222T054752Z
UID:146521-1775563200-1775570400@events.bridgeport.edu
SUMMARY:Purple Knight's Birthday Party - Student Government Association
DESCRIPTION:
URL:https://events.bridgeport.edu/event/purple-knights-birthday-party-student-government-association/
LOCATION:WAHL HC Main Area
CATEGORIES:Student Organizations
END:VEVENT
BEGIN:VEVENT
DTSTART;TZID=America/New_York:20260406T163000
DTEND;TZID=America/New_York:20260406T180000
DTSTAMP:20260420T222125
CREATED:20260217T164246Z
LAST-MODIFIED:20260222T054752Z
UID:146519-1775493000-1775498400@events.bridgeport.edu
SUMMARY:Psychology Club General Meeting
DESCRIPTION:
URL:https://events.bridgeport.edu/event/psychology-club-general-meeting-6/
LOCATION:CARH 152
CATEGORIES:Student Organizations
END:VEVENT
END:VCALENDAR