

BEGIN:VCALENDAR
VERSION:2.0
PRODID:-//Campus Events - ECPv6.15.20//NONSGML v1.0//EN
CALSCALE:GREGORIAN
METHOD:PUBLISH
X-WR-CALNAME:Campus Events
X-ORIGINAL-URL:https://events.bridgeport.edu
X-WR-CALDESC:Events for Campus Events
REFRESH-INTERVAL;VALUE=DURATION:PT1H
X-Robots-Tag:noindex
X-PUBLISHED-TTL:PT1H
BEGIN:VTIMEZONE
TZID:America/New_York
BEGIN:DAYLIGHT
TZOFFSETFROM:-0500
TZOFFSETTO:-0400
TZNAME:EDT
DTSTART:20250309T070000
END:DAYLIGHT
BEGIN:STANDARD
TZOFFSETFROM:-0400
TZOFFSETTO:-0500
TZNAME:EST
DTSTART:20251102T060000
END:STANDARD
BEGIN:DAYLIGHT
TZOFFSETFROM:-0500
TZOFFSETTO:-0400
TZNAME:EDT
DTSTART:20260308T070000
END:DAYLIGHT
BEGIN:STANDARD
TZOFFSETFROM:-0400
TZOFFSETTO:-0500
TZNAME:EST
DTSTART:20261101T060000
END:STANDARD
BEGIN:DAYLIGHT
TZOFFSETFROM:-0500
TZOFFSETTO:-0400
TZNAME:EDT
DTSTART:20270314T070000
END:DAYLIGHT
BEGIN:STANDARD
TZOFFSETFROM:-0400
TZOFFSETTO:-0500
TZNAME:EST
DTSTART:20271107T060000
END:STANDARD
END:VTIMEZONE
BEGIN:VEVENT
DTSTART;TZID=America/New_York:20260402T170000
DTEND;TZID=America/New_York:20260402T210000
DTSTAMP:20260420T205112
CREATED:20260217T164234Z
LAST-MODIFIED:20260222T054752Z
UID:146516-1775149200-1775163600@events.bridgeport.edu
SUMMARY:Study Session - The Medical Laboratory Science Club
DESCRIPTION:
URL:https://events.bridgeport.edu/event/study-session-the-medical-laboratory-science-club/
LOCATION:DANA 129
CATEGORIES:Student Organizations
END:VEVENT
BEGIN:VEVENT
DTSTART;TZID=America/New_York:20260402T193000
DTEND;TZID=America/New_York:20260402T213000
DTSTAMP:20260420T205112
CREATED:20260217T164234Z
LAST-MODIFIED:20260222T054752Z
UID:146514-1775158200-1775165400@events.bridgeport.edu
SUMMARY:F.L.O.H Practice
DESCRIPTION:
URL:https://events.bridgeport.edu/event/f-l-o-h-practice-17/
LOCATION:JCSC 003
CATEGORIES:Student Organizations
END:VEVENT
END:VCALENDAR