

BEGIN:VCALENDAR
VERSION:2.0
PRODID:-//Campus Events - ECPv6.15.20//NONSGML v1.0//EN
CALSCALE:GREGORIAN
METHOD:PUBLISH
X-WR-CALNAME:Campus Events
X-ORIGINAL-URL:https://events.bridgeport.edu
X-WR-CALDESC:Events for Campus Events
REFRESH-INTERVAL;VALUE=DURATION:PT1H
X-Robots-Tag:noindex
X-PUBLISHED-TTL:PT1H
BEGIN:VTIMEZONE
TZID:America/New_York
BEGIN:DAYLIGHT
TZOFFSETFROM:-0500
TZOFFSETTO:-0400
TZNAME:EDT
DTSTART:20250309T070000
END:DAYLIGHT
BEGIN:STANDARD
TZOFFSETFROM:-0400
TZOFFSETTO:-0500
TZNAME:EST
DTSTART:20251102T060000
END:STANDARD
BEGIN:DAYLIGHT
TZOFFSETFROM:-0500
TZOFFSETTO:-0400
TZNAME:EDT
DTSTART:20260308T070000
END:DAYLIGHT
BEGIN:STANDARD
TZOFFSETFROM:-0400
TZOFFSETTO:-0500
TZNAME:EST
DTSTART:20261101T060000
END:STANDARD
BEGIN:DAYLIGHT
TZOFFSETFROM:-0500
TZOFFSETTO:-0400
TZNAME:EDT
DTSTART:20270314T070000
END:DAYLIGHT
BEGIN:STANDARD
TZOFFSETFROM:-0400
TZOFFSETTO:-0500
TZNAME:EST
DTSTART:20271107T060000
END:STANDARD
END:VTIMEZONE
BEGIN:VEVENT
DTSTART;TZID=America/New_York:20260317T120000
DTEND;TZID=America/New_York:20260317T153000
DTSTAMP:20260420T222333
CREATED:20260217T164146Z
LAST-MODIFIED:20260222T054655Z
UID:146463-1773748800-1773761400@events.bridgeport.edu
SUMMARY:St. Patricks' Day Bake Sale - UB National Student Nurse's Association
DESCRIPTION:
URL:https://events.bridgeport.edu/event/st-patricks-day-bake-sale-ub-national-student-nurses-association/
LOCATION:WAHL Library Lobby A
CATEGORIES:Student Organizations
END:VEVENT
BEGIN:VEVENT
DTSTART;TZID=America/New_York:20260317T123000
DTEND;TZID=America/New_York:20260317T133000
DTSTAMP:20260420T222333
CREATED:20260217T164146Z
LAST-MODIFIED:20260222T054655Z
UID:146462-1773750600-1773754200@events.bridgeport.edu
SUMMARY:Lucky Charm - hosted by SPB & CSI
DESCRIPTION:
URL:https://events.bridgeport.edu/event/lucky-charm-hosted-by-spb-csi/
LOCATION:MDH HUB A
CATEGORIES:Student Organizations
END:VEVENT
BEGIN:VEVENT
DTSTART;TZID=America/New_York:20260317T123000
DTEND;TZID=America/New_York:20260317T133000
DTSTAMP:20260420T222333
CREATED:20260217T164146Z
LAST-MODIFIED:20260222T054706Z
UID:146465-1773750600-1773754200@events.bridgeport.edu
SUMMARY:Two Question Tuesday/TQT - Student Government Association
DESCRIPTION:
URL:https://events.bridgeport.edu/event/two-question-tuesday-tqt-student-government-association/
LOCATION:MDH HUB-B
CATEGORIES:Student Organizations
END:VEVENT
BEGIN:VEVENT
DTSTART;TZID=America/New_York:20260317T180000
DTEND;TZID=America/New_York:20260317T193000
DTSTAMP:20260420T222333
CREATED:20260303T190105Z
LAST-MODIFIED:20260303T190108Z
UID:152355-1773770400-1773775800@events.bridgeport.edu
SUMMARY:Myth or Jackpot: Sexual Wellness Edition - AKA
DESCRIPTION:
URL:https://events.bridgeport.edu/event/myth-or-jackpot-sexual-wellness-edition-aka/
LOCATION:MDH HUB Campus: Main Campus\, 374 Linden Avenue\, Bridgeport\, CT\, 06604\, United States
CATEGORIES:Social,Student Organizations
END:VEVENT
BEGIN:VEVENT
DTSTART;TZID=America/New_York:20260317T193000
DTEND;TZID=America/New_York:20260317T213000
DTSTAMP:20260420T222333
CREATED:20260217T164146Z
LAST-MODIFIED:20260222T054706Z
UID:146466-1773775800-1773783000@events.bridgeport.edu
SUMMARY:F.L.O.H. Practice
DESCRIPTION:
URL:https://events.bridgeport.edu/event/f-l-o-h-practice-8/
LOCATION:JCSC KNIGHT S2 – Commuter Lounge
CATEGORIES:Student Organizations
END:VEVENT
END:VCALENDAR