

BEGIN:VCALENDAR
VERSION:2.0
PRODID:-//Campus Events - ECPv6.15.20//NONSGML v1.0//EN
CALSCALE:GREGORIAN
METHOD:PUBLISH
X-WR-CALNAME:Campus Events
X-ORIGINAL-URL:https://events.bridgeport.edu
X-WR-CALDESC:Events for Campus Events
REFRESH-INTERVAL;VALUE=DURATION:PT1H
X-Robots-Tag:noindex
X-PUBLISHED-TTL:PT1H
BEGIN:VTIMEZONE
TZID:America/New_York
BEGIN:DAYLIGHT
TZOFFSETFROM:-0500
TZOFFSETTO:-0400
TZNAME:EDT
DTSTART:20250309T070000
END:DAYLIGHT
BEGIN:STANDARD
TZOFFSETFROM:-0400
TZOFFSETTO:-0500
TZNAME:EST
DTSTART:20251102T060000
END:STANDARD
BEGIN:DAYLIGHT
TZOFFSETFROM:-0500
TZOFFSETTO:-0400
TZNAME:EDT
DTSTART:20260308T070000
END:DAYLIGHT
BEGIN:STANDARD
TZOFFSETFROM:-0400
TZOFFSETTO:-0500
TZNAME:EST
DTSTART:20261101T060000
END:STANDARD
BEGIN:DAYLIGHT
TZOFFSETFROM:-0500
TZOFFSETTO:-0400
TZNAME:EDT
DTSTART:20270314T070000
END:DAYLIGHT
BEGIN:STANDARD
TZOFFSETFROM:-0400
TZOFFSETTO:-0500
TZNAME:EST
DTSTART:20271107T060000
END:STANDARD
END:VTIMEZONE
BEGIN:VEVENT
DTSTART;TZID=America/New_York:20260316T163000
DTEND;TZID=America/New_York:20260316T180000
DTSTAMP:20260420T222402
CREATED:20260217T164146Z
LAST-MODIFIED:20260222T054655Z
UID:146459-1773678600-1773684000@events.bridgeport.edu
SUMMARY:Psychology Club General Meeting
DESCRIPTION:
URL:https://events.bridgeport.edu/event/psychology-club-general-meeting-3/
LOCATION:CARH 152
CATEGORIES:Student Organizations
END:VEVENT
BEGIN:VEVENT
DTSTART;TZID=America/New_York:20260316T163000
DTEND;TZID=America/New_York:20260316T183000
DTSTAMP:20260420T222402
CREATED:20260224T152638Z
LAST-MODIFIED:20260224T152638Z
UID:152126-1773678600-1773685800@events.bridgeport.edu
SUMMARY:Psychology Club St. Patrick's Day Bracelet Making - Psych Club
DESCRIPTION:
URL:https://events.bridgeport.edu/event/psychology-club-st-patricks-day-bracelet-making-psych-club/
LOCATION:MDH HUB A Campus: Main Campus\, 374 Linden Avenue\, Bridgeport\, CT\, 06604\, United States
CATEGORIES:Student Organizations
END:VEVENT
BEGIN:VEVENT
DTSTART;TZID=America/New_York:20260316T190000
DTEND;TZID=America/New_York:20260316T220000
DTSTAMP:20260420T222402
CREATED:20260217T164146Z
LAST-MODIFIED:20260222T054655Z
UID:146460-1773687600-1773698400@events.bridgeport.edu
SUMMARY:Black Is Beauty Practice - Black Student Alliance
DESCRIPTION:
URL:https://events.bridgeport.edu/event/black-is-beauty-practice-black-student-alliance-9/
LOCATION:JCSC KNIGHT S1 – Social Room
CATEGORIES:Student Organizations
END:VEVENT
BEGIN:VEVENT
DTSTART;TZID=America/New_York:20260316T193000
DTEND;TZID=America/New_York:20260316T213000
DTSTAMP:20260420T222402
CREATED:20260217T164146Z
LAST-MODIFIED:20260222T054655Z
UID:146461-1773689400-1773696600@events.bridgeport.edu
SUMMARY:F.L.O.H. Practice
DESCRIPTION:
URL:https://events.bridgeport.edu/event/f-l-o-h-practice-7/
LOCATION:JCSC KNIGHT S2 – Commuter Lounge
CATEGORIES:Student Organizations
END:VEVENT
END:VCALENDAR