

BEGIN:VCALENDAR
VERSION:2.0
PRODID:-//Campus Events - ECPv6.15.20//NONSGML v1.0//EN
CALSCALE:GREGORIAN
METHOD:PUBLISH
X-ORIGINAL-URL:https://events.bridgeport.edu
X-WR-CALDESC:Events for Campus Events
REFRESH-INTERVAL;VALUE=DURATION:PT1H
X-Robots-Tag:noindex
X-PUBLISHED-TTL:PT1H
BEGIN:VTIMEZONE
TZID:America/New_York
BEGIN:DAYLIGHT
TZOFFSETFROM:-0500
TZOFFSETTO:-0400
TZNAME:EDT
DTSTART:20250309T070000
END:DAYLIGHT
BEGIN:STANDARD
TZOFFSETFROM:-0400
TZOFFSETTO:-0500
TZNAME:EST
DTSTART:20251102T060000
END:STANDARD
BEGIN:DAYLIGHT
TZOFFSETFROM:-0500
TZOFFSETTO:-0400
TZNAME:EDT
DTSTART:20260308T070000
END:DAYLIGHT
BEGIN:STANDARD
TZOFFSETFROM:-0400
TZOFFSETTO:-0500
TZNAME:EST
DTSTART:20261101T060000
END:STANDARD
BEGIN:DAYLIGHT
TZOFFSETFROM:-0500
TZOFFSETTO:-0400
TZNAME:EDT
DTSTART:20270314T070000
END:DAYLIGHT
BEGIN:STANDARD
TZOFFSETFROM:-0400
TZOFFSETTO:-0500
TZNAME:EST
DTSTART:20271107T060000
END:STANDARD
END:VTIMEZONE
BEGIN:VEVENT
DTSTART;TZID=America/New_York:20260311T122000
DTEND;TZID=America/New_York:20260311T132000
DTSTAMP:20260421T000611
CREATED:20260225T211123Z
LAST-MODIFIED:20260225T211125Z
UID:152198-1773231600-1773235200@events.bridgeport.edu
SUMMARY:NSBE General Meeting - National Society of Black Engineers
DESCRIPTION:
URL:https://events.bridgeport.edu/event/nsbe-general-meeting-national-society-of-black-engineers/
LOCATION:CARH 152 Campus: Main Campus\, 303 University Avenue\, Bridgeport\, CT\, United States
CATEGORIES:Social,Student Organizations
END:VEVENT
BEGIN:VEVENT
DTSTART;TZID=America/New_York:20260311T170000
DTEND;TZID=America/New_York:20260311T190000
DTSTAMP:20260421T000611
CREATED:20260217T164059Z
LAST-MODIFIED:20260303T191938Z
UID:146412-1773248400-1773255600@events.bridgeport.edu
SUMMARY:Pie A Stepper - United We Step
DESCRIPTION:
URL:https://events.bridgeport.edu/event/pie-a-stepper-united-we-step/
LOCATION:MDH HUB Campus: Main Campus\, 374 Linden Avenue\, Bridgeport\, CT\, 06604\, United States
CATEGORIES:Social,Student Organizations
END:VEVENT
BEGIN:VEVENT
DTSTART;TZID=America/New_York:20260311T180000
DTEND;TZID=America/New_York:20260311T190000
DTSTAMP:20260421T000611
CREATED:20260217T164122Z
LAST-MODIFIED:20260222T054644Z
UID:146443-1773252000-1773255600@events.bridgeport.edu
SUMMARY:UB Gospel Choir Rehearsal
DESCRIPTION:
URL:https://events.bridgeport.edu/event/ub-gospel-choir-rehearsal-4/
LOCATION:JCSC 101-107
CATEGORIES:Student Organizations
END:VEVENT
BEGIN:VEVENT
DTSTART;TZID=America/New_York:20260311T183000
DTEND;TZID=America/New_York:20260311T210000
DTSTAMP:20260421T000611
CREATED:20260217T164134Z
LAST-MODIFIED:20260222T054644Z
UID:146446-1773253800-1773262800@events.bridgeport.edu
SUMMARY:March Madness : Battles Of The Dorms - hosted by SPB and RHA
DESCRIPTION:
URL:https://events.bridgeport.edu/event/march-madness-battles-of-the-dorms-hosted-by-spb-and-rha/
LOCATION:WRC Field House
CATEGORIES:Student Organizations
END:VEVENT
BEGIN:VEVENT
DTSTART;TZID=America/New_York:20260311T183000
DTEND;TZID=America/New_York:20260311T211500
DTSTAMP:20260421T000611
CREATED:20260217T164134Z
LAST-MODIFIED:20260222T054644Z
UID:146447-1773253800-1773263700@events.bridgeport.edu
SUMMARY:Dinner and Bible Discussion - Bridges Friends of International
DESCRIPTION:
URL:https://events.bridgeport.edu/event/dinner-and-bible-discussion-bridges-friends-of-international-5/
LOCATION:BARN Barnum
CATEGORIES:Student Organizations
END:VEVENT
BEGIN:VEVENT
DTSTART;TZID=America/New_York:20260311T190000
DTEND;TZID=America/New_York:20260311T220000
DTSTAMP:20260421T000611
CREATED:20260217T164122Z
LAST-MODIFIED:20260222T054644Z
UID:146444-1773255600-1773266400@events.bridgeport.edu
SUMMARY:Black Is Beauty Practice - Black Student Alliance
DESCRIPTION:
URL:https://events.bridgeport.edu/event/black-is-beauty-practice-black-student-alliance-7/
LOCATION:JCSC KNIGHT S1 – Social Room
CATEGORIES:Student Organizations
END:VEVENT
BEGIN:VEVENT
DTSTART;TZID=America/New_York:20260311T193000
DTEND;TZID=America/New_York:20260311T213000
DTSTAMP:20260421T000611
CREATED:20260217T164134Z
LAST-MODIFIED:20260222T054644Z
UID:146448-1773257400-1773264600@events.bridgeport.edu
SUMMARY:F.L.O.H. Practice
DESCRIPTION:
URL:https://events.bridgeport.edu/event/f-l-o-h-practice-5/
LOCATION:JCSC KNIGHT S2 – Commuter Lounge
CATEGORIES:Student Organizations
END:VEVENT
END:VCALENDAR