

BEGIN:VCALENDAR
VERSION:2.0
PRODID:-//Campus Events - ECPv6.15.20//NONSGML v1.0//EN
CALSCALE:GREGORIAN
METHOD:PUBLISH
X-ORIGINAL-URL:https://events.bridgeport.edu
X-WR-CALDESC:Events for Campus Events
REFRESH-INTERVAL;VALUE=DURATION:PT1H
X-Robots-Tag:noindex
X-PUBLISHED-TTL:PT1H
BEGIN:VTIMEZONE
TZID:America/New_York
BEGIN:DAYLIGHT
TZOFFSETFROM:-0500
TZOFFSETTO:-0400
TZNAME:EDT
DTSTART:20250309T070000
END:DAYLIGHT
BEGIN:STANDARD
TZOFFSETFROM:-0400
TZOFFSETTO:-0500
TZNAME:EST
DTSTART:20251102T060000
END:STANDARD
BEGIN:DAYLIGHT
TZOFFSETFROM:-0500
TZOFFSETTO:-0400
TZNAME:EDT
DTSTART:20260308T070000
END:DAYLIGHT
BEGIN:STANDARD
TZOFFSETFROM:-0400
TZOFFSETTO:-0500
TZNAME:EST
DTSTART:20261101T060000
END:STANDARD
BEGIN:DAYLIGHT
TZOFFSETFROM:-0500
TZOFFSETTO:-0400
TZNAME:EDT
DTSTART:20270314T070000
END:DAYLIGHT
BEGIN:STANDARD
TZOFFSETFROM:-0400
TZOFFSETTO:-0500
TZNAME:EST
DTSTART:20271107T060000
END:STANDARD
END:VTIMEZONE
BEGIN:VEVENT
DTSTART;TZID=America/New_York:20260309T090000
DTEND;TZID=America/New_York:20260309T160000
DTSTAMP:20260420T222643
CREATED:20260217T164122Z
LAST-MODIFIED:20260222T054633Z
UID:146435-1773046800-1773072000@events.bridgeport.edu
SUMMARY:Recycled Cell or Organ Model Competition - Biology Club
DESCRIPTION:
URL:https://events.bridgeport.edu/event/recycled-cell-or-organ-model-competition-biology-club/
LOCATION:DANA Lobby
CATEGORIES:Student Organizations
END:VEVENT
BEGIN:VEVENT
DTSTART;TZID=America/New_York:20260309T121500
DTEND;TZID=America/New_York:20260309T131500
DTSTAMP:20260420T222643
CREATED:20260225T210223Z
LAST-MODIFIED:20260225T210229Z
UID:152193-1773058500-1773062100@events.bridgeport.edu
SUMMARY:NSBE Week Tabling - National Society of Black Engineers
DESCRIPTION:
URL:https://events.bridgeport.edu/event/nsbe-week-tabling-national-society-of-black-engineers/
LOCATION:WAHL Library Lobby A Campus: Main Campus\, 126 Park Avenue\, Bridgeport\, CT\, 06604\, United States
CATEGORIES:Social,Student Organizations
END:VEVENT
BEGIN:VEVENT
DTSTART;TZID=America/New_York:20260309T163000
DTEND;TZID=America/New_York:20260309T180000
DTSTAMP:20260420T222643
CREATED:20260217T164122Z
LAST-MODIFIED:20260222T054633Z
UID:146436-1773073800-1773079200@events.bridgeport.edu
SUMMARY:Psychology Club General Meeting
DESCRIPTION:
URL:https://events.bridgeport.edu/event/psychology-club-general-meeting-2/
LOCATION:CARH 152
CATEGORIES:Student Organizations
END:VEVENT
BEGIN:VEVENT
DTSTART;TZID=America/New_York:20260309T180000
DTEND;TZID=America/New_York:20260309T210000
DTSTAMP:20260420T222643
CREATED:20260217T164122Z
LAST-MODIFIED:20260302T185219Z
UID:146437-1773079200-1773090000@events.bridgeport.edu
SUMMARY:MSA IFTAR NIGHT
DESCRIPTION:
URL:https://events.bridgeport.edu/event/msa-iftar-night/
LOCATION:John J Cox Student Center – Great Room\, 244 University Avenue\, Bridgeport\, CT\, 06604\, United States
CATEGORIES:Social,Student Organizations
END:VEVENT
BEGIN:VEVENT
DTSTART;TZID=America/New_York:20260309T190000
DTEND;TZID=America/New_York:20260309T220000
DTSTAMP:20260420T222643
CREATED:20260217T164122Z
LAST-MODIFIED:20260222T054633Z
UID:146438-1773082800-1773093600@events.bridgeport.edu
SUMMARY:Black Is Beauty Practice - Black Student Alliance
DESCRIPTION:
URL:https://events.bridgeport.edu/event/black-is-beauty-practice-black-student-alliance-6/
LOCATION:JCSC KNIGHT S1 – Social Room
CATEGORIES:Student Organizations
END:VEVENT
END:VCALENDAR