

BEGIN:VCALENDAR
VERSION:2.0
PRODID:-//Campus Events - ECPv6.15.20//NONSGML v1.0//EN
CALSCALE:GREGORIAN
METHOD:PUBLISH
X-WR-CALNAME:Campus Events
X-ORIGINAL-URL:https://events.bridgeport.edu
X-WR-CALDESC:Events for Campus Events
REFRESH-INTERVAL;VALUE=DURATION:PT1H
X-Robots-Tag:noindex
X-PUBLISHED-TTL:PT1H
BEGIN:VTIMEZONE
TZID:America/New_York
BEGIN:DAYLIGHT
TZOFFSETFROM:-0500
TZOFFSETTO:-0400
TZNAME:EDT
DTSTART:20250309T070000
END:DAYLIGHT
BEGIN:STANDARD
TZOFFSETFROM:-0400
TZOFFSETTO:-0500
TZNAME:EST
DTSTART:20251102T060000
END:STANDARD
BEGIN:DAYLIGHT
TZOFFSETFROM:-0500
TZOFFSETTO:-0400
TZNAME:EDT
DTSTART:20260308T070000
END:DAYLIGHT
BEGIN:STANDARD
TZOFFSETFROM:-0400
TZOFFSETTO:-0500
TZNAME:EST
DTSTART:20261101T060000
END:STANDARD
BEGIN:DAYLIGHT
TZOFFSETFROM:-0500
TZOFFSETTO:-0400
TZNAME:EDT
DTSTART:20270314T070000
END:DAYLIGHT
BEGIN:STANDARD
TZOFFSETFROM:-0400
TZOFFSETTO:-0500
TZNAME:EST
DTSTART:20271107T060000
END:STANDARD
END:VTIMEZONE
BEGIN:VEVENT
DTSTART;TZID=America/New_York:20260223T163000
DTEND;TZID=America/New_York:20260223T180000
DTSTAMP:20260420T222331
CREATED:20260217T164047Z
LAST-MODIFIED:20260222T054609Z
UID:146407-1771864200-1771869600@events.bridgeport.edu
SUMMARY:Psychology Club General Meeting
DESCRIPTION:
URL:https://events.bridgeport.edu/event/psychology-club-general-meeting/
LOCATION:CARH 152
CATEGORIES:Student Organizations
END:VEVENT
BEGIN:VEVENT
DTSTART;TZID=America/New_York:20260223T190000
DTEND;TZID=America/New_York:20260223T220000
DTSTAMP:20260420T222331
CREATED:20260217T164047Z
LAST-MODIFIED:20260222T054609Z
UID:146408-1771873200-1771884000@events.bridgeport.edu
SUMMARY:Black Is Beauty Practice - Black Student Alliance
DESCRIPTION:
URL:https://events.bridgeport.edu/event/black-is-beauty-practice-black-student-alliance-3/
LOCATION:JCSC KNIGHT S1 – Social Room
CATEGORIES:Student Organizations
END:VEVENT
BEGIN:VEVENT
DTSTART;TZID=America/New_York:20260223T193000
DTEND;TZID=America/New_York:20260223T213000
DTSTAMP:20260420T222331
CREATED:20260217T164047Z
LAST-MODIFIED:20260222T054609Z
UID:146409-1771875000-1771882200@events.bridgeport.edu
SUMMARY:United We Step Practice
DESCRIPTION:
URL:https://events.bridgeport.edu/event/united-we-step-practice/
LOCATION:JCSC 100
CATEGORIES:Student Organizations
END:VEVENT
END:VCALENDAR