

BEGIN:VCALENDAR
VERSION:2.0
PRODID:-//Campus Events - ECPv6.15.20//NONSGML v1.0//EN
CALSCALE:GREGORIAN
METHOD:PUBLISH
X-ORIGINAL-URL:https://events.bridgeport.edu
X-WR-CALDESC:Events for Campus Events
REFRESH-INTERVAL;VALUE=DURATION:PT1H
X-Robots-Tag:noindex
X-PUBLISHED-TTL:PT1H
BEGIN:VTIMEZONE
TZID:America/New_York
BEGIN:DAYLIGHT
TZOFFSETFROM:-0500
TZOFFSETTO:-0400
TZNAME:EDT
DTSTART:20250309T070000
END:DAYLIGHT
BEGIN:STANDARD
TZOFFSETFROM:-0400
TZOFFSETTO:-0500
TZNAME:EST
DTSTART:20251102T060000
END:STANDARD
BEGIN:DAYLIGHT
TZOFFSETFROM:-0500
TZOFFSETTO:-0400
TZNAME:EDT
DTSTART:20260308T070000
END:DAYLIGHT
BEGIN:STANDARD
TZOFFSETFROM:-0400
TZOFFSETTO:-0500
TZNAME:EST
DTSTART:20261101T060000
END:STANDARD
BEGIN:DAYLIGHT
TZOFFSETFROM:-0500
TZOFFSETTO:-0400
TZNAME:EDT
DTSTART:20270314T070000
END:DAYLIGHT
BEGIN:STANDARD
TZOFFSETFROM:-0400
TZOFFSETTO:-0500
TZNAME:EST
DTSTART:20271107T060000
END:STANDARD
END:VTIMEZONE
BEGIN:VEVENT
DTSTART;TZID=America/New_York:20260220T120000
DTEND;TZID=America/New_York:20260220T140000
DTSTAMP:20260421T000449
CREATED:20260217T163818Z
LAST-MODIFIED:20260220T061608Z
UID:146376-1771588800-1771596000@events.bridgeport.edu
SUMMARY:Hearts and Charms - Student Programming Board
DESCRIPTION:
URL:https://events.bridgeport.edu/event/hearts-and-charms-student-programming-board-2/
LOCATION:MDH HUB A
CATEGORIES:Student Organizations
END:VEVENT
BEGIN:VEVENT
DTSTART;TZID=America/New_York:20260220T133000
DTEND;TZID=America/New_York:20260220T143000
DTSTAMP:20260421T000449
CREATED:20260217T163818Z
LAST-MODIFIED:20260220T061608Z
UID:146374-1771594200-1771597800@events.bridgeport.edu
SUMMARY:Letters for Later - Commuter Students at UB
DESCRIPTION:
URL:https://events.bridgeport.edu/event/letters-for-later-commuter-students-at-ub-2/
LOCATION:JCSC KNIGHT S2 – Commuter Lounge
CATEGORIES:Student Organizations
END:VEVENT
BEGIN:VEVENT
DTSTART;TZID=America/New_York:20260220T180000
DTEND;TZID=America/New_York:20260220T200000
DTSTAMP:20260421T000449
CREATED:20260217T163818Z
LAST-MODIFIED:20260220T061608Z
UID:146377-1771610400-1771617600@events.bridgeport.edu
SUMMARY:Speak Easy - hosted by the Black Student Alliance and UB Gospel Choir
DESCRIPTION:
URL:https://events.bridgeport.edu/event/speak-easy-hosted-by-the-black-student-alliance-and-ub-gospel-choir-2/
LOCATION:JCSC KNIGHT S2 – Commuter Lounge
CATEGORIES:Student Organizations
END:VEVENT
END:VCALENDAR