

BEGIN:VCALENDAR
VERSION:2.0
PRODID:-//Campus Events - ECPv6.15.20//NONSGML v1.0//EN
CALSCALE:GREGORIAN
METHOD:PUBLISH
X-WR-CALNAME:Campus Events
X-ORIGINAL-URL:https://events.bridgeport.edu
X-WR-CALDESC:Events for Campus Events
REFRESH-INTERVAL;VALUE=DURATION:PT1H
X-Robots-Tag:noindex
X-PUBLISHED-TTL:PT1H
BEGIN:VTIMEZONE
TZID:America/New_York
BEGIN:DAYLIGHT
TZOFFSETFROM:-0500
TZOFFSETTO:-0400
TZNAME:EDT
DTSTART:20250309T070000
END:DAYLIGHT
BEGIN:STANDARD
TZOFFSETFROM:-0400
TZOFFSETTO:-0500
TZNAME:EST
DTSTART:20251102T060000
END:STANDARD
BEGIN:DAYLIGHT
TZOFFSETFROM:-0500
TZOFFSETTO:-0400
TZNAME:EDT
DTSTART:20260308T070000
END:DAYLIGHT
BEGIN:STANDARD
TZOFFSETFROM:-0400
TZOFFSETTO:-0500
TZNAME:EST
DTSTART:20261101T060000
END:STANDARD
BEGIN:DAYLIGHT
TZOFFSETFROM:-0500
TZOFFSETTO:-0400
TZNAME:EDT
DTSTART:20270314T070000
END:DAYLIGHT
BEGIN:STANDARD
TZOFFSETFROM:-0400
TZOFFSETTO:-0500
TZNAME:EST
DTSTART:20271107T060000
END:STANDARD
END:VTIMEZONE
BEGIN:VEVENT
DTSTART;TZID=America/New_York:20260217T110000
DTEND;TZID=America/New_York:20260217T130000
DTSTAMP:20260421T000300
CREATED:20260217T163806Z
LAST-MODIFIED:20260217T164035Z
UID:146350-1771326000-1771333200@events.bridgeport.edu
SUMMARY:DIY Fridge Magnet - Student Government Association
DESCRIPTION:
URL:https://events.bridgeport.edu/event/diy-fridge-magnet-student-government-association-2/
LOCATION:WAHL Library Lobby A
CATEGORIES:Student Organizations
END:VEVENT
BEGIN:VEVENT
DTSTART;TZID=America/New_York:20260217T120000
DTEND;TZID=America/New_York:20260217T130000
DTSTAMP:20260421T000300
CREATED:20260217T163806Z
LAST-MODIFIED:20260217T164035Z
UID:146348-1771329600-1771333200@events.bridgeport.edu
SUMMARY:BSA Week Tabling
DESCRIPTION:
URL:https://events.bridgeport.edu/event/bsa-week-tabling-2/
LOCATION:MDH HUB A
CATEGORIES:Student Organizations
END:VEVENT
BEGIN:VEVENT
DTSTART;TZID=America/New_York:20260217T140000
DTEND;TZID=America/New_York:20260217T160000
DTSTAMP:20260421T000300
CREATED:20260217T163806Z
LAST-MODIFIED:20260217T164035Z
UID:146352-1771336800-1771344000@events.bridgeport.edu
SUMMARY:SGA Two Question Tabling
DESCRIPTION:
URL:https://events.bridgeport.edu/event/sga-two-question-tabling-2/
LOCATION:WAHL Library Lobby A
CATEGORIES:Student Organizations
END:VEVENT
BEGIN:VEVENT
DTSTART;TZID=America/New_York:20260217T180000
DTEND;TZID=America/New_York:20260217T193000
DTSTAMP:20260421T000300
CREATED:20260217T163806Z
LAST-MODIFIED:20260218T001610Z
UID:146354-1771351200-1771356600@events.bridgeport.edu
SUMMARY:Skate Club: Interest Meeting - UB Skate Club
DESCRIPTION:
URL:https://events.bridgeport.edu/event/skate-club-interest-meeting-ub-skate-club-2/
LOCATION:JCSC JCSC
CATEGORIES:Student Organizations
END:VEVENT
END:VCALENDAR