

BEGIN:VCALENDAR
VERSION:2.0
PRODID:-//Campus Events - ECPv6.15.20//NONSGML v1.0//EN
CALSCALE:GREGORIAN
METHOD:PUBLISH
X-ORIGINAL-URL:https://events.bridgeport.edu
X-WR-CALDESC:Events for Campus Events
REFRESH-INTERVAL;VALUE=DURATION:PT1H
X-Robots-Tag:noindex
X-PUBLISHED-TTL:PT1H
BEGIN:VTIMEZONE
TZID:America/New_York
BEGIN:DAYLIGHT
TZOFFSETFROM:-0500
TZOFFSETTO:-0400
TZNAME:EDT
DTSTART:20250309T070000
END:DAYLIGHT
BEGIN:STANDARD
TZOFFSETFROM:-0400
TZOFFSETTO:-0500
TZNAME:EST
DTSTART:20251102T060000
END:STANDARD
BEGIN:DAYLIGHT
TZOFFSETFROM:-0500
TZOFFSETTO:-0400
TZNAME:EDT
DTSTART:20260308T070000
END:DAYLIGHT
BEGIN:STANDARD
TZOFFSETFROM:-0400
TZOFFSETTO:-0500
TZNAME:EST
DTSTART:20261101T060000
END:STANDARD
BEGIN:DAYLIGHT
TZOFFSETFROM:-0500
TZOFFSETTO:-0400
TZNAME:EDT
DTSTART:20270314T070000
END:DAYLIGHT
BEGIN:STANDARD
TZOFFSETFROM:-0400
TZOFFSETTO:-0500
TZNAME:EST
DTSTART:20271107T060000
END:STANDARD
END:VTIMEZONE
BEGIN:VEVENT
DTSTART;TZID=America/New_York:20260312T080000
DTEND;TZID=America/New_York:20260312T100000
DTSTAMP:20260420T141711
CREATED:20260217T171020Z
LAST-MODIFIED:20260223T054610Z
UID:146584-1773302400-1773309600@events.bridgeport.edu
SUMMARY:SET UP
DESCRIPTION:
URL:https://events.bridgeport.edu/event/set-up-4/
LOCATION:JCSC KNIGHT S1 – Social Room
CATEGORIES:Setup
END:VEVENT
BEGIN:VEVENT
DTSTART;TZID=America/New_York:20260313T090000
DTEND;TZID=America/New_York:20260313T120000
DTSTAMP:20260420T141711
CREATED:20260217T171020Z
LAST-MODIFIED:20260223T054610Z
UID:146585-1773392400-1773403200@events.bridgeport.edu
SUMMARY:SET UP
DESCRIPTION:
URL:https://events.bridgeport.edu/event/set-up-5/
LOCATION:JCSC 100
CATEGORIES:Setup
END:VEVENT
BEGIN:VEVENT
DTSTART;TZID=America/New_York:20260313T090000
DTEND;TZID=America/New_York:20260313T120000
DTSTAMP:20260420T141711
CREATED:20260217T171020Z
LAST-MODIFIED:20260223T054610Z
UID:146586-1773392400-1773403200@events.bridgeport.edu
SUMMARY:SET UP
DESCRIPTION:
URL:https://events.bridgeport.edu/event/set-up-6/
LOCATION:JCSC KNIGHT S1 – Social Room
CATEGORIES:Setup
END:VEVENT
BEGIN:VEVENT
DTSTART;TZID=America/New_York:20260313T130000
DTEND;TZID=America/New_York:20260313T140000
DTSTAMP:20260420T141711
CREATED:20260217T171020Z
LAST-MODIFIED:20260223T054610Z
UID:146588-1773406800-1773410400@events.bridgeport.edu
SUMMARY:SET UP/DROP OFF
DESCRIPTION:
URL:https://events.bridgeport.edu/event/set-up-drop-off/
LOCATION:WRC Field House
CATEGORIES:Setup
END:VEVENT
BEGIN:VEVENT
DTSTART;TZID=America/New_York:20260320T090000
DTEND;TZID=America/New_York:20260320T110000
DTSTAMP:20260420T141711
CREATED:20260217T171020Z
LAST-MODIFIED:20260223T054610Z
UID:146589-1773997200-1774004400@events.bridgeport.edu
SUMMARY:BREAK DOWN
DESCRIPTION:
URL:https://events.bridgeport.edu/event/break-down/
LOCATION:JCSC 003
CATEGORIES:Setup
END:VEVENT
BEGIN:VEVENT
DTSTART;TZID=America/New_York:20260321T140000
DTEND;TZID=America/New_York:20260321T180000
DTSTAMP:20260420T141711
CREATED:20260217T171020Z
LAST-MODIFIED:20260223T054610Z
UID:146590-1774101600-1774116000@events.bridgeport.edu
SUMMARY:SET UP
DESCRIPTION:
URL:https://events.bridgeport.edu/event/set-up-7/
LOCATION:WRC Field House
CATEGORIES:Setup
END:VEVENT
BEGIN:VEVENT
DTSTART;TZID=America/New_York:20260327T080000
DTEND;TZID=America/New_York:20260327T100000
DTSTAMP:20260420T141711
CREATED:20260217T171020Z
LAST-MODIFIED:20260223T054610Z
UID:146591-1774598400-1774605600@events.bridgeport.edu
SUMMARY:SET UP
DESCRIPTION:
URL:https://events.bridgeport.edu/event/set-up-8/
LOCATION:JCSC KNIGHT S1 – Social Room
CATEGORIES:Setup
END:VEVENT
END:VCALENDAR