

BEGIN:VCALENDAR
VERSION:2.0
PRODID:-//Campus Events - ECPv6.15.20//NONSGML v1.0//EN
CALSCALE:GREGORIAN
METHOD:PUBLISH
X-ORIGINAL-URL:https://events.bridgeport.edu
X-WR-CALDESC:Events for Campus Events
REFRESH-INTERVAL;VALUE=DURATION:PT1H
X-Robots-Tag:noindex
X-PUBLISHED-TTL:PT1H
BEGIN:VTIMEZONE
TZID:America/New_York
BEGIN:DAYLIGHT
TZOFFSETFROM:-0500
TZOFFSETTO:-0400
TZNAME:EDT
DTSTART:20250309T070000
END:DAYLIGHT
BEGIN:STANDARD
TZOFFSETFROM:-0400
TZOFFSETTO:-0500
TZNAME:EST
DTSTART:20251102T060000
END:STANDARD
BEGIN:DAYLIGHT
TZOFFSETFROM:-0500
TZOFFSETTO:-0400
TZNAME:EDT
DTSTART:20260308T070000
END:DAYLIGHT
BEGIN:STANDARD
TZOFFSETFROM:-0400
TZOFFSETTO:-0500
TZNAME:EST
DTSTART:20261101T060000
END:STANDARD
BEGIN:DAYLIGHT
TZOFFSETFROM:-0500
TZOFFSETTO:-0400
TZNAME:EDT
DTSTART:20270314T070000
END:DAYLIGHT
BEGIN:STANDARD
TZOFFSETFROM:-0400
TZOFFSETTO:-0500
TZNAME:EST
DTSTART:20271107T060000
END:STANDARD
END:VTIMEZONE
BEGIN:VEVENT
DTSTART;TZID=America/New_York:20260311T100000
DTEND;TZID=America/New_York:20260311T120000
DTSTAMP:20260421T015357
CREATED:20260217T170809Z
LAST-MODIFIED:20260223T054612Z
UID:146566-1773223200-1773230400@events.bridgeport.edu
SUMMARY:ResLife Staff Selection: Interviews
DESCRIPTION:
URL:https://events.bridgeport.edu/event/reslife-staff-selection-interviews-2/
LOCATION:JCSC 100
CATEGORIES:Recruitment
END:VEVENT
END:VCALENDAR