

BEGIN:VCALENDAR
VERSION:2.0
PRODID:-//Campus Events - ECPv6.15.20//NONSGML v1.0//EN
CALSCALE:GREGORIAN
METHOD:PUBLISH
X-WR-CALNAME:Campus Events
X-ORIGINAL-URL:https://events.bridgeport.edu
X-WR-CALDESC:Events for Campus Events
REFRESH-INTERVAL;VALUE=DURATION:PT1H
X-Robots-Tag:noindex
X-PUBLISHED-TTL:PT1H
BEGIN:VTIMEZONE
TZID:America/New_York
BEGIN:DAYLIGHT
TZOFFSETFROM:-0500
TZOFFSETTO:-0400
TZNAME:EDT
DTSTART:20250309T070000
END:DAYLIGHT
BEGIN:STANDARD
TZOFFSETFROM:-0400
TZOFFSETTO:-0500
TZNAME:EST
DTSTART:20251102T060000
END:STANDARD
BEGIN:DAYLIGHT
TZOFFSETFROM:-0500
TZOFFSETTO:-0400
TZNAME:EDT
DTSTART:20260308T070000
END:DAYLIGHT
BEGIN:STANDARD
TZOFFSETFROM:-0400
TZOFFSETTO:-0500
TZNAME:EST
DTSTART:20261101T060000
END:STANDARD
BEGIN:DAYLIGHT
TZOFFSETFROM:-0500
TZOFFSETTO:-0400
TZNAME:EDT
DTSTART:20270314T070000
END:DAYLIGHT
BEGIN:STANDARD
TZOFFSETFROM:-0400
TZOFFSETTO:-0500
TZNAME:EST
DTSTART:20271107T060000
END:STANDARD
END:VTIMEZONE
BEGIN:VEVENT
DTSTART;TZID=America/New_York:20260220T090000
DTEND;TZID=America/New_York:20260220T170000
DTSTAMP:20260421T031902
CREATED:20260217T170809Z
LAST-MODIFIED:20260220T061610Z
UID:146558-1771578000-1771606800@events.bridgeport.edu
SUMMARY:ResLife Staff Selection: Group Process
DESCRIPTION:
URL:https://events.bridgeport.edu/event/reslife-staff-selection-group-process/
LOCATION:MAN 219
CATEGORIES:Recruitment
END:VEVENT
BEGIN:VEVENT
DTSTART;TZID=America/New_York:20260220T090000
DTEND;TZID=America/New_York:20260220T170000
DTSTAMP:20260421T031902
CREATED:20260217T170809Z
LAST-MODIFIED:20260220T061610Z
UID:146560-1771578000-1771606800@events.bridgeport.edu
SUMMARY:ResLife Staff Selection: Group Process
DESCRIPTION:
URL:https://events.bridgeport.edu/event/reslife-staff-selection-group-process-2/
LOCATION:MAN 220
CATEGORIES:Recruitment
END:VEVENT
BEGIN:VEVENT
DTSTART;TZID=America/New_York:20260220T090000
DTEND;TZID=America/New_York:20260220T170000
DTSTAMP:20260421T031902
CREATED:20260217T170809Z
LAST-MODIFIED:20260220T061610Z
UID:146562-1771578000-1771606800@events.bridgeport.edu
SUMMARY:ResLife Staff Selection: Group Process
DESCRIPTION:
URL:https://events.bridgeport.edu/event/reslife-staff-selection-group-process-3/
LOCATION:MAN 221
CATEGORIES:Recruitment
END:VEVENT
BEGIN:VEVENT
DTSTART;TZID=America/New_York:20260220T090000
DTEND;TZID=America/New_York:20260220T170000
DTSTAMP:20260421T031902
CREATED:20260217T170809Z
LAST-MODIFIED:20260220T061610Z
UID:146564-1771578000-1771606800@events.bridgeport.edu
SUMMARY:ResLife Staff Selection: Group Process
DESCRIPTION:
URL:https://events.bridgeport.edu/event/reslife-staff-selection-group-process-4/
LOCATION:MAN 201
CATEGORIES:Recruitment
END:VEVENT
END:VCALENDAR