

BEGIN:VCALENDAR
VERSION:2.0
PRODID:-//Campus Events - ECPv6.15.20//NONSGML v1.0//EN
CALSCALE:GREGORIAN
METHOD:PUBLISH
X-WR-CALNAME:Campus Events
X-ORIGINAL-URL:https://events.bridgeport.edu
X-WR-CALDESC:Events for Campus Events
REFRESH-INTERVAL;VALUE=DURATION:PT1H
X-Robots-Tag:noindex
X-PUBLISHED-TTL:PT1H
BEGIN:VTIMEZONE
TZID:America/New_York
BEGIN:DAYLIGHT
TZOFFSETFROM:-0500
TZOFFSETTO:-0400
TZNAME:EDT
DTSTART:20250309T070000
END:DAYLIGHT
BEGIN:STANDARD
TZOFFSETFROM:-0400
TZOFFSETTO:-0500
TZNAME:EST
DTSTART:20251102T060000
END:STANDARD
BEGIN:DAYLIGHT
TZOFFSETFROM:-0500
TZOFFSETTO:-0400
TZNAME:EDT
DTSTART:20260308T070000
END:DAYLIGHT
BEGIN:STANDARD
TZOFFSETFROM:-0400
TZOFFSETTO:-0500
TZNAME:EST
DTSTART:20261101T060000
END:STANDARD
BEGIN:DAYLIGHT
TZOFFSETFROM:-0500
TZOFFSETTO:-0400
TZNAME:EDT
DTSTART:20270314T070000
END:DAYLIGHT
BEGIN:STANDARD
TZOFFSETFROM:-0400
TZOFFSETTO:-0500
TZNAME:EST
DTSTART:20271107T060000
END:STANDARD
END:VTIMEZONE
BEGIN:VEVENT
DTSTART;TZID=America/New_York:20260321T080000
DTEND;TZID=America/New_York:20260321T130000
DTSTAMP:20260420T222239
CREATED:20260217T171533Z
LAST-MODIFIED:20260222T054706Z
UID:146718-1774080000-1774098000@events.bridgeport.edu
SUMMARY:HOLD
DESCRIPTION:
URL:https://events.bridgeport.edu/event/hold-91/
LOCATION:MAN 318
CATEGORIES:Hold
END:VEVENT
BEGIN:VEVENT
DTSTART;TZID=America/New_York:20260321T080000
DTEND;TZID=America/New_York:20260321T130000
DTSTAMP:20260420T222239
CREATED:20260217T171533Z
LAST-MODIFIED:20260222T054706Z
UID:146713-1774080000-1774098000@events.bridgeport.edu
SUMMARY:HOLD
DESCRIPTION:
URL:https://events.bridgeport.edu/event/hold-86/
LOCATION:MAN 323
CATEGORIES:Hold
END:VEVENT
BEGIN:VEVENT
DTSTART;TZID=America/New_York:20260321T080000
DTEND;TZID=America/New_York:20260321T130000
DTSTAMP:20260420T222239
CREATED:20260217T171533Z
LAST-MODIFIED:20260222T054655Z
UID:146719-1774080000-1774098000@events.bridgeport.edu
SUMMARY:HOLD
DESCRIPTION:
URL:https://events.bridgeport.edu/event/hold-92/
LOCATION:MAN 322
CATEGORIES:Hold
END:VEVENT
BEGIN:VEVENT
DTSTART;TZID=America/New_York:20260321T080000
DTEND;TZID=America/New_York:20260321T130000
DTSTAMP:20260420T222239
CREATED:20260217T171533Z
LAST-MODIFIED:20260222T054706Z
UID:146714-1774080000-1774098000@events.bridgeport.edu
SUMMARY:HOLD
DESCRIPTION:
URL:https://events.bridgeport.edu/event/hold-87/
LOCATION:MAN 221
CATEGORIES:Hold
END:VEVENT
BEGIN:VEVENT
DTSTART;TZID=America/New_York:20260321T080000
DTEND;TZID=America/New_York:20260321T130000
DTSTAMP:20260420T222239
CREATED:20260217T171533Z
LAST-MODIFIED:20260222T054655Z
UID:146720-1774080000-1774098000@events.bridgeport.edu
SUMMARY:HOLD
DESCRIPTION:
URL:https://events.bridgeport.edu/event/hold-93/
LOCATION:MAN 220
CATEGORIES:Hold
END:VEVENT
BEGIN:VEVENT
DTSTART;TZID=America/New_York:20260321T080000
DTEND;TZID=America/New_York:20260321T130000
DTSTAMP:20260420T222239
CREATED:20260217T171533Z
LAST-MODIFIED:20260222T054655Z
UID:146715-1774080000-1774098000@events.bridgeport.edu
SUMMARY:HOLD
DESCRIPTION:
URL:https://events.bridgeport.edu/event/hold-88/
LOCATION:MAN 223
CATEGORIES:Hold
END:VEVENT
BEGIN:VEVENT
DTSTART;TZID=America/New_York:20260321T080000
DTEND;TZID=America/New_York:20260321T130000
DTSTAMP:20260420T222239
CREATED:20260217T171533Z
LAST-MODIFIED:20260222T054706Z
UID:146721-1774080000-1774098000@events.bridgeport.edu
SUMMARY:HOLD
DESCRIPTION:
URL:https://events.bridgeport.edu/event/hold-94/
LOCATION:MAN 320
CATEGORIES:Hold
END:VEVENT
BEGIN:VEVENT
DTSTART;TZID=America/New_York:20260321T080000
DTEND;TZID=America/New_York:20260321T130000
DTSTAMP:20260420T222239
CREATED:20260217T171533Z
LAST-MODIFIED:20260222T054706Z
UID:146716-1774080000-1774098000@events.bridgeport.edu
SUMMARY:HOLD
DESCRIPTION:
URL:https://events.bridgeport.edu/event/hold-89/
LOCATION:MAN 316
CATEGORIES:Hold
END:VEVENT
BEGIN:VEVENT
DTSTART;TZID=America/New_York:20260321T080000
DTEND;TZID=America/New_York:20260321T130000
DTSTAMP:20260420T222239
CREATED:20260217T171533Z
LAST-MODIFIED:20260222T054706Z
UID:146722-1774080000-1774098000@events.bridgeport.edu
SUMMARY:HOLD
DESCRIPTION:
URL:https://events.bridgeport.edu/event/hold-95/
LOCATION:MAN 222
CATEGORIES:Hold
END:VEVENT
BEGIN:VEVENT
DTSTART;TZID=America/New_York:20260321T080000
DTEND;TZID=America/New_York:20260321T130000
DTSTAMP:20260420T222239
CREATED:20260217T171533Z
LAST-MODIFIED:20260222T054706Z
UID:146717-1774080000-1774098000@events.bridgeport.edu
SUMMARY:HOLD
DESCRIPTION:
URL:https://events.bridgeport.edu/event/hold-90/
LOCATION:MAN 203
CATEGORIES:Hold
END:VEVENT
END:VCALENDAR