

BEGIN:VCALENDAR
VERSION:2.0
PRODID:-//Campus Events - ECPv6.15.20//NONSGML v1.0//EN
CALSCALE:GREGORIAN
METHOD:PUBLISH
X-WR-CALNAME:Campus Events
X-ORIGINAL-URL:https://events.bridgeport.edu
X-WR-CALDESC:Events for Campus Events
REFRESH-INTERVAL;VALUE=DURATION:PT1H
X-Robots-Tag:noindex
X-PUBLISHED-TTL:PT1H
BEGIN:VTIMEZONE
TZID:America/New_York
BEGIN:DAYLIGHT
TZOFFSETFROM:-0500
TZOFFSETTO:-0400
TZNAME:EDT
DTSTART:20250309T070000
END:DAYLIGHT
BEGIN:STANDARD
TZOFFSETFROM:-0400
TZOFFSETTO:-0500
TZNAME:EST
DTSTART:20251102T060000
END:STANDARD
BEGIN:DAYLIGHT
TZOFFSETFROM:-0500
TZOFFSETTO:-0400
TZNAME:EDT
DTSTART:20260308T070000
END:DAYLIGHT
BEGIN:STANDARD
TZOFFSETFROM:-0400
TZOFFSETTO:-0500
TZNAME:EST
DTSTART:20261101T060000
END:STANDARD
BEGIN:DAYLIGHT
TZOFFSETFROM:-0500
TZOFFSETTO:-0400
TZNAME:EDT
DTSTART:20270314T070000
END:DAYLIGHT
BEGIN:STANDARD
TZOFFSETFROM:-0400
TZOFFSETTO:-0500
TZNAME:EST
DTSTART:20271107T060000
END:STANDARD
END:VTIMEZONE
BEGIN:VEVENT
DTSTART;TZID=America/New_York:20260307T080000
DTEND;TZID=America/New_York:20260307T130000
DTSTAMP:20260420T222303
CREATED:20260217T171458Z
LAST-MODIFIED:20260222T054633Z
UID:146688-1772870400-1772888400@events.bridgeport.edu
SUMMARY:HOLD
DESCRIPTION:
URL:https://events.bridgeport.edu/event/hold-65/
LOCATION:MAN 203
CATEGORIES:Hold
END:VEVENT
BEGIN:VEVENT
DTSTART;TZID=America/New_York:20260307T080000
DTEND;TZID=America/New_York:20260307T130000
DTSTAMP:20260420T222303
CREATED:20260217T171458Z
LAST-MODIFIED:20260222T054633Z
UID:146683-1772870400-1772888400@events.bridgeport.edu
SUMMARY:HOLD
DESCRIPTION:
URL:https://events.bridgeport.edu/event/hold-60/
LOCATION:MAN 223
CATEGORIES:Hold
END:VEVENT
BEGIN:VEVENT
DTSTART;TZID=America/New_York:20260307T080000
DTEND;TZID=America/New_York:20260307T130000
DTSTAMP:20260420T222303
CREATED:20260217T171458Z
LAST-MODIFIED:20260222T054633Z
UID:146684-1772870400-1772888400@events.bridgeport.edu
SUMMARY:HOLD
DESCRIPTION:
URL:https://events.bridgeport.edu/event/hold-61/
LOCATION:MAN 322
CATEGORIES:Hold
END:VEVENT
BEGIN:VEVENT
DTSTART;TZID=America/New_York:20260307T080000
DTEND;TZID=America/New_York:20260307T130000
DTSTAMP:20260420T222303
CREATED:20260217T171458Z
LAST-MODIFIED:20260222T054633Z
UID:146679-1772870400-1772888400@events.bridgeport.edu
SUMMARY:HOLD
DESCRIPTION:
URL:https://events.bridgeport.edu/event/hold-56/
LOCATION:MAN 320
CATEGORIES:Hold
END:VEVENT
BEGIN:VEVENT
DTSTART;TZID=America/New_York:20260307T080000
DTEND;TZID=America/New_York:20260307T130000
DTSTAMP:20260420T222303
CREATED:20260217T171458Z
LAST-MODIFIED:20260222T054633Z
UID:146685-1772870400-1772888400@events.bridgeport.edu
SUMMARY:HOLD
DESCRIPTION:
URL:https://events.bridgeport.edu/event/hold-62/
LOCATION:MAN 323
CATEGORIES:Hold
END:VEVENT
BEGIN:VEVENT
DTSTART;TZID=America/New_York:20260307T080000
DTEND;TZID=America/New_York:20260307T130000
DTSTAMP:20260420T222303
CREATED:20260217T171458Z
LAST-MODIFIED:20260222T054622Z
UID:146680-1772870400-1772888400@events.bridgeport.edu
SUMMARY:HOLD
DESCRIPTION:
URL:https://events.bridgeport.edu/event/hold-57/
LOCATION:MAN 316
CATEGORIES:Hold
END:VEVENT
BEGIN:VEVENT
DTSTART;TZID=America/New_York:20260307T080000
DTEND;TZID=America/New_York:20260307T130000
DTSTAMP:20260420T222303
CREATED:20260217T171458Z
LAST-MODIFIED:20260222T054633Z
UID:146686-1772870400-1772888400@events.bridgeport.edu
SUMMARY:HOLD
DESCRIPTION:
URL:https://events.bridgeport.edu/event/hold-63/
LOCATION:MAN 220
CATEGORIES:Hold
END:VEVENT
BEGIN:VEVENT
DTSTART;TZID=America/New_York:20260307T080000
DTEND;TZID=America/New_York:20260307T130000
DTSTAMP:20260420T222303
CREATED:20260217T171458Z
LAST-MODIFIED:20260222T054622Z
UID:146681-1772870400-1772888400@events.bridgeport.edu
SUMMARY:HOLD
DESCRIPTION:
URL:https://events.bridgeport.edu/event/hold-58/
LOCATION:MAN 222
CATEGORIES:Hold
END:VEVENT
BEGIN:VEVENT
DTSTART;TZID=America/New_York:20260307T080000
DTEND;TZID=America/New_York:20260307T130000
DTSTAMP:20260420T222303
CREATED:20260217T171458Z
LAST-MODIFIED:20260222T054633Z
UID:146687-1772870400-1772888400@events.bridgeport.edu
SUMMARY:HOLD
DESCRIPTION:
URL:https://events.bridgeport.edu/event/hold-64/
LOCATION:MAN 1
CATEGORIES:Hold
END:VEVENT
BEGIN:VEVENT
DTSTART;TZID=America/New_York:20260307T080000
DTEND;TZID=America/New_York:20260307T130000
DTSTAMP:20260420T222303
CREATED:20260217T171458Z
LAST-MODIFIED:20260222T054633Z
UID:146682-1772870400-1772888400@events.bridgeport.edu
SUMMARY:HOLD
DESCRIPTION:
URL:https://events.bridgeport.edu/event/hold-59/
LOCATION:MAN 3
CATEGORIES:Hold
END:VEVENT
BEGIN:VEVENT
DTSTART;TZID=America/New_York:20260307T080000
DTEND;TZID=America/New_York:20260307T130000
DTSTAMP:20260420T222303
CREATED:20260217T171509Z
LAST-MODIFIED:20260222T054622Z
UID:146689-1772870400-1772888400@events.bridgeport.edu
SUMMARY:HOLD
DESCRIPTION:
URL:https://events.bridgeport.edu/event/hold-66/
LOCATION:MAN 318
CATEGORIES:Hold
END:VEVENT
BEGIN:VEVENT
DTSTART;TZID=America/New_York:20260307T080000
DTEND;TZID=America/New_York:20260307T130000
DTSTAMP:20260420T222303
CREATED:20260217T171509Z
LAST-MODIFIED:20260222T054633Z
UID:146690-1772870400-1772888400@events.bridgeport.edu
SUMMARY:HOLD
DESCRIPTION:
URL:https://events.bridgeport.edu/event/hold-67/
LOCATION:MAN 221
CATEGORIES:Hold
END:VEVENT
END:VCALENDAR