

BEGIN:VCALENDAR
VERSION:2.0
PRODID:-//Campus Events - ECPv6.15.20//NONSGML v1.0//EN
CALSCALE:GREGORIAN
METHOD:PUBLISH
X-WR-CALNAME:Campus Events
X-ORIGINAL-URL:https://events.bridgeport.edu
X-WR-CALDESC:Events for Campus Events
REFRESH-INTERVAL;VALUE=DURATION:PT1H
X-Robots-Tag:noindex
X-PUBLISHED-TTL:PT1H
BEGIN:VTIMEZONE
TZID:America/New_York
BEGIN:DAYLIGHT
TZOFFSETFROM:-0500
TZOFFSETTO:-0400
TZNAME:EDT
DTSTART:20250309T070000
END:DAYLIGHT
BEGIN:STANDARD
TZOFFSETFROM:-0400
TZOFFSETTO:-0500
TZNAME:EST
DTSTART:20251102T060000
END:STANDARD
BEGIN:DAYLIGHT
TZOFFSETFROM:-0500
TZOFFSETTO:-0400
TZNAME:EDT
DTSTART:20260308T070000
END:DAYLIGHT
BEGIN:STANDARD
TZOFFSETFROM:-0400
TZOFFSETTO:-0500
TZNAME:EST
DTSTART:20261101T060000
END:STANDARD
BEGIN:DAYLIGHT
TZOFFSETFROM:-0500
TZOFFSETTO:-0400
TZNAME:EDT
DTSTART:20270314T070000
END:DAYLIGHT
BEGIN:STANDARD
TZOFFSETFROM:-0400
TZOFFSETTO:-0500
TZNAME:EST
DTSTART:20271107T060000
END:STANDARD
END:VTIMEZONE
BEGIN:VEVENT
DTSTART;TZID=America/New_York:20260228T080000
DTEND;TZID=America/New_York:20260228T130000
DTSTAMP:20260420T222240
CREATED:20260217T171434Z
LAST-MODIFIED:20260222T054622Z
UID:146655-1772265600-1772283600@events.bridgeport.edu
SUMMARY:HOLD
DESCRIPTION:
URL:https://events.bridgeport.edu/event/hold-44/
LOCATION:MAN 223
CATEGORIES:Hold
END:VEVENT
BEGIN:VEVENT
DTSTART;TZID=America/New_York:20260228T080000
DTEND;TZID=America/New_York:20260228T130000
DTSTAMP:20260420T222240
CREATED:20260217T171434Z
LAST-MODIFIED:20260222T054610Z
UID:146657-1772265600-1772283600@events.bridgeport.edu
SUMMARY:HOLD
DESCRIPTION:
URL:https://events.bridgeport.edu/event/hold-45/
LOCATION:MAN 322
CATEGORIES:Hold
END:VEVENT
BEGIN:VEVENT
DTSTART;TZID=America/New_York:20260228T080000
DTEND;TZID=America/New_York:20260228T130000
DTSTAMP:20260420T222240
CREATED:20260217T171434Z
LAST-MODIFIED:20260222T054610Z
UID:146659-1772265600-1772283600@events.bridgeport.edu
SUMMARY:HOLD
DESCRIPTION:
URL:https://events.bridgeport.edu/event/hold-46/
LOCATION:MAN 316
CATEGORIES:Hold
END:VEVENT
BEGIN:VEVENT
DTSTART;TZID=America/New_York:20260228T080000
DTEND;TZID=America/New_York:20260228T130000
DTSTAMP:20260420T222240
CREATED:20260217T171446Z
LAST-MODIFIED:20260222T054622Z
UID:146675-1772265600-1772283600@events.bridgeport.edu
SUMMARY:HOLD
DESCRIPTION:
URL:https://events.bridgeport.edu/event/hold-54/
LOCATION:MAN 221
CATEGORIES:Hold
END:VEVENT
BEGIN:VEVENT
DTSTART;TZID=America/New_York:20260228T080000
DTEND;TZID=America/New_York:20260228T130000
DTSTAMP:20260420T222240
CREATED:20260217T171446Z
LAST-MODIFIED:20260222T054610Z
UID:146666-1772265600-1772283600@events.bridgeport.edu
SUMMARY:HOLD
DESCRIPTION:
URL:https://events.bridgeport.edu/event/hold-49/
LOCATION:MAN 220
CATEGORIES:Hold
END:VEVENT
BEGIN:VEVENT
DTSTART;TZID=America/New_York:20260228T080000
DTEND;TZID=America/New_York:20260228T130000
DTSTAMP:20260420T222240
CREATED:20260217T171446Z
LAST-MODIFIED:20260222T054622Z
UID:146677-1772265600-1772283600@events.bridgeport.edu
SUMMARY:HOLD
DESCRIPTION:
URL:https://events.bridgeport.edu/event/hold-55/
LOCATION:MAN 3
CATEGORIES:Hold
END:VEVENT
BEGIN:VEVENT
DTSTART;TZID=America/New_York:20260228T080000
DTEND;TZID=America/New_York:20260228T130000
DTSTAMP:20260420T222240
CREATED:20260217T171446Z
LAST-MODIFIED:20260222T054621Z
UID:146668-1772265600-1772283600@events.bridgeport.edu
SUMMARY:HOLD
DESCRIPTION:
URL:https://events.bridgeport.edu/event/hold-50/
LOCATION:MAN 323
CATEGORIES:Hold
END:VEVENT
BEGIN:VEVENT
DTSTART;TZID=America/New_York:20260228T080000
DTEND;TZID=America/New_York:20260228T130000
DTSTAMP:20260420T222240
CREATED:20260217T171446Z
LAST-MODIFIED:20260222T054610Z
UID:146670-1772265600-1772283600@events.bridgeport.edu
SUMMARY:HOLD
DESCRIPTION:
URL:https://events.bridgeport.edu/event/hold-51/
LOCATION:MAN 1
CATEGORIES:Hold
END:VEVENT
BEGIN:VEVENT
DTSTART;TZID=America/New_York:20260228T080000
DTEND;TZID=America/New_York:20260228T130000
DTSTAMP:20260420T222240
CREATED:20260217T171446Z
LAST-MODIFIED:20260222T054610Z
UID:146672-1772265600-1772283600@events.bridgeport.edu
SUMMARY:HOLD
DESCRIPTION:
URL:https://events.bridgeport.edu/event/hold-52/
LOCATION:MAN 203
CATEGORIES:Hold
END:VEVENT
BEGIN:VEVENT
DTSTART;TZID=America/New_York:20260228T080000
DTEND;TZID=America/New_York:20260228T130000
DTSTAMP:20260420T222240
CREATED:20260217T171446Z
LAST-MODIFIED:20260222T054610Z
UID:146663-1772265600-1772283600@events.bridgeport.edu
SUMMARY:HOLD
DESCRIPTION:
URL:https://events.bridgeport.edu/event/hold-47/
LOCATION:MAN 318
CATEGORIES:Hold
END:VEVENT
BEGIN:VEVENT
DTSTART;TZID=America/New_York:20260228T080000
DTEND;TZID=America/New_York:20260228T130000
DTSTAMP:20260420T222240
CREATED:20260217T171446Z
LAST-MODIFIED:20260222T054621Z
UID:146674-1772265600-1772283600@events.bridgeport.edu
SUMMARY:HOLD
DESCRIPTION:
URL:https://events.bridgeport.edu/event/hold-53/
LOCATION:MAN 320
CATEGORIES:Hold
END:VEVENT
BEGIN:VEVENT
DTSTART;TZID=America/New_York:20260228T080000
DTEND;TZID=America/New_York:20260228T130000
DTSTAMP:20260420T222240
CREATED:20260217T171446Z
LAST-MODIFIED:20260222T054622Z
UID:146665-1772265600-1772283600@events.bridgeport.edu
SUMMARY:HOLD
DESCRIPTION:
URL:https://events.bridgeport.edu/event/hold-48/
LOCATION:MAN 222
CATEGORIES:Hold
END:VEVENT
END:VCALENDAR