

BEGIN:VCALENDAR
VERSION:2.0
PRODID:-//Campus Events - ECPv6.15.20//NONSGML v1.0//EN
CALSCALE:GREGORIAN
METHOD:PUBLISH
X-WR-CALNAME:Campus Events
X-ORIGINAL-URL:https://events.bridgeport.edu
X-WR-CALDESC:Events for Campus Events
REFRESH-INTERVAL;VALUE=DURATION:PT1H
X-Robots-Tag:noindex
X-PUBLISHED-TTL:PT1H
BEGIN:VTIMEZONE
TZID:America/New_York
BEGIN:DAYLIGHT
TZOFFSETFROM:-0500
TZOFFSETTO:-0400
TZNAME:EDT
DTSTART:20250309T070000
END:DAYLIGHT
BEGIN:STANDARD
TZOFFSETFROM:-0400
TZOFFSETTO:-0500
TZNAME:EST
DTSTART:20251102T060000
END:STANDARD
BEGIN:DAYLIGHT
TZOFFSETFROM:-0500
TZOFFSETTO:-0400
TZNAME:EDT
DTSTART:20260308T070000
END:DAYLIGHT
BEGIN:STANDARD
TZOFFSETFROM:-0400
TZOFFSETTO:-0500
TZNAME:EST
DTSTART:20261101T060000
END:STANDARD
BEGIN:DAYLIGHT
TZOFFSETFROM:-0500
TZOFFSETTO:-0400
TZNAME:EDT
DTSTART:20270314T070000
END:DAYLIGHT
BEGIN:STANDARD
TZOFFSETFROM:-0400
TZOFFSETTO:-0500
TZNAME:EST
DTSTART:20271107T060000
END:STANDARD
END:VTIMEZONE
BEGIN:VEVENT
DTSTART;TZID=America/New_York:20260221T080000
DTEND;TZID=America/New_York:20260221T130000
DTSTAMP:20260421T000155
CREATED:20260217T171421Z
LAST-MODIFIED:20260220T061610Z
UID:146627-1771660800-1771678800@events.bridgeport.edu
SUMMARY:HOLD
DESCRIPTION:
URL:https://events.bridgeport.edu/event/hold-32/
LOCATION:MAN 320
CATEGORIES:Hold
END:VEVENT
BEGIN:VEVENT
DTSTART;TZID=America/New_York:20260221T080000
DTEND;TZID=America/New_York:20260221T130000
DTSTAMP:20260421T000155
CREATED:20260217T171421Z
LAST-MODIFIED:20260220T061610Z
UID:146629-1771660800-1771678800@events.bridgeport.edu
SUMMARY:HOLD
DESCRIPTION:
URL:https://events.bridgeport.edu/event/hold-33/
LOCATION:MAN 223
CATEGORIES:Hold
END:VEVENT
BEGIN:VEVENT
DTSTART;TZID=America/New_York:20260221T080000
DTEND;TZID=America/New_York:20260221T130000
DTSTAMP:20260421T000155
CREATED:20260217T171422Z
LAST-MODIFIED:20260220T061622Z
UID:146635-1771660800-1771678800@events.bridgeport.edu
SUMMARY:HOLD
DESCRIPTION:
URL:https://events.bridgeport.edu/event/hold-36/
LOCATION:MAN 1
CATEGORIES:Hold
END:VEVENT
BEGIN:VEVENT
DTSTART;TZID=America/New_York:20260221T080000
DTEND;TZID=America/New_York:20260221T130000
DTSTAMP:20260421T000155
CREATED:20260217T171422Z
LAST-MODIFIED:20260220T061610Z
UID:146637-1771660800-1771678800@events.bridgeport.edu
SUMMARY:HOLD
DESCRIPTION:
URL:https://events.bridgeport.edu/event/hold-37/
LOCATION:MAN 316
CATEGORIES:Hold
END:VEVENT
BEGIN:VEVENT
DTSTART;TZID=America/New_York:20260221T080000
DTEND;TZID=America/New_York:20260221T130000
DTSTAMP:20260421T000155
CREATED:20260217T171422Z
LAST-MODIFIED:20260220T061610Z
UID:146639-1771660800-1771678800@events.bridgeport.edu
SUMMARY:HOLD
DESCRIPTION:
URL:https://events.bridgeport.edu/event/hold-38/
LOCATION:MAN 220
CATEGORIES:Hold
END:VEVENT
BEGIN:VEVENT
DTSTART;TZID=America/New_York:20260221T080000
DTEND;TZID=America/New_York:20260221T130000
DTSTAMP:20260421T000155
CREATED:20260217T171422Z
LAST-MODIFIED:20260220T061609Z
UID:146641-1771660800-1771678800@events.bridgeport.edu
SUMMARY:HOLD
DESCRIPTION:
URL:https://events.bridgeport.edu/event/hold-39/
LOCATION:MAN 222
CATEGORIES:Hold
END:VEVENT
BEGIN:VEVENT
DTSTART;TZID=America/New_York:20260221T080000
DTEND;TZID=America/New_York:20260221T130000
DTSTAMP:20260421T000155
CREATED:20260217T171422Z
LAST-MODIFIED:20260220T061610Z
UID:146631-1771660800-1771678800@events.bridgeport.edu
SUMMARY:HOLD
DESCRIPTION:
URL:https://events.bridgeport.edu/event/hold-34/
LOCATION:MAN 203
CATEGORIES:Hold
END:VEVENT
BEGIN:VEVENT
DTSTART;TZID=America/New_York:20260221T080000
DTEND;TZID=America/New_York:20260221T130000
DTSTAMP:20260421T000155
CREATED:20260217T171422Z
LAST-MODIFIED:20260220T061610Z
UID:146643-1771660800-1771678800@events.bridgeport.edu
SUMMARY:HOLD
DESCRIPTION:
URL:https://events.bridgeport.edu/event/hold-40/
LOCATION:MAN 322
CATEGORIES:Hold
END:VEVENT
BEGIN:VEVENT
DTSTART;TZID=America/New_York:20260221T080000
DTEND;TZID=America/New_York:20260221T130000
DTSTAMP:20260421T000155
CREATED:20260217T171422Z
LAST-MODIFIED:20260220T061610Z
UID:146633-1771660800-1771678800@events.bridgeport.edu
SUMMARY:HOLD
DESCRIPTION:
URL:https://events.bridgeport.edu/event/hold-35/
LOCATION:MAN 318
CATEGORIES:Hold
END:VEVENT
BEGIN:VEVENT
DTSTART;TZID=America/New_York:20260221T080000
DTEND;TZID=America/New_York:20260221T130000
DTSTAMP:20260421T000155
CREATED:20260217T171434Z
LAST-MODIFIED:20260220T061609Z
UID:146645-1771660800-1771678800@events.bridgeport.edu
SUMMARY:HOLD
DESCRIPTION:
URL:https://events.bridgeport.edu/event/hold-41/
LOCATION:MAN 221
CATEGORIES:Hold
END:VEVENT
BEGIN:VEVENT
DTSTART;TZID=America/New_York:20260221T080000
DTEND;TZID=America/New_York:20260221T130000
DTSTAMP:20260421T000155
CREATED:20260217T171434Z
LAST-MODIFIED:20260220T061622Z
UID:146647-1771660800-1771678800@events.bridgeport.edu
SUMMARY:HOLD
DESCRIPTION:
URL:https://events.bridgeport.edu/event/hold-42/
LOCATION:MAN 323
CATEGORIES:Hold
END:VEVENT
BEGIN:VEVENT
DTSTART;TZID=America/New_York:20260221T080000
DTEND;TZID=America/New_York:20260221T130000
DTSTAMP:20260421T000155
CREATED:20260217T171434Z
LAST-MODIFIED:20260220T061622Z
UID:146649-1771660800-1771678800@events.bridgeport.edu
SUMMARY:HOLD
DESCRIPTION:
URL:https://events.bridgeport.edu/event/hold-43/
LOCATION:MAN 3
CATEGORIES:Hold
END:VEVENT
END:VCALENDAR