

BEGIN:VCALENDAR
VERSION:2.0
PRODID:-//Campus Events - ECPv6.15.20//NONSGML v1.0//EN
CALSCALE:GREGORIAN
METHOD:PUBLISH
X-WR-CALNAME:Campus Events
X-ORIGINAL-URL:https://events.bridgeport.edu
X-WR-CALDESC:Events for Campus Events
REFRESH-INTERVAL;VALUE=DURATION:PT1H
X-Robots-Tag:noindex
X-PUBLISHED-TTL:PT1H
BEGIN:VTIMEZONE
TZID:America/New_York
BEGIN:DAYLIGHT
TZOFFSETFROM:-0500
TZOFFSETTO:-0400
TZNAME:EDT
DTSTART:20250309T070000
END:DAYLIGHT
BEGIN:STANDARD
TZOFFSETFROM:-0400
TZOFFSETTO:-0500
TZNAME:EST
DTSTART:20251102T060000
END:STANDARD
BEGIN:DAYLIGHT
TZOFFSETFROM:-0500
TZOFFSETTO:-0400
TZNAME:EDT
DTSTART:20260308T070000
END:DAYLIGHT
BEGIN:STANDARD
TZOFFSETFROM:-0400
TZOFFSETTO:-0500
TZNAME:EST
DTSTART:20261101T060000
END:STANDARD
BEGIN:DAYLIGHT
TZOFFSETFROM:-0500
TZOFFSETTO:-0400
TZNAME:EDT
DTSTART:20270314T070000
END:DAYLIGHT
BEGIN:STANDARD
TZOFFSETFROM:-0400
TZOFFSETTO:-0500
TZNAME:EST
DTSTART:20271107T060000
END:STANDARD
END:VTIMEZONE
BEGIN:VEVENT
DTSTART;TZID=America/New_York:20260425T080000
DTEND;TZID=America/New_York:20260425T190000
DTSTAMP:20260421T031154
CREATED:20260217T171220Z
LAST-MODIFIED:20260223T001611Z
UID:146614-1777104000-1777143600@events.bridgeport.edu
SUMMARY:CT Acupuncture Association Trainings
DESCRIPTION:
URL:https://events.bridgeport.edu/event/ct-acupuncture-association-trainings/
LOCATION:CC 100
CATEGORIES:Conference
END:VEVENT
BEGIN:VEVENT
DTSTART;TZID=America/New_York:20260426T080000
DTEND;TZID=America/New_York:20260426T190000
DTSTAMP:20260421T031154
CREATED:20260217T171220Z
LAST-MODIFIED:20260223T001611Z
UID:146615-1777190400-1777230000@events.bridgeport.edu
SUMMARY:CT Acupuncture Association Trainings
DESCRIPTION:
URL:https://events.bridgeport.edu/event/ct-acupuncture-association-trainings-2/
LOCATION:CC 100
CATEGORIES:Conference
END:VEVENT
BEGIN:VEVENT
DTSTART;TZID=America/New_York:20260430T174500
DTEND;TZID=America/New_York:20260430T210000
DTSTAMP:20260421T031154
CREATED:20260303T005929Z
LAST-MODIFIED:20260415T174401Z
UID:152337-1777571100-1777582800@events.bridgeport.edu
SUMMARY:LifeBridge Community Services Workshop and Symposium
DESCRIPTION:
URL:https://events.bridgeport.edu/event/lifebridge-community-services-workshop-and-symposium/
LOCATION:ABC Tower Room\, 575 University Avenue 9th floor\, Bridgeport\, CT\, 06604\, United States
CATEGORIES:Community,Conference
END:VEVENT
BEGIN:VEVENT
DTSTART;TZID=America/New_York:20260613T080000
DTEND;TZID=America/New_York:20260613T170000
DTSTAMP:20260421T031154
CREATED:20260128T024933Z
LAST-MODIFIED:20260327T140351Z
UID:143938-1781337600-1781370000@events.bridgeport.edu
SUMMARY:PA Institute Conference
DESCRIPTION:
URL:https://events.bridgeport.edu/event/pa-institute-conference-2/
LOCATION:MAN 104 Campus: Main Campus\, 230 Park Avenue\, Bridgeport\, CT\, 06604\, United States
CATEGORIES:Academics,Conference
END:VEVENT
BEGIN:VEVENT
DTSTART;TZID=America/New_York:20260613T090000
DTEND;TZID=America/New_York:20260613T160000
DTSTAMP:20260421T031154
CREATED:20260128T024933Z
LAST-MODIFIED:20260327T140520Z
UID:143939-1781341200-1781366400@events.bridgeport.edu
SUMMARY:PA Institute Conference
DESCRIPTION:
URL:https://events.bridgeport.edu/event/pa-institute-conference-3/
LOCATION:John J Cox Student Center – Great Room\, 244 University Avenue\, Bridgeport\, CT\, 06604\, United States
CATEGORIES:Academics,Conference
END:VEVENT
BEGIN:VEVENT
DTSTART;TZID=America/New_York:20260613T090000
DTEND;TZID=America/New_York:20260613T160000
DTSTAMP:20260421T031154
CREATED:20260217T171220Z
LAST-MODIFIED:20260223T001611Z
UID:146616-1781341200-1781366400@events.bridgeport.edu
SUMMARY:ConnAPA Student Day: PA Institute Conference
DESCRIPTION:
URL:https://events.bridgeport.edu/event/connapa-student-day-pa-institute-conference-2/
LOCATION:JCSC KNIGHT S1 – Social Room
CATEGORIES:Conference
END:VEVENT
BEGIN:VEVENT
DTSTART;TZID=America/New_York:20260926T080000
DTEND;TZID=America/New_York:20260926T180000
DTSTAMP:20260421T031154
CREATED:20260217T171220Z
LAST-MODIFIED:20260223T001611Z
UID:146617-1790409600-1790445600@events.bridgeport.edu
SUMMARY:CT Acupuncture Association Meetings
DESCRIPTION:
URL:https://events.bridgeport.edu/event/ct-acupuncture-association-meetings/
LOCATION:CC 100
CATEGORIES:Conference
END:VEVENT
BEGIN:VEVENT
DTSTART;TZID=America/New_York:20260927T080000
DTEND;TZID=America/New_York:20260927T180000
DTSTAMP:20260421T031154
CREATED:20260217T171220Z
LAST-MODIFIED:20260223T001611Z
UID:146618-1790496000-1790532000@events.bridgeport.edu
SUMMARY:CT Acupuncture Association Meetings
DESCRIPTION:
URL:https://events.bridgeport.edu/event/ct-acupuncture-association-meetings-2/
LOCATION:CC 100
CATEGORIES:Conference
END:VEVENT
END:VCALENDAR