

BEGIN:VCALENDAR
VERSION:2.0
PRODID:-//Campus Events - ECPv6.15.20//NONSGML v1.0//EN
CALSCALE:GREGORIAN
METHOD:PUBLISH
X-WR-CALNAME:Campus Events
X-ORIGINAL-URL:https://events.bridgeport.edu
X-WR-CALDESC:Events for Campus Events
REFRESH-INTERVAL;VALUE=DURATION:PT1H
X-Robots-Tag:noindex
X-PUBLISHED-TTL:PT1H
BEGIN:VTIMEZONE
TZID:America/New_York
BEGIN:DAYLIGHT
TZOFFSETFROM:-0500
TZOFFSETTO:-0400
TZNAME:EDT
DTSTART:20250309T070000
END:DAYLIGHT
BEGIN:STANDARD
TZOFFSETFROM:-0400
TZOFFSETTO:-0500
TZNAME:EST
DTSTART:20251102T060000
END:STANDARD
BEGIN:DAYLIGHT
TZOFFSETFROM:-0500
TZOFFSETTO:-0400
TZNAME:EDT
DTSTART:20260308T070000
END:DAYLIGHT
BEGIN:STANDARD
TZOFFSETFROM:-0400
TZOFFSETTO:-0500
TZNAME:EST
DTSTART:20261101T060000
END:STANDARD
BEGIN:DAYLIGHT
TZOFFSETFROM:-0500
TZOFFSETTO:-0400
TZNAME:EDT
DTSTART:20270314T070000
END:DAYLIGHT
BEGIN:STANDARD
TZOFFSETFROM:-0400
TZOFFSETTO:-0500
TZNAME:EST
DTSTART:20271107T060000
END:STANDARD
END:VTIMEZONE
BEGIN:VEVENT
DTSTART;TZID=America/New_York:20260412T083000
DTEND;TZID=America/New_York:20260412T130000
DTSTAMP:20260421T044238
CREATED:20260317T213122Z
LAST-MODIFIED:20260317T213122Z
UID:152778-1775982600-1775998800@events.bridgeport.edu
SUMMARY:Motion Palpation Institute Seminar-School of Chiropractic
DESCRIPTION:
URL:https://events.bridgeport.edu/event/motion-palpation-institute-seminar-school-of-chiropractic-2/
LOCATION:CC 100 Campus: Main Campus\, 75 Linden Avenue\, Bridgeport\, CT\, 06604\, United States
CATEGORIES:Academics,Conference
END:VEVENT
BEGIN:VEVENT
DTSTART;TZID=America/New_York:20260411T080000
DTEND;TZID=America/New_York:20260411T170000
DTSTAMP:20260421T044238
CREATED:20260317T212628Z
LAST-MODIFIED:20260317T212628Z
UID:152776-1775894400-1775926800@events.bridgeport.edu
SUMMARY:Motion Palpation Institute Seminar-School of Chiropractic
DESCRIPTION:
URL:https://events.bridgeport.edu/event/motion-palpation-institute-seminar-school-of-chiropractic/
LOCATION:CC 100 Campus: Main Campus\, 75 Linden Avenue\, Bridgeport\, CT\, 06604\, United States
CATEGORIES:Academics,Conference
END:VEVENT
BEGIN:VEVENT
DTSTART;TZID=America/New_York:20260410T123000
DTEND;TZID=America/New_York:20260410T133000
DTSTAMP:20260421T044238
CREATED:20260324T163151Z
LAST-MODIFIED:20260324T163155Z
UID:153017-1775824200-1775827800@events.bridgeport.edu
SUMMARY:UB Rise Celebrating the Arts hosted by the College of Science & Society
DESCRIPTION:
URL:https://events.bridgeport.edu/event/ub-rise-celebrating-the-arts-hosted-by-the-college-of-science-society/
LOCATION:ABC Schelfhaudt Gallery\, 575 University Avenue\, Bridgeport\, CT\, 06604\, United States
CATEGORIES:Conference,Social
END:VEVENT
BEGIN:VEVENT
DTSTART;TZID=America/New_York:20260323T120000
DTEND;TZID=America/New_York:20260323T140000
DTSTAMP:20260421T044238
CREATED:20260209T211723Z
LAST-MODIFIED:20260225T193141Z
UID:145445-1774267200-1774274400@events.bridgeport.edu
SUMMARY:PAI Career Fair - Career Development
DESCRIPTION:
URL:https://events.bridgeport.edu/event/pai-career-fair-career-development/
LOCATION:WAHL HC Main Area  Campus: Main Campus
CATEGORIES:Academics,Conference
END:VEVENT
BEGIN:VEVENT
DTSTART;TZID=America/New_York:20260317T170000
DTEND;TZID=America/New_York:20260317T200000
DTSTAMP:20260421T044238
CREATED:20260220T204813Z
LAST-MODIFIED:20260220T204813Z
UID:149585-1773766800-1773777600@events.bridgeport.edu
SUMMARY:Networking Etiquette - Career Development
DESCRIPTION:
URL:https://events.bridgeport.edu/event/networking-etiquette-career-development-4/
LOCATION:JCSC Social Room\, 244 University Avenue\, Bridgeport\, CT\, 06604\, United States
CATEGORIES:Conference
END:VEVENT
BEGIN:VEVENT
DTSTART;TZID=America/New_York:20260217T150000
DTEND;TZID=America/New_York:20260217T160000
DTSTAMP:20260421T044238
CREATED:20260217T171219Z
LAST-MODIFIED:20260217T171219Z
UID:146613-1771340400-1771344000@events.bridgeport.edu
SUMMARY:CARE Team - Dean of Students Office
DESCRIPTION:
URL:https://events.bridgeport.edu/event/care-team-dean-of-students-office/
LOCATION:WAHL 158
CATEGORIES:Conference
END:VEVENT
END:VCALENDAR