

BEGIN:VCALENDAR
VERSION:2.0
PRODID:-//Campus Events - ECPv6.15.20//NONSGML v1.0//EN
CALSCALE:GREGORIAN
METHOD:PUBLISH
X-ORIGINAL-URL:https://events.bridgeport.edu
X-WR-CALDESC:Events for Campus Events
REFRESH-INTERVAL;VALUE=DURATION:PT1H
X-Robots-Tag:noindex
X-PUBLISHED-TTL:PT1H
BEGIN:VTIMEZONE
TZID:America/New_York
BEGIN:DAYLIGHT
TZOFFSETFROM:-0500
TZOFFSETTO:-0400
TZNAME:EDT
DTSTART:20230312T070000
END:DAYLIGHT
BEGIN:STANDARD
TZOFFSETFROM:-0400
TZOFFSETTO:-0500
TZNAME:EST
DTSTART:20231105T060000
END:STANDARD
BEGIN:DAYLIGHT
TZOFFSETFROM:-0500
TZOFFSETTO:-0400
TZNAME:EDT
DTSTART:20240310T070000
END:DAYLIGHT
BEGIN:STANDARD
TZOFFSETFROM:-0400
TZOFFSETTO:-0500
TZNAME:EST
DTSTART:20241103T060000
END:STANDARD
BEGIN:DAYLIGHT
TZOFFSETFROM:-0500
TZOFFSETTO:-0400
TZNAME:EDT
DTSTART:20250309T070000
END:DAYLIGHT
BEGIN:STANDARD
TZOFFSETFROM:-0400
TZOFFSETTO:-0500
TZNAME:EST
DTSTART:20251102T060000
END:STANDARD
END:VTIMEZONE
BEGIN:VEVENT
DTSTART;TZID=America/New_York:20241206T093000
DTEND;TZID=America/New_York:20241206T110000
DTSTAMP:20260422T045149
CREATED:20240912T173444Z
LAST-MODIFIED:20241206T151752Z
UID:89303-1733477400-1733482800@events.bridgeport.edu
SUMMARY:Fairfield Schools
DESCRIPTION:
URL:https://events.bridgeport.edu/event/fairfield-schools-45/
LOCATION:MAN MAN 9 Campus: Main Campus
CATEGORIES:Community
END:VEVENT
BEGIN:VEVENT
DTSTART;TZID=America/New_York:20241206T093000
DTEND;TZID=America/New_York:20241206T113000
DTSTAMP:20260422T045149
CREATED:20240918T000559Z
LAST-MODIFIED:20241206T151752Z
UID:90213-1733477400-1733484600@events.bridgeport.edu
SUMMARY:Fairfield Edu Job Skills Training
DESCRIPTION:
URL:https://events.bridgeport.edu/event/fairfield-edu-job-skills-training-10/
LOCATION:MAN 16 Campus: Main Campus\, 230 Park Avenue\, Bridgeport\, CT\, 06604\, United States
CATEGORIES:Community
END:VEVENT
BEGIN:VEVENT
DTSTART;TZID=America/New_York:20241206T153000
DTEND;TZID=America/New_York:20241206T173000
DTSTAMP:20260422T045149
CREATED:20241114T000357Z
LAST-MODIFIED:20241206T201751Z
UID:96774-1733499000-1733506200@events.bridgeport.edu
SUMMARY:BackCountry Jazz Music Program
DESCRIPTION:
URL:https://events.bridgeport.edu/event/backcountry-jazz-music-program-4/
LOCATION:JCSC 207-209 Campus: Main Campus\, 244 University Avenue\, Bridgeport\, CT\, 06604\, United States
CATEGORIES:Community
END:VEVENT
BEGIN:VEVENT
DTSTART;TZID=America/New_York:20241206T153000
DTEND;TZID=America/New_York:20241206T173000
DTSTAMP:20260422T045149
CREATED:20241114T000357Z
LAST-MODIFIED:20241206T201751Z
UID:96775-1733499000-1733506200@events.bridgeport.edu
SUMMARY:BackCountry Jazz Music Program
DESCRIPTION:
URL:https://events.bridgeport.edu/event/backcountry-jazz-music-program-5/
LOCATION:JCSC 213-215 Campus: Main Campus\, 244 University Avenue\, Bridgeport\, CT\, 06604\, United States
CATEGORIES:Community
END:VEVENT
BEGIN:VEVENT
DTSTART;TZID=America/New_York:20241206T153000
DTEND;TZID=America/New_York:20241206T173000
DTSTAMP:20260422T045149
CREATED:20241114T000357Z
LAST-MODIFIED:20241206T201751Z
UID:96776-1733499000-1733506200@events.bridgeport.edu
SUMMARY:BackCountry Jazz Music Program
DESCRIPTION:
URL:https://events.bridgeport.edu/event/backcountry-jazz-music-program-6/
LOCATION:JCSC Knight S7 Campus: Main Campus
CATEGORIES:Community
END:VEVENT
BEGIN:VEVENT
DTSTART;TZID=America/New_York:20241207T080000
DTEND;TZID=America/New_York:20241207T140000
DTSTAMP:20260422T045149
CREATED:20240830T011829Z
LAST-MODIFIED:20241105T201956Z
UID:87713-1733558400-1733580000@events.bridgeport.edu
SUMMARY:BCYL
DESCRIPTION:
URL:https://events.bridgeport.edu/event/bcyl-3/
LOCATION:MAN 303 Campus: Main Campus\, 230 Park Avenue\, Bridgeport\, CT\, 06604\, United States
CATEGORIES:Community
END:VEVENT
BEGIN:VEVENT
DTSTART;TZID=America/New_York:20241207T080000
DTEND;TZID=America/New_York:20241207T140000
DTSTAMP:20260422T045149
CREATED:20240830T011829Z
LAST-MODIFIED:20241105T201956Z
UID:87714-1733558400-1733580000@events.bridgeport.edu
SUMMARY:BCYL
DESCRIPTION:
URL:https://events.bridgeport.edu/event/bcyl-4/
LOCATION:MAN 301 Campus: Main Campus\, 230 Park Avenue\, Bridgeport\, CT\, 06604\, United States
CATEGORIES:Community
END:VEVENT
BEGIN:VEVENT
DTSTART;TZID=America/New_York:20241207T080000
DTEND;TZID=America/New_York:20241207T140000
DTSTAMP:20260422T045149
CREATED:20240920T000737Z
LAST-MODIFIED:20241003T025120Z
UID:90541-1733558400-1733580000@events.bridgeport.edu
SUMMARY:BCYL Tutoring
DESCRIPTION:
URL:https://events.bridgeport.edu/event/bcyl-tutoring-161/
LOCATION:MAN 319 Campus: Main Campus\, 230 Park Avenue\, Bridgeport\, CT\, 06604\, United States
CATEGORIES:Community
END:VEVENT
BEGIN:VEVENT
DTSTART;TZID=America/New_York:20241207T080000
DTEND;TZID=America/New_York:20241207T140000
DTSTAMP:20260422T045149
CREATED:20240920T000737Z
LAST-MODIFIED:20241003T025107Z
UID:90542-1733558400-1733580000@events.bridgeport.edu
SUMMARY:BCYL Tutoring
DESCRIPTION:
URL:https://events.bridgeport.edu/event/bcyl-tutoring-162/
LOCATION:MAN 210 Campus: Main Campus\, 230 Park Avenue\, Bridgeport\, CT\, 06604\, United States
CATEGORIES:Community
END:VEVENT
BEGIN:VEVENT
DTSTART;TZID=America/New_York:20241207T080000
DTEND;TZID=America/New_York:20241207T140000
DTSTAMP:20260422T045149
CREATED:20240920T000738Z
LAST-MODIFIED:20241003T025108Z
UID:90545-1733558400-1733580000@events.bridgeport.edu
SUMMARY:BCYL Tutoring
DESCRIPTION:
URL:https://events.bridgeport.edu/event/bcyl-tutoring-165/
LOCATION:MAN 323 Campus: Main Campus\, 230 Park Avenue\, Bridgeport\, CT\, 06604\, United States
CATEGORIES:Community
END:VEVENT
BEGIN:VEVENT
DTSTART;TZID=America/New_York:20241207T080000
DTEND;TZID=America/New_York:20241207T140000
DTSTAMP:20260422T045149
CREATED:20240920T000738Z
LAST-MODIFIED:20241003T025120Z
UID:90546-1733558400-1733580000@events.bridgeport.edu
SUMMARY:BCYL Tutoring
DESCRIPTION:
URL:https://events.bridgeport.edu/event/bcyl-tutoring-166/
LOCATION:MAN 320 Campus: Main Campus\, 230 Park Avenue\, Bridgeport\, CT\, 06604\, United States
CATEGORIES:Community
END:VEVENT
BEGIN:VEVENT
DTSTART;TZID=America/New_York:20241207T080000
DTEND;TZID=America/New_York:20241207T140000
DTSTAMP:20260422T045149
CREATED:20240920T000738Z
LAST-MODIFIED:20241003T025107Z
UID:90547-1733558400-1733580000@events.bridgeport.edu
SUMMARY:BCYL Tutoring
DESCRIPTION:
URL:https://events.bridgeport.edu/event/bcyl-tutoring-167/
LOCATION:MAN 316 Campus: Main Campus\, 230 Park Avenue\, Bridgeport\, CT\, 06604\, United States
CATEGORIES:Community
END:VEVENT
BEGIN:VEVENT
DTSTART;TZID=America/New_York:20241207T080000
DTEND;TZID=America/New_York:20241207T140000
DTSTAMP:20260422T045149
CREATED:20240920T000738Z
LAST-MODIFIED:20241003T025120Z
UID:90548-1733558400-1733580000@events.bridgeport.edu
SUMMARY:BCYL Tutoring
DESCRIPTION:
URL:https://events.bridgeport.edu/event/bcyl-tutoring-168/
LOCATION:MAN 321 Campus: Main Campus\, 230 Park Avenue\, Bridgeport\, CT\, 06604\, United States
CATEGORIES:Community
END:VEVENT
BEGIN:VEVENT
DTSTART;TZID=America/New_York:20241207T080000
DTEND;TZID=America/New_York:20241207T140000
DTSTAMP:20260422T045149
CREATED:20240920T000738Z
LAST-MODIFIED:20240926T013742Z
UID:90543-1733558400-1733580000@events.bridgeport.edu
SUMMARY:BCYL Tutoring
DESCRIPTION:
URL:https://events.bridgeport.edu/event/bcyl-tutoring-163/
LOCATION:MAN 216 Campus: Main Campus\, 230 Park Avenue\, Bridgeport\, CT\, 06604\, United States
CATEGORIES:Community
END:VEVENT
BEGIN:VEVENT
DTSTART;TZID=America/New_York:20241207T080000
DTEND;TZID=America/New_York:20241207T140000
DTSTAMP:20260422T045149
CREATED:20240920T000738Z
LAST-MODIFIED:20241003T025107Z
UID:90544-1733558400-1733580000@events.bridgeport.edu
SUMMARY:BCYL Tutoring
DESCRIPTION:
URL:https://events.bridgeport.edu/event/bcyl-tutoring-164/
LOCATION:MAN 311 Campus: Main Campus\, 230 Park Avenue\, Bridgeport\, CT\, 06604\, United States
CATEGORIES:Community
END:VEVENT
BEGIN:VEVENT
DTSTART;TZID=America/New_York:20241207T080000
DTEND;TZID=America/New_York:20241207T140000
DTSTAMP:20260422T045149
CREATED:20240920T000752Z
LAST-MODIFIED:20241003T025108Z
UID:90549-1733558400-1733580000@events.bridgeport.edu
SUMMARY:BCYL Tutoring
DESCRIPTION:
URL:https://events.bridgeport.edu/event/bcyl-tutoring-169/
LOCATION:MAN 318 Campus: Main Campus\, 230 Park Avenue\, Bridgeport\, CT\, 06604\, United States
CATEGORIES:Community
END:VEVENT
BEGIN:VEVENT
DTSTART;TZID=America/New_York:20241207T080000
DTEND;TZID=America/New_York:20241207T140000
DTSTAMP:20260422T045149
CREATED:20240920T000752Z
LAST-MODIFIED:20241003T025107Z
UID:90550-1733558400-1733580000@events.bridgeport.edu
SUMMARY:BCYL Tutoring
DESCRIPTION:
URL:https://events.bridgeport.edu/event/bcyl-tutoring-170/
LOCATION:MAN 322 Campus: Main Campus\, 230 Park Avenue\, Bridgeport\, CT\, 06604\, United States
CATEGORIES:Community
END:VEVENT
BEGIN:VEVENT
DTSTART;TZID=America/New_York:20241207T080000
DTEND;TZID=America/New_York:20241207T150000
DTSTAMP:20260422T045149
CREATED:20241106T000415Z
LAST-MODIFIED:20241207T190251Z
UID:95894-1733558400-1733583600@events.bridgeport.edu
SUMMARY:BCYL SAT Prep
DESCRIPTION:
URL:https://events.bridgeport.edu/event/bcyl-sat-prep-2/
LOCATION:MAN 301 Campus: Main Campus\, 230 Park Avenue\, Bridgeport\, CT\, 06604\, United States
CATEGORIES:Community
END:VEVENT
BEGIN:VEVENT
DTSTART;TZID=America/New_York:20241207T080000
DTEND;TZID=America/New_York:20241207T150000
DTSTAMP:20260422T045149
CREATED:20241106T000415Z
LAST-MODIFIED:20241207T190251Z
UID:95893-1733558400-1733583600@events.bridgeport.edu
SUMMARY:BCYL SAT Prep
DESCRIPTION:
URL:https://events.bridgeport.edu/event/bcyl-sat-prep/
LOCATION:MAN 303 Campus: Main Campus\, 230 Park Avenue\, Bridgeport\, CT\, 06604\, United States
CATEGORIES:Community
END:VEVENT
BEGIN:VEVENT
DTSTART;TZID=America/New_York:20241207T083000
DTEND;TZID=America/New_York:20241207T123000
DTSTAMP:20260422T045149
CREATED:20241116T140339Z
LAST-MODIFIED:20241207T163251Z
UID:97205-1733560200-1733574600@events.bridgeport.edu
SUMMARY:B2BJ Training Course
DESCRIPTION:
URL:https://events.bridgeport.edu/event/b2bj-training-course-23/
LOCATION:MAN 216 Campus: Main Campus\, 230 Park Avenue\, Bridgeport\, CT\, 06604\, United States
CATEGORIES:Community
END:VEVENT
BEGIN:VEVENT
DTSTART;TZID=America/New_York:20241207T083000
DTEND;TZID=America/New_York:20241207T150000
DTSTAMP:20260422T045149
CREATED:20240830T011829Z
LAST-MODIFIED:20240926T013754Z
UID:87712-1733560200-1733583600@events.bridgeport.edu
SUMMARY:B2BJ Training Course
DESCRIPTION:
URL:https://events.bridgeport.edu/event/b2bj-training-course-11/
LOCATION:MAN 220 Campus: Main Campus\, 230 Park Avenue\, Bridgeport\, CT\, 06604\, United States
CATEGORIES:Community
END:VEVENT
BEGIN:VEVENT
DTSTART;TZID=America/New_York:20241207T083000
DTEND;TZID=America/New_York:20241207T150000
DTSTAMP:20260422T045149
CREATED:20240926T025137Z
LAST-MODIFIED:20241116T124835Z
UID:91392-1733560200-1733583600@events.bridgeport.edu
SUMMARY:B2BJ Training Course
DESCRIPTION:
URL:https://events.bridgeport.edu/event/b2bj-training-course-20/
LOCATION:MAN 216 Campus: Main Campus\, 230 Park Avenue\, Bridgeport\, CT\, 06604\, United States
CATEGORIES:Community
END:VEVENT
BEGIN:VEVENT
DTSTART;TZID=America/New_York:20241207T183000
DTEND;TZID=America/New_York:20241207T223000
DTSTAMP:20260422T045149
CREATED:20240919T000539Z
LAST-MODIFIED:20241208T024751Z
UID:90344-1733596200-1733610600@events.bridgeport.edu
SUMMARY:BPDP Hispanic Society Christmas Award Dinner
DESCRIPTION:
URL:https://events.bridgeport.edu/event/bpdp-hispanic-society-christmas-award-dinner/
LOCATION:JCSC KNIGHT S1 – Social Room Campus: Main Campus
CATEGORIES:Community
END:VEVENT
BEGIN:VEVENT
DTSTART;TZID=America/New_York:20241209T003000
DTEND;TZID=America/New_York:20241209T013000
DTSTAMP:20260422T045149
CREATED:20240930T202118Z
LAST-MODIFIED:20241209T051749Z
UID:91898-1733704200-1733707800@events.bridgeport.edu
SUMMARY:Fairfield Bowling
DESCRIPTION:
URL:https://events.bridgeport.edu/event/fairfield-bowling-39/
LOCATION:JCSC UBowl Campus: Main Campus
CATEGORIES:Community
END:VEVENT
BEGIN:VEVENT
DTSTART;TZID=America/New_York:20241209T093000
DTEND;TZID=America/New_York:20241209T110000
DTSTAMP:20260422T045149
CREATED:20240912T173455Z
LAST-MODIFIED:20241209T151749Z
UID:89304-1733736600-1733742000@events.bridgeport.edu
SUMMARY:Fairfield Schools
DESCRIPTION:
URL:https://events.bridgeport.edu/event/fairfield-schools-46/
LOCATION:MAN MAN 9 Campus: Main Campus
CATEGORIES:Community
END:VEVENT
BEGIN:VEVENT
DTSTART;TZID=America/New_York:20241209T120000
DTEND;TZID=America/New_York:20241209T133000
DTSTAMP:20260422T045149
CREATED:20240830T191852Z
LAST-MODIFIED:20240930T190614Z
UID:87858-1733745600-1733751000@events.bridgeport.edu
SUMMARY:Fairfield Bowling
DESCRIPTION:
URL:https://events.bridgeport.edu/event/fairfield-bowling-28/
LOCATION:JCSC UBowl Campus: Main Campus
CATEGORIES:Community
END:VEVENT
BEGIN:VEVENT
DTSTART;TZID=America/New_York:20241210T093000
DTEND;TZID=America/New_York:20241210T110000
DTSTAMP:20260422T045149
CREATED:20240912T173455Z
LAST-MODIFIED:20241210T151751Z
UID:89305-1733823000-1733828400@events.bridgeport.edu
SUMMARY:Fairfield Schools
DESCRIPTION:
URL:https://events.bridgeport.edu/event/fairfield-schools-47/
LOCATION:MAN MAN 9 Campus: Main Campus
CATEGORIES:Community
END:VEVENT
BEGIN:VEVENT
DTSTART;TZID=America/New_York:20241211T093000
DTEND;TZID=America/New_York:20241211T110000
DTSTAMP:20260422T045149
CREATED:20240912T173455Z
LAST-MODIFIED:20241211T151847Z
UID:89306-1733909400-1733914800@events.bridgeport.edu
SUMMARY:Fairfield Schools
DESCRIPTION:
URL:https://events.bridgeport.edu/event/fairfield-schools-48/
LOCATION:MAN MAN 9 Campus: Main Campus
CATEGORIES:Community
END:VEVENT
BEGIN:VEVENT
DTSTART;TZID=America/New_York:20241212T080000
DTEND;TZID=America/New_York:20241212T170000
DTSTAMP:20260422T045149
CREATED:20241120T124826Z
LAST-MODIFIED:20241212T200255Z
UID:97627-1733990400-1734022800@events.bridgeport.edu
SUMMARY:Leadership Greater Bridgeport (LGB) Program
DESCRIPTION:
URL:https://events.bridgeport.edu/event/leadership-greater-bridgeport-lgb-program/
LOCATION:MAN 1 Campus: Main Campus\, 230 Park Avenue\, Bridgeport\, CT\, 06604\, United States
CATEGORIES:Community
END:VEVENT
BEGIN:VEVENT
DTSTART;TZID=America/New_York:20241212T093000
DTEND;TZID=America/New_York:20241212T110000
DTSTAMP:20260422T045149
CREATED:20240913T000537Z
LAST-MODIFIED:20241212T151752Z
UID:89565-1733995800-1734001200@events.bridgeport.edu
SUMMARY:Fairfield Schools
DESCRIPTION:
URL:https://events.bridgeport.edu/event/fairfield-schools-141/
LOCATION:MAN MAN 9 Campus: Main Campus
CATEGORIES:Community
END:VEVENT
END:VCALENDAR