

BEGIN:VCALENDAR
VERSION:2.0
PRODID:-//Campus Events - ECPv6.15.20//NONSGML v1.0//EN
CALSCALE:GREGORIAN
METHOD:PUBLISH
X-ORIGINAL-URL:https://events.bridgeport.edu
X-WR-CALDESC:Events for Campus Events
REFRESH-INTERVAL;VALUE=DURATION:PT1H
X-Robots-Tag:noindex
X-PUBLISHED-TTL:PT1H
BEGIN:VTIMEZONE
TZID:America/New_York
BEGIN:DAYLIGHT
TZOFFSETFROM:-0500
TZOFFSETTO:-0400
TZNAME:EDT
DTSTART:20230312T070000
END:DAYLIGHT
BEGIN:STANDARD
TZOFFSETFROM:-0400
TZOFFSETTO:-0500
TZNAME:EST
DTSTART:20231105T060000
END:STANDARD
BEGIN:DAYLIGHT
TZOFFSETFROM:-0500
TZOFFSETTO:-0400
TZNAME:EDT
DTSTART:20240310T070000
END:DAYLIGHT
BEGIN:STANDARD
TZOFFSETFROM:-0400
TZOFFSETTO:-0500
TZNAME:EST
DTSTART:20241103T060000
END:STANDARD
BEGIN:DAYLIGHT
TZOFFSETFROM:-0500
TZOFFSETTO:-0400
TZNAME:EDT
DTSTART:20250309T070000
END:DAYLIGHT
BEGIN:STANDARD
TZOFFSETFROM:-0400
TZOFFSETTO:-0500
TZNAME:EST
DTSTART:20251102T060000
END:STANDARD
END:VTIMEZONE
BEGIN:VEVENT
DTSTART;TZID=America/New_York:20241116T080000
DTEND;TZID=America/New_York:20241116T140000
DTSTAMP:20260422T014926
CREATED:20240920T000643Z
LAST-MODIFIED:20240926T013649Z
UID:90532-1731744000-1731765600@events.bridgeport.edu
SUMMARY:BCYL Tutoring
DESCRIPTION:
URL:https://events.bridgeport.edu/event/bcyl-tutoring-152/
LOCATION:MAN 216 Campus: Main Campus\, 230 Park Avenue\, Bridgeport\, CT\, 06604\, United States
CATEGORIES:Community
END:VEVENT
BEGIN:VEVENT
DTSTART;TZID=America/New_York:20241116T080000
DTEND;TZID=America/New_York:20241116T140000
DTSTAMP:20260422T014926
CREATED:20240920T000643Z
LAST-MODIFIED:20241116T174751Z
UID:90533-1731744000-1731765600@events.bridgeport.edu
SUMMARY:BCYL Tutoring
DESCRIPTION:
URL:https://events.bridgeport.edu/event/bcyl-tutoring-153/
LOCATION:MAN 321 Campus: Main Campus\, 230 Park Avenue\, Bridgeport\, CT\, 06604\, United States
CATEGORIES:Community
END:VEVENT
BEGIN:VEVENT
DTSTART;TZID=America/New_York:20241116T080000
DTEND;TZID=America/New_York:20241116T140000
DTSTAMP:20260422T014926
CREATED:20240920T000655Z
LAST-MODIFIED:20241116T174751Z
UID:90535-1731744000-1731765600@events.bridgeport.edu
SUMMARY:BCYL Tutoring
DESCRIPTION:
URL:https://events.bridgeport.edu/event/bcyl-tutoring-155/
LOCATION:MAN 323 Campus: Main Campus\, 230 Park Avenue\, Bridgeport\, CT\, 06604\, United States
CATEGORIES:Community
END:VEVENT
BEGIN:VEVENT
DTSTART;TZID=America/New_York:20241116T080000
DTEND;TZID=America/New_York:20241116T140000
DTSTAMP:20260422T014926
CREATED:20240920T000655Z
LAST-MODIFIED:20241116T174751Z
UID:90536-1731744000-1731765600@events.bridgeport.edu
SUMMARY:BCYL Tutoring
DESCRIPTION:
URL:https://events.bridgeport.edu/event/bcyl-tutoring-156/
LOCATION:MAN 311 Campus: Main Campus\, 230 Park Avenue\, Bridgeport\, CT\, 06604\, United States
CATEGORIES:Community
END:VEVENT
BEGIN:VEVENT
DTSTART;TZID=America/New_York:20241116T080000
DTEND;TZID=America/New_York:20241116T140000
DTSTAMP:20260422T014926
CREATED:20240920T000655Z
LAST-MODIFIED:20241116T174751Z
UID:90537-1731744000-1731765600@events.bridgeport.edu
SUMMARY:BCYL Tutoring
DESCRIPTION:
URL:https://events.bridgeport.edu/event/bcyl-tutoring-157/
LOCATION:MAN 210 Campus: Main Campus\, 230 Park Avenue\, Bridgeport\, CT\, 06604\, United States
CATEGORIES:Community
END:VEVENT
BEGIN:VEVENT
DTSTART;TZID=America/New_York:20241116T080000
DTEND;TZID=America/New_York:20241116T140000
DTSTAMP:20260422T014926
CREATED:20240920T000655Z
LAST-MODIFIED:20241116T174751Z
UID:90534-1731744000-1731765600@events.bridgeport.edu
SUMMARY:BCYL Tutoring
DESCRIPTION:
URL:https://events.bridgeport.edu/event/bcyl-tutoring-154/
LOCATION:MAN 322 Campus: Main Campus\, 230 Park Avenue\, Bridgeport\, CT\, 06604\, United States
CATEGORIES:Community
END:VEVENT
BEGIN:VEVENT
DTSTART;TZID=America/New_York:20241116T080000
DTEND;TZID=America/New_York:20241116T140000
DTSTAMP:20260422T014926
CREATED:20240920T000656Z
LAST-MODIFIED:20241116T174804Z
UID:90540-1731744000-1731765600@events.bridgeport.edu
SUMMARY:BCYL Tutoring
DESCRIPTION:
URL:https://events.bridgeport.edu/event/bcyl-tutoring-160/
LOCATION:MAN 320 Campus: Main Campus\, 230 Park Avenue\, Bridgeport\, CT\, 06604\, United States
CATEGORIES:Community
END:VEVENT
BEGIN:VEVENT
DTSTART;TZID=America/New_York:20241116T080000
DTEND;TZID=America/New_York:20241116T140000
DTSTAMP:20260422T014926
CREATED:20240920T000656Z
LAST-MODIFIED:20241116T174751Z
UID:90538-1731744000-1731765600@events.bridgeport.edu
SUMMARY:BCYL Tutoring
DESCRIPTION:
URL:https://events.bridgeport.edu/event/bcyl-tutoring-158/
LOCATION:MAN 316 Campus: Main Campus\, 230 Park Avenue\, Bridgeport\, CT\, 06604\, United States
CATEGORIES:Community
END:VEVENT
BEGIN:VEVENT
DTSTART;TZID=America/New_York:20241116T080000
DTEND;TZID=America/New_York:20241116T140000
DTSTAMP:20260422T014926
CREATED:20240920T000656Z
LAST-MODIFIED:20241116T174751Z
UID:90539-1731744000-1731765600@events.bridgeport.edu
SUMMARY:BCYL Tutoring
DESCRIPTION:
URL:https://events.bridgeport.edu/event/bcyl-tutoring-159/
LOCATION:MAN 318 Campus: Main Campus\, 230 Park Avenue\, Bridgeport\, CT\, 06604\, United States
CATEGORIES:Community
END:VEVENT
BEGIN:VEVENT
DTSTART;TZID=America/New_York:20241116T083000
DTEND;TZID=America/New_York:20241116T123000
DTSTAMP:20260422T014926
CREATED:20241116T140250Z
LAST-MODIFIED:20241116T163327Z
UID:97199-1731745800-1731760200@events.bridgeport.edu
SUMMARY:B2BJ Training Course
DESCRIPTION:
URL:https://events.bridgeport.edu/event/b2bj-training-course-21/
LOCATION:MAN 216 Campus: Main Campus\, 230 Park Avenue\, Bridgeport\, CT\, 06604\, United States
CATEGORIES:Community
END:VEVENT
BEGIN:VEVENT
DTSTART;TZID=America/New_York:20241116T083000
DTEND;TZID=America/New_York:20241116T150000
DTSTAMP:20260422T014926
CREATED:20240830T011829Z
LAST-MODIFIED:20240926T013703Z
UID:87710-1731745800-1731769200@events.bridgeport.edu
SUMMARY:B2BJ Training Course
DESCRIPTION:
URL:https://events.bridgeport.edu/event/b2bj-training-course-9/
LOCATION:MAN 220 Campus: Main Campus\, 230 Park Avenue\, Bridgeport\, CT\, 06604\, United States
CATEGORIES:Community
END:VEVENT
BEGIN:VEVENT
DTSTART;TZID=America/New_York:20241116T083000
DTEND;TZID=America/New_York:20241116T150000
DTSTAMP:20260422T014926
CREATED:20240926T025048Z
LAST-MODIFIED:20241116T124754Z
UID:91390-1731745800-1731769200@events.bridgeport.edu
SUMMARY:B2BJ Training Course
DESCRIPTION:
URL:https://events.bridgeport.edu/event/b2bj-training-course-18/
LOCATION:MAN 216 Campus: Main Campus\, 230 Park Avenue\, Bridgeport\, CT\, 06604\, United States
CATEGORIES:Community
END:VEVENT
BEGIN:VEVENT
DTSTART;TZID=America/New_York:20241118T003000
DTEND;TZID=America/New_York:20241118T013000
DTSTAMP:20260422T014926
CREATED:20240930T202039Z
LAST-MODIFIED:20241118T051751Z
UID:91895-1731889800-1731893400@events.bridgeport.edu
SUMMARY:Fairfield Bowling
DESCRIPTION:
URL:https://events.bridgeport.edu/event/fairfield-bowling-36/
LOCATION:JCSC UBowl Campus: Main Campus
CATEGORIES:Community
END:VEVENT
BEGIN:VEVENT
DTSTART;TZID=America/New_York:20241118T093000
DTEND;TZID=America/New_York:20241118T110000
DTSTAMP:20260422T014926
CREATED:20240913T000512Z
LAST-MODIFIED:20241118T151755Z
UID:89562-1731922200-1731927600@events.bridgeport.edu
SUMMARY:Fairfield Schools
DESCRIPTION:
URL:https://events.bridgeport.edu/event/fairfield-schools-138/
LOCATION:MAN MAN 9 Campus: Main Campus
CATEGORIES:Community
END:VEVENT
BEGIN:VEVENT
DTSTART;TZID=America/New_York:20241118T120000
DTEND;TZID=America/New_York:20241118T133000
DTSTAMP:20260422T014926
CREATED:20240830T191839Z
LAST-MODIFIED:20240930T190535Z
UID:87854-1731931200-1731936600@events.bridgeport.edu
SUMMARY:Fairfield Bowling
DESCRIPTION:
URL:https://events.bridgeport.edu/event/fairfield-bowling-25/
LOCATION:JCSC UBowl Campus: Main Campus
CATEGORIES:Community
END:VEVENT
BEGIN:VEVENT
DTSTART;TZID=America/New_York:20241119T093000
DTEND;TZID=America/New_York:20241119T110000
DTSTAMP:20260422T014926
CREATED:20240912T173431Z
LAST-MODIFIED:20241119T151855Z
UID:89294-1732008600-1732014000@events.bridgeport.edu
SUMMARY:Fairfield Schools
DESCRIPTION:
URL:https://events.bridgeport.edu/event/fairfield-schools-36/
LOCATION:MAN MAN 9 Campus: Main Campus
CATEGORIES:Community
END:VEVENT
BEGIN:VEVENT
DTSTART;TZID=America/New_York:20241120T093000
DTEND;TZID=America/New_York:20241120T110000
DTSTAMP:20260422T014926
CREATED:20240912T173431Z
LAST-MODIFIED:20241120T151751Z
UID:89295-1732095000-1732100400@events.bridgeport.edu
SUMMARY:Fairfield Schools
DESCRIPTION:
URL:https://events.bridgeport.edu/event/fairfield-schools-37/
LOCATION:MAN MAN 9 Campus: Main Campus
CATEGORIES:Community
END:VEVENT
BEGIN:VEVENT
DTSTART;TZID=America/New_York:20241120T183000
DTEND;TZID=America/New_York:20241120T200000
DTSTAMP:20260422T014926
CREATED:20241015T200455Z
LAST-MODIFIED:20241023T063524Z
UID:93662-1732127400-1732132800@events.bridgeport.edu
SUMMARY:Marcela Londono Property Meeting
DESCRIPTION:
URL:https://events.bridgeport.edu/event/marcela-londono-property-meeting/
LOCATION:JCSC KNIGHT S1 – Social Room Campus: Main Campus
CATEGORIES:Community
END:VEVENT
BEGIN:VEVENT
DTSTART;TZID=America/New_York:20241120T183000
DTEND;TZID=America/New_York:20241120T200000
DTSTAMP:20260422T014926
CREATED:20241023T074927Z
LAST-MODIFIED:20241121T001756Z
UID:94472-1732127400-1732132800@events.bridgeport.edu
SUMMARY:Marcela Londono Property Meeting
DESCRIPTION:
URL:https://events.bridgeport.edu/event/marcela-londono-property-meeting-2/
LOCATION:CC 100 Campus: Main Campus\, 75 Linden Avenue\, Bridgeport\, CT\, 06604\, United States
CATEGORIES:Community
END:VEVENT
BEGIN:VEVENT
DTSTART;TZID=America/New_York:20241121T093000
DTEND;TZID=America/New_York:20241121T110000
DTSTAMP:20260422T014926
CREATED:20240913T000512Z
LAST-MODIFIED:20241121T151749Z
UID:89563-1732181400-1732186800@events.bridgeport.edu
SUMMARY:Fairfield Schools
DESCRIPTION:
URL:https://events.bridgeport.edu/event/fairfield-schools-139/
LOCATION:MAN MAN 9 Campus: Main Campus
CATEGORIES:Community
END:VEVENT
BEGIN:VEVENT
DTSTART;TZID=America/New_York:20241122T093000
DTEND;TZID=America/New_York:20241122T110000
DTSTAMP:20260422T014926
CREATED:20240912T173431Z
LAST-MODIFIED:20241122T151750Z
UID:89296-1732267800-1732273200@events.bridgeport.edu
SUMMARY:Fairfield Schools
DESCRIPTION:
URL:https://events.bridgeport.edu/event/fairfield-schools-38/
LOCATION:MAN MAN 9 Campus: Main Campus
CATEGORIES:Community
END:VEVENT
BEGIN:VEVENT
DTSTART;TZID=America/New_York:20241122T093000
DTEND;TZID=America/New_York:20241122T113000
DTSTAMP:20260422T014926
CREATED:20240918T000532Z
LAST-MODIFIED:20241122T151750Z
UID:90212-1732267800-1732275000@events.bridgeport.edu
SUMMARY:Fairfield Edu Job Skills Training
DESCRIPTION:
URL:https://events.bridgeport.edu/event/fairfield-edu-job-skills-training-9/
LOCATION:MAN 16 Campus: Main Campus\, 230 Park Avenue\, Bridgeport\, CT\, 06604\, United States
CATEGORIES:Community
END:VEVENT
BEGIN:VEVENT
DTSTART;TZID=America/New_York:20241122T153000
DTEND;TZID=America/New_York:20241122T173000
DTSTAMP:20260422T014926
CREATED:20241113T151816Z
LAST-MODIFIED:20241122T201753Z
UID:96739-1732289400-1732296600@events.bridgeport.edu
SUMMARY:BackCountry Jazz Music Program
DESCRIPTION:
URL:https://events.bridgeport.edu/event/backcountry-jazz-music-program/
LOCATION:JCSC 213-215 Campus: Main Campus\, 244 University Avenue\, Bridgeport\, CT\, 06604\, United States
CATEGORIES:Community
END:VEVENT
BEGIN:VEVENT
DTSTART;TZID=America/New_York:20241122T153000
DTEND;TZID=America/New_York:20241122T173000
DTSTAMP:20260422T014926
CREATED:20241113T151817Z
LAST-MODIFIED:20241122T201753Z
UID:96741-1732289400-1732296600@events.bridgeport.edu
SUMMARY:BackCountry Jazz Music Program
DESCRIPTION:
URL:https://events.bridgeport.edu/event/backcountry-jazz-music-program-3/
LOCATION:JCSC 207-209 Campus: Main Campus\, 244 University Avenue\, Bridgeport\, CT\, 06604\, United States
CATEGORIES:Community
END:VEVENT
BEGIN:VEVENT
DTSTART;TZID=America/New_York:20241122T153000
DTEND;TZID=America/New_York:20241122T173000
DTSTAMP:20260422T014926
CREATED:20241113T151817Z
LAST-MODIFIED:20241122T201753Z
UID:96740-1732289400-1732296600@events.bridgeport.edu
SUMMARY:BackCountry Jazz Music Program
DESCRIPTION:
URL:https://events.bridgeport.edu/event/backcountry-jazz-music-program-2/
LOCATION:JCSC Knight S7 Campus: Main Campus
CATEGORIES:Community
END:VEVENT
BEGIN:VEVENT
DTSTART;TZID=America/New_York:20241123T083000
DTEND;TZID=America/New_York:20241123T123000
DTSTAMP:20260422T014926
CREATED:20241116T140315Z
LAST-MODIFIED:20241123T163315Z
UID:97204-1732350600-1732365000@events.bridgeport.edu
SUMMARY:B2BJ Training Course
DESCRIPTION:
URL:https://events.bridgeport.edu/event/b2bj-training-course-22/
LOCATION:MAN 216 Campus: Main Campus\, 230 Park Avenue\, Bridgeport\, CT\, 06604\, United States
CATEGORIES:Community
END:VEVENT
BEGIN:VEVENT
DTSTART;TZID=America/New_York:20241123T083000
DTEND;TZID=America/New_York:20241123T150000
DTSTAMP:20260422T014926
CREATED:20240830T011829Z
LAST-MODIFIED:20240926T013717Z
UID:87711-1732350600-1732374000@events.bridgeport.edu
SUMMARY:B2BJ Training Course
DESCRIPTION:
URL:https://events.bridgeport.edu/event/b2bj-training-course-10/
LOCATION:MAN 220 Campus: Main Campus\, 230 Park Avenue\, Bridgeport\, CT\, 06604\, United States
CATEGORIES:Community
END:VEVENT
BEGIN:VEVENT
DTSTART;TZID=America/New_York:20241123T083000
DTEND;TZID=America/New_York:20241123T150000
DTSTAMP:20260422T014926
CREATED:20240830T191840Z
LAST-MODIFIED:20241123T190250Z
UID:87855-1732350600-1732374000@events.bridgeport.edu
SUMMARY:32BJ Training Course
DESCRIPTION:
URL:https://events.bridgeport.edu/event/32bj-training-course/
LOCATION:MAN 303 Campus: Main Campus\, 230 Park Avenue\, Bridgeport\, CT\, 06604\, United States
CATEGORIES:Community
END:VEVENT
BEGIN:VEVENT
DTSTART;TZID=America/New_York:20241123T083000
DTEND;TZID=America/New_York:20241123T150000
DTSTAMP:20260422T014926
CREATED:20240926T025113Z
LAST-MODIFIED:20241116T124821Z
UID:91391-1732350600-1732374000@events.bridgeport.edu
SUMMARY:B2BJ Training Course
DESCRIPTION:
URL:https://events.bridgeport.edu/event/b2bj-training-course-19/
LOCATION:MAN 216 Campus: Main Campus\, 230 Park Avenue\, Bridgeport\, CT\, 06604\, United States
CATEGORIES:Community
END:VEVENT
BEGIN:VEVENT
DTSTART;TZID=America/New_York:20241125T003000
DTEND;TZID=America/New_York:20241125T013000
DTSTAMP:20260422T014926
CREATED:20240930T202053Z
LAST-MODIFIED:20241125T051750Z
UID:91896-1732494600-1732498200@events.bridgeport.edu
SUMMARY:Fairfield Bowling
DESCRIPTION:
URL:https://events.bridgeport.edu/event/fairfield-bowling-37/
LOCATION:JCSC UBowl Campus: Main Campus
CATEGORIES:Community
END:VEVENT
END:VCALENDAR