

BEGIN:VCALENDAR
VERSION:2.0
PRODID:-//Campus Events - ECPv6.15.20//NONSGML v1.0//EN
CALSCALE:GREGORIAN
METHOD:PUBLISH
X-WR-CALNAME:Campus Events
X-ORIGINAL-URL:https://events.bridgeport.edu
X-WR-CALDESC:Events for Campus Events
REFRESH-INTERVAL;VALUE=DURATION:PT1H
X-Robots-Tag:noindex
X-PUBLISHED-TTL:PT1H
BEGIN:VTIMEZONE
TZID:America/New_York
BEGIN:DAYLIGHT
TZOFFSETFROM:-0500
TZOFFSETTO:-0400
TZNAME:EDT
DTSTART:20240310T070000
END:DAYLIGHT
BEGIN:STANDARD
TZOFFSETFROM:-0400
TZOFFSETTO:-0500
TZNAME:EST
DTSTART:20241103T060000
END:STANDARD
BEGIN:DAYLIGHT
TZOFFSETFROM:-0500
TZOFFSETTO:-0400
TZNAME:EDT
DTSTART:20250309T070000
END:DAYLIGHT
BEGIN:STANDARD
TZOFFSETFROM:-0400
TZOFFSETTO:-0500
TZNAME:EST
DTSTART:20251102T060000
END:STANDARD
BEGIN:DAYLIGHT
TZOFFSETFROM:-0500
TZOFFSETTO:-0400
TZNAME:EDT
DTSTART:20260308T070000
END:DAYLIGHT
BEGIN:STANDARD
TZOFFSETFROM:-0400
TZOFFSETTO:-0500
TZNAME:EST
DTSTART:20261101T060000
END:STANDARD
END:VTIMEZONE
BEGIN:VEVENT
DTSTART;TZID=America/New_York:20250123T093000
DTEND;TZID=America/New_York:20250123T110000
DTSTAMP:20260421T211126
CREATED:20240913T000622Z
LAST-MODIFIED:20250123T151750Z
UID:89578-1737624600-1737630000@events.bridgeport.edu
SUMMARY:Fairfield Schools
DESCRIPTION:
URL:https://events.bridgeport.edu/event/fairfield-schools-154/
LOCATION:MAN MAN 9 Campus: Main Campus
CATEGORIES:Community
END:VEVENT
BEGIN:VEVENT
DTSTART;TZID=America/New_York:20250124T093000
DTEND;TZID=America/New_York:20250124T110000
DTSTAMP:20260421T211126
CREATED:20240912T173520Z
LAST-MODIFIED:20250124T151749Z
UID:89320-1737711000-1737716400@events.bridgeport.edu
SUMMARY:Fairfield Schools
DESCRIPTION:
URL:https://events.bridgeport.edu/event/fairfield-schools-62/
LOCATION:MAN MAN 9 Campus: Main Campus
CATEGORIES:Community
END:VEVENT
BEGIN:VEVENT
DTSTART;TZID=America/New_York:20250124T153000
DTEND;TZID=America/New_York:20250124T173000
DTSTAMP:20260421T211126
CREATED:20241114T000600Z
LAST-MODIFIED:20250124T201750Z
UID:96795-1737732600-1737739800@events.bridgeport.edu
SUMMARY:BackCountry Jazz Music Program
DESCRIPTION:
URL:https://events.bridgeport.edu/event/backcountry-jazz-music-program-25/
LOCATION:JCSC Knight S7 Campus: Main Campus
CATEGORIES:Community
END:VEVENT
BEGIN:VEVENT
DTSTART;TZID=America/New_York:20250124T153000
DTEND;TZID=America/New_York:20250124T173000
DTSTAMP:20260421T211126
CREATED:20241114T000600Z
LAST-MODIFIED:20250124T201750Z
UID:96796-1737732600-1737739800@events.bridgeport.edu
SUMMARY:BackCountry Jazz Music Program
DESCRIPTION:
URL:https://events.bridgeport.edu/event/backcountry-jazz-music-program-26/
LOCATION:JCSC 213-215 Campus: Main Campus\, 244 University Avenue\, Bridgeport\, CT\, 06604\, United States
CATEGORIES:Community
END:VEVENT
BEGIN:VEVENT
DTSTART;TZID=America/New_York:20250124T153000
DTEND;TZID=America/New_York:20250124T173000
DTSTAMP:20260421T211126
CREATED:20241114T000600Z
LAST-MODIFIED:20250124T201749Z
UID:96797-1737732600-1737739800@events.bridgeport.edu
SUMMARY:BackCountry Jazz Music Program
DESCRIPTION:
URL:https://events.bridgeport.edu/event/backcountry-jazz-music-program-27/
LOCATION:JCSC 207-209 Campus: Main Campus\, 244 University Avenue\, Bridgeport\, CT\, 06604\, United States
CATEGORIES:Community
END:VEVENT
BEGIN:VEVENT
DTSTART;TZID=America/New_York:20250125T080000
DTEND;TZID=America/New_York:20250125T140000
DTSTAMP:20260421T211126
CREATED:20241003T040847Z
LAST-MODIFIED:20250125T174751Z
UID:92182-1737792000-1737813600@events.bridgeport.edu
SUMMARY:BCYL
DESCRIPTION:
URL:https://events.bridgeport.edu/event/bcyl-33/
LOCATION:MAN 323 Campus: Main Campus\, 230 Park Avenue\, Bridgeport\, CT\, 06604\, United States
CATEGORIES:Community
END:VEVENT
BEGIN:VEVENT
DTSTART;TZID=America/New_York:20250125T080000
DTEND;TZID=America/New_York:20250125T140000
DTSTAMP:20260421T211126
CREATED:20241003T040847Z
LAST-MODIFIED:20250125T174750Z
UID:92183-1737792000-1737813600@events.bridgeport.edu
SUMMARY:BCYL
DESCRIPTION:
URL:https://events.bridgeport.edu/event/bcyl-34/
LOCATION:MAN 320 Campus: Main Campus\, 230 Park Avenue\, Bridgeport\, CT\, 06604\, United States
CATEGORIES:Community
END:VEVENT
BEGIN:VEVENT
DTSTART;TZID=America/New_York:20250125T080000
DTEND;TZID=America/New_York:20250125T140000
DTSTAMP:20260421T211126
CREATED:20241003T040847Z
LAST-MODIFIED:20250125T174750Z
UID:92184-1737792000-1737813600@events.bridgeport.edu
SUMMARY:BCYL
DESCRIPTION:
URL:https://events.bridgeport.edu/event/bcyl-35/
LOCATION:MAN 311 Campus: Main Campus\, 230 Park Avenue\, Bridgeport\, CT\, 06604\, United States
CATEGORIES:Community
END:VEVENT
BEGIN:VEVENT
DTSTART;TZID=America/New_York:20250125T080000
DTEND;TZID=America/New_York:20250125T140000
DTSTAMP:20260421T211126
CREATED:20241003T040847Z
LAST-MODIFIED:20250125T174750Z
UID:92185-1737792000-1737813600@events.bridgeport.edu
SUMMARY:BCYL
DESCRIPTION:
URL:https://events.bridgeport.edu/event/bcyl-36/
LOCATION:MAN 316 Campus: Main Campus\, 230 Park Avenue\, Bridgeport\, CT\, 06604\, United States
CATEGORIES:Community
END:VEVENT
BEGIN:VEVENT
DTSTART;TZID=America/New_York:20250125T080000
DTEND;TZID=America/New_York:20250125T140000
DTSTAMP:20260421T211126
CREATED:20241003T040848Z
LAST-MODIFIED:20250125T174750Z
UID:92186-1737792000-1737813600@events.bridgeport.edu
SUMMARY:BCYL
DESCRIPTION:
URL:https://events.bridgeport.edu/event/bcyl-37/
LOCATION:MAN 321 Campus: Main Campus\, 230 Park Avenue\, Bridgeport\, CT\, 06604\, United States
CATEGORIES:Community
END:VEVENT
BEGIN:VEVENT
DTSTART;TZID=America/New_York:20250125T080000
DTEND;TZID=America/New_York:20250125T140000
DTSTAMP:20260421T211126
CREATED:20241003T040848Z
LAST-MODIFIED:20250111T090328Z
UID:92187-1737792000-1737813600@events.bridgeport.edu
SUMMARY:BCYL
DESCRIPTION:
URL:https://events.bridgeport.edu/event/bcyl-38/
LOCATION:MAN 319 Campus: Main Campus\, 230 Park Avenue\, Bridgeport\, CT\, 06604\, United States
CATEGORIES:Community
END:VEVENT
BEGIN:VEVENT
DTSTART;TZID=America/New_York:20250125T080000
DTEND;TZID=America/New_York:20250125T140000
DTSTAMP:20260421T211126
CREATED:20241003T040848Z
LAST-MODIFIED:20250125T174751Z
UID:92188-1737792000-1737813600@events.bridgeport.edu
SUMMARY:BCYL
DESCRIPTION:
URL:https://events.bridgeport.edu/event/bcyl-39/
LOCATION:MAN 322 Campus: Main Campus\, 230 Park Avenue\, Bridgeport\, CT\, 06604\, United States
CATEGORIES:Community
END:VEVENT
BEGIN:VEVENT
DTSTART;TZID=America/New_York:20250125T080000
DTEND;TZID=America/New_York:20250125T140000
DTSTAMP:20260421T211126
CREATED:20241003T040848Z
LAST-MODIFIED:20250125T174751Z
UID:92189-1737792000-1737813600@events.bridgeport.edu
SUMMARY:BCYL
DESCRIPTION:
URL:https://events.bridgeport.edu/event/bcyl-40/
LOCATION:MAN 318 Campus: Main Campus\, 230 Park Avenue\, Bridgeport\, CT\, 06604\, United States
CATEGORIES:Community
END:VEVENT
BEGIN:VEVENT
DTSTART;TZID=America/New_York:20250125T080000
DTEND;TZID=America/New_York:20250125T140000
DTSTAMP:20260421T211126
CREATED:20250111T101829Z
LAST-MODIFIED:20250125T174750Z
UID:103092-1737792000-1737813600@events.bridgeport.edu
SUMMARY:BCYL
DESCRIPTION:
URL:https://events.bridgeport.edu/event/bcyl-81/
LOCATION:MAN 222 Campus: Main Campus\, 230 Park Avenue\, Bridgeport\, CT\, 06604\, United States
CATEGORIES:Community
END:VEVENT
BEGIN:VEVENT
DTSTART;TZID=America/New_York:20250125T080000
DTEND;TZID=America/New_York:20250125T140000
DTSTAMP:20260421T211126
CREATED:20250111T101829Z
LAST-MODIFIED:20250125T174751Z
UID:103093-1737792000-1737813600@events.bridgeport.edu
SUMMARY:BCYL
DESCRIPTION:
URL:https://events.bridgeport.edu/event/bcyl-82/
LOCATION:MAN 223 Campus: Main Campus\, 230 Park Avenue\, Bridgeport\, CT\, 06604\, United States
CATEGORIES:Community
END:VEVENT
BEGIN:VEVENT
DTSTART;TZID=America/New_York:20250125T083000
DTEND;TZID=America/New_York:20250125T133000
DTSTAMP:20260421T211126
CREATED:20241220T124927Z
LAST-MODIFIED:20250125T174750Z
UID:100716-1737793800-1737811800@events.bridgeport.edu
SUMMARY:32BJ Training Program
DESCRIPTION:
URL:https://events.bridgeport.edu/event/32bj-training-program/
LOCATION:MAN 216 Campus: Main Campus\, 230 Park Avenue\, Bridgeport\, CT\, 06604\, United States
CATEGORIES:Community
END:VEVENT
BEGIN:VEVENT
DTSTART;TZID=America/New_York:20250127T093000
DTEND;TZID=America/New_York:20250127T110000
DTSTAMP:20260421T211126
CREATED:20240912T173520Z
LAST-MODIFIED:20250127T150251Z
UID:89321-1737970200-1737975600@events.bridgeport.edu
SUMMARY:Fairfield Schools
DESCRIPTION:
URL:https://events.bridgeport.edu/event/fairfield-schools-63/
LOCATION:MAN MAN 9 Campus: Main Campus
CATEGORIES:Community
END:VEVENT
BEGIN:VEVENT
DTSTART;TZID=America/New_York:20250128T093000
DTEND;TZID=America/New_York:20250128T110000
DTSTAMP:20260421T211126
CREATED:20240912T173520Z
LAST-MODIFIED:20250128T154749Z
UID:89322-1738056600-1738062000@events.bridgeport.edu
SUMMARY:Fairfield Schools
DESCRIPTION:
URL:https://events.bridgeport.edu/event/fairfield-schools-64/
LOCATION:MAN MAN 9 Campus: Main Campus
CATEGORIES:Community
END:VEVENT
BEGIN:VEVENT
DTSTART;TZID=America/New_York:20250129T093000
DTEND;TZID=America/New_York:20250129T110000
DTSTAMP:20260421T211126
CREATED:20240912T173520Z
LAST-MODIFIED:20250129T150249Z
UID:89323-1738143000-1738148400@events.bridgeport.edu
SUMMARY:Fairfield Schools
DESCRIPTION:
URL:https://events.bridgeport.edu/event/fairfield-schools-65/
LOCATION:MAN MAN 9 Campus: Main Campus
CATEGORIES:Community
END:VEVENT
BEGIN:VEVENT
DTSTART;TZID=America/New_York:20250130T093000
DTEND;TZID=America/New_York:20250130T110000
DTSTAMP:20260421T211126
CREATED:20240912T173520Z
LAST-MODIFIED:20250130T151750Z
UID:89324-1738229400-1738234800@events.bridgeport.edu
SUMMARY:Fairfield Schools
DESCRIPTION:
URL:https://events.bridgeport.edu/event/fairfield-schools-66/
LOCATION:MAN MAN 9 Campus: Main Campus
CATEGORIES:Community
END:VEVENT
BEGIN:VEVENT
DTSTART;TZID=America/New_York:20250131T093000
DTEND;TZID=America/New_York:20250131T110000
DTSTAMP:20260421T211126
CREATED:20240912T173520Z
LAST-MODIFIED:20250131T151750Z
UID:89325-1738315800-1738321200@events.bridgeport.edu
SUMMARY:Fairfield Schools
DESCRIPTION:
URL:https://events.bridgeport.edu/event/fairfield-schools-67/
LOCATION:MAN MAN 9 Campus: Main Campus
CATEGORIES:Community
END:VEVENT
BEGIN:VEVENT
DTSTART;TZID=America/New_York:20250131T153000
DTEND;TZID=America/New_York:20250131T173000
DTSTAMP:20260421T211126
CREATED:20241114T000627Z
LAST-MODIFIED:20250131T201819Z
UID:96798-1738337400-1738344600@events.bridgeport.edu
SUMMARY:BackCountry Jazz Music Program
DESCRIPTION:
URL:https://events.bridgeport.edu/event/backcountry-jazz-music-program-28/
LOCATION:JCSC 207-209 Campus: Main Campus\, 244 University Avenue\, Bridgeport\, CT\, 06604\, United States
CATEGORIES:Community
END:VEVENT
BEGIN:VEVENT
DTSTART;TZID=America/New_York:20250131T153000
DTEND;TZID=America/New_York:20250131T173000
DTSTAMP:20260421T211126
CREATED:20241114T000627Z
LAST-MODIFIED:20250131T201819Z
UID:96799-1738337400-1738344600@events.bridgeport.edu
SUMMARY:BackCountry Jazz Music Program
DESCRIPTION:
URL:https://events.bridgeport.edu/event/backcountry-jazz-music-program-29/
LOCATION:JCSC Knight S7 Campus: Main Campus
CATEGORIES:Community
END:VEVENT
BEGIN:VEVENT
DTSTART;TZID=America/New_York:20250131T153000
DTEND;TZID=America/New_York:20250131T173000
DTSTAMP:20260421T211126
CREATED:20241114T000627Z
LAST-MODIFIED:20250131T201819Z
UID:96800-1738337400-1738344600@events.bridgeport.edu
SUMMARY:BackCountry Jazz Music Program
DESCRIPTION:
URL:https://events.bridgeport.edu/event/backcountry-jazz-music-program-30/
LOCATION:JCSC 213-215 Campus: Main Campus\, 244 University Avenue\, Bridgeport\, CT\, 06604\, United States
CATEGORIES:Community
END:VEVENT
BEGIN:VEVENT
DTSTART;TZID=America/New_York:20250131T180000
DTEND;TZID=America/New_York:20250131T200000
DTSTAMP:20260421T211126
CREATED:20250123T000328Z
LAST-MODIFIED:20250124T174815Z
UID:104348-1738346400-1738353600@events.bridgeport.edu
SUMMARY:ARV-RYSAP Community Conversations
DESCRIPTION:
URL:https://events.bridgeport.edu/event/arv-rysap-community-conversations/
LOCATION:WAHL HC Main Area  Campus: Main Campus
CATEGORIES:Community
END:VEVENT
BEGIN:VEVENT
DTSTART;TZID=America/New_York:20250131T180000
DTEND;TZID=America/New_York:20250131T200000
DTSTAMP:20260421T211126
CREATED:20250124T190352Z
LAST-MODIFIED:20250201T001750Z
UID:104578-1738346400-1738353600@events.bridgeport.edu
SUMMARY:ARV-Catalyst CT: Community Conversations
DESCRIPTION:
URL:https://events.bridgeport.edu/event/arv-catalyst-ct-community-conversations/
LOCATION:WAHL HC Main Area  Campus: Main Campus
CATEGORIES:Community
END:VEVENT
BEGIN:VEVENT
DTSTART;TZID=America/New_York:20250201T080000
DTEND;TZID=America/New_York:20250201T140000
DTSTAMP:20260421T211126
CREATED:20241003T040901Z
LAST-MODIFIED:20250201T184749Z
UID:92190-1738396800-1738418400@events.bridgeport.edu
SUMMARY:BCYL
DESCRIPTION:
URL:https://events.bridgeport.edu/event/bcyl-41/
LOCATION:MAN 318 Campus: Main Campus\, 230 Park Avenue\, Bridgeport\, CT\, 06604\, United States
CATEGORIES:Community
END:VEVENT
BEGIN:VEVENT
DTSTART;TZID=America/New_York:20250201T080000
DTEND;TZID=America/New_York:20250201T140000
DTSTAMP:20260421T211126
CREATED:20241003T040902Z
LAST-MODIFIED:20250201T184749Z
UID:92191-1738396800-1738418400@events.bridgeport.edu
SUMMARY:BCYL
DESCRIPTION:
URL:https://events.bridgeport.edu/event/bcyl-42/
LOCATION:MAN 322 Campus: Main Campus\, 230 Park Avenue\, Bridgeport\, CT\, 06604\, United States
CATEGORIES:Community
END:VEVENT
BEGIN:VEVENT
DTSTART;TZID=America/New_York:20250201T080000
DTEND;TZID=America/New_York:20250201T140000
DTSTAMP:20260421T211126
CREATED:20241003T040902Z
LAST-MODIFIED:20250201T184749Z
UID:92192-1738396800-1738418400@events.bridgeport.edu
SUMMARY:BCYL
DESCRIPTION:
URL:https://events.bridgeport.edu/event/bcyl-43/
LOCATION:MAN 323 Campus: Main Campus\, 230 Park Avenue\, Bridgeport\, CT\, 06604\, United States
CATEGORIES:Community
END:VEVENT
BEGIN:VEVENT
DTSTART;TZID=America/New_York:20250201T080000
DTEND;TZID=America/New_York:20250201T140000
DTSTAMP:20260421T211126
CREATED:20241003T040902Z
LAST-MODIFIED:20250201T184749Z
UID:92193-1738396800-1738418400@events.bridgeport.edu
SUMMARY:BCYL
DESCRIPTION:
URL:https://events.bridgeport.edu/event/bcyl-44/
LOCATION:MAN 316 Campus: Main Campus\, 230 Park Avenue\, Bridgeport\, CT\, 06604\, United States
CATEGORIES:Community
END:VEVENT
END:VCALENDAR