

BEGIN:VCALENDAR
VERSION:2.0
PRODID:-//Campus Events - ECPv6.15.20//NONSGML v1.0//EN
CALSCALE:GREGORIAN
METHOD:PUBLISH
X-ORIGINAL-URL:https://events.bridgeport.edu
X-WR-CALDESC:Events for Campus Events
REFRESH-INTERVAL;VALUE=DURATION:PT1H
X-Robots-Tag:noindex
X-PUBLISHED-TTL:PT1H
BEGIN:VTIMEZONE
TZID:America/New_York
BEGIN:DAYLIGHT
TZOFFSETFROM:-0500
TZOFFSETTO:-0400
TZNAME:EDT
DTSTART:20230312T070000
END:DAYLIGHT
BEGIN:STANDARD
TZOFFSETFROM:-0400
TZOFFSETTO:-0500
TZNAME:EST
DTSTART:20231105T060000
END:STANDARD
BEGIN:DAYLIGHT
TZOFFSETFROM:-0500
TZOFFSETTO:-0400
TZNAME:EDT
DTSTART:20240310T070000
END:DAYLIGHT
BEGIN:STANDARD
TZOFFSETFROM:-0400
TZOFFSETTO:-0500
TZNAME:EST
DTSTART:20241103T060000
END:STANDARD
BEGIN:DAYLIGHT
TZOFFSETFROM:-0500
TZOFFSETTO:-0400
TZNAME:EDT
DTSTART:20250309T070000
END:DAYLIGHT
BEGIN:STANDARD
TZOFFSETFROM:-0400
TZOFFSETTO:-0500
TZNAME:EST
DTSTART:20251102T060000
END:STANDARD
END:VTIMEZONE
BEGIN:VEVENT
DTSTART;TZID=America/New_York:20240720T083000
DTEND;TZID=America/New_York:20240720T140000
DTSTAMP:20260422T060653
CREATED:20240610T200815Z
LAST-MODIFIED:20240720T174748Z
UID:79436-1721464200-1721484000@events.bridgeport.edu
SUMMARY:Bridgeport Caribe Youth Leaders Saturday Summer Tutoring 2024
DESCRIPTION:
URL:https://events.bridgeport.edu/event/bridgeport-caribe-youth-leaders-saturday-summer-tutoring-2024-8/
LOCATION:MAN 320 Campus: Main Campus\, 230 Park Avenue\, Bridgeport\, CT\, 06604\, United States
CATEGORIES:Community
END:VEVENT
BEGIN:VEVENT
DTSTART;TZID=America/New_York:20240720T083000
DTEND;TZID=America/New_York:20240720T140000
DTSTAMP:20260422T060653
CREATED:20240610T200815Z
LAST-MODIFIED:20240720T174748Z
UID:79437-1721464200-1721484000@events.bridgeport.edu
SUMMARY:Bridgeport Caribe Youth Leaders Summer Tutoring 2024
DESCRIPTION:
URL:https://events.bridgeport.edu/event/bridgeport-caribe-youth-leaders-summer-tutoring-2024-3/
LOCATION:MAN 218 Campus: Main Campus\, 230 Park Avenue\, Bridgeport\, CT\, 06604\, United States
CATEGORIES:Community
END:VEVENT
BEGIN:VEVENT
DTSTART;TZID=America/New_York:20240720T083000
DTEND;TZID=America/New_York:20240720T140000
DTSTAMP:20260422T060653
CREATED:20240610T200815Z
LAST-MODIFIED:20240720T174748Z
UID:79438-1721464200-1721484000@events.bridgeport.edu
SUMMARY:Bridgeport Caribe Youth Leaders Saturday Summer Tutoring 2024
DESCRIPTION:
URL:https://events.bridgeport.edu/event/bridgeport-caribe-youth-leaders-saturday-summer-tutoring-2024-9/
LOCATION:MAN 311 Campus: Main Campus\, 230 Park Avenue\, Bridgeport\, CT\, 06604\, United States
CATEGORIES:Community
END:VEVENT
BEGIN:VEVENT
DTSTART;TZID=America/New_York:20240720T083000
DTEND;TZID=America/New_York:20240720T140000
DTSTAMP:20260422T060653
CREATED:20240610T200815Z
LAST-MODIFIED:20240720T174748Z
UID:79439-1721464200-1721484000@events.bridgeport.edu
SUMMARY:Bridgeport Caribe Youth Leaders Summer Tutoring 2024
DESCRIPTION:
URL:https://events.bridgeport.edu/event/bridgeport-caribe-youth-leaders-summer-tutoring-2024-4/
LOCATION:MAN 220 Campus: Main Campus\, 230 Park Avenue\, Bridgeport\, CT\, 06604\, United States
CATEGORIES:Community
END:VEVENT
BEGIN:VEVENT
DTSTART;TZID=America/New_York:20240720T083000
DTEND;TZID=America/New_York:20240720T140000
DTSTAMP:20260422T060653
CREATED:20240610T200815Z
LAST-MODIFIED:20240720T174748Z
UID:79440-1721464200-1721484000@events.bridgeport.edu
SUMMARY:Bridgeport Caribe Youth Leaders Saturday Summer Tutoring 2024
DESCRIPTION:
URL:https://events.bridgeport.edu/event/bridgeport-caribe-youth-leaders-saturday-summer-tutoring-2024-10/
LOCATION:MAN 322 Campus: Main Campus\, 230 Park Avenue\, Bridgeport\, CT\, 06604\, United States
CATEGORIES:Community
END:VEVENT
BEGIN:VEVENT
DTSTART;TZID=America/New_York:20240720T083000
DTEND;TZID=America/New_York:20240720T140000
DTSTAMP:20260422T060653
CREATED:20240610T200828Z
LAST-MODIFIED:20240720T174748Z
UID:79441-1721464200-1721484000@events.bridgeport.edu
SUMMARY:Bridgeport Caribe Youth Leaders Saturday Summer Tutoring 2024
DESCRIPTION:
URL:https://events.bridgeport.edu/event/bridgeport-caribe-youth-leaders-saturday-summer-tutoring-2024-11/
LOCATION:MAN 318 Campus: Main Campus\, 230 Park Avenue\, Bridgeport\, CT\, 06604\, United States
CATEGORIES:Community
END:VEVENT
BEGIN:VEVENT
DTSTART;TZID=America/New_York:20240720T083000
DTEND;TZID=America/New_York:20240720T140000
DTSTAMP:20260422T060653
CREATED:20240610T200828Z
LAST-MODIFIED:20240720T174748Z
UID:79442-1721464200-1721484000@events.bridgeport.edu
SUMMARY:Bridgeport Caribe Youth Leaders Saturday Summer Tutoring 2024
DESCRIPTION:
URL:https://events.bridgeport.edu/event/bridgeport-caribe-youth-leaders-saturday-summer-tutoring-2024-12/
LOCATION:MAN 319 Campus: Main Campus\, 230 Park Avenue\, Bridgeport\, CT\, 06604\, United States
CATEGORIES:Community
END:VEVENT
BEGIN:VEVENT
DTSTART;TZID=America/New_York:20240720T083000
DTEND;TZID=America/New_York:20240720T140000
DTSTAMP:20260422T060653
CREATED:20240610T200829Z
LAST-MODIFIED:20240720T174748Z
UID:79443-1721464200-1721484000@events.bridgeport.edu
SUMMARY:Bridgeport Caribe Youth Leaders Saturday Summer Tutoring 2024
DESCRIPTION:
URL:https://events.bridgeport.edu/event/bridgeport-caribe-youth-leaders-saturday-summer-tutoring-2024-13/
LOCATION:MAN 316 Campus: Main Campus\, 230 Park Avenue\, Bridgeport\, CT\, 06604\, United States
CATEGORIES:Community
END:VEVENT
BEGIN:VEVENT
DTSTART;TZID=America/New_York:20240720T083000
DTEND;TZID=America/New_York:20240720T140000
DTSTAMP:20260422T060653
CREATED:20240610T200829Z
LAST-MODIFIED:20240720T174748Z
UID:79444-1721464200-1721484000@events.bridgeport.edu
SUMMARY:Bridgeport Caribe Youth Leaders Saturday Summer Tutoring 2024
DESCRIPTION:
URL:https://events.bridgeport.edu/event/bridgeport-caribe-youth-leaders-saturday-summer-tutoring-2024-14/
LOCATION:MAN 321 Campus: Main Campus\, 230 Park Avenue\, Bridgeport\, CT\, 06604\, United States
CATEGORIES:Community
END:VEVENT
BEGIN:VEVENT
DTSTART;TZID=America/New_York:20240722T090000
DTEND;TZID=America/New_York:20240722T150000
DTSTAMP:20260422T060653
CREATED:20240516T075047Z
LAST-MODIFIED:20240610T185128Z
UID:76539-1721638800-1721660400@events.bridgeport.edu
SUMMARY:Back Country Jazz Summer Camp 2024
DESCRIPTION:
URL:https://events.bridgeport.edu/event/back-country-jazz-summer-camp-2024-61/
LOCATION:MAN 201 Campus: Main Campus\, 230 Park Avenue\, Bridgeport\, CT\, 06604\, United States
CATEGORIES:Community
END:VEVENT
BEGIN:VEVENT
DTSTART;TZID=America/New_York:20240722T090000
DTEND;TZID=America/New_York:20240722T150000
DTSTAMP:20260422T060653
CREATED:20240516T075047Z
LAST-MODIFIED:20240722T180252Z
UID:76540-1721638800-1721660400@events.bridgeport.edu
SUMMARY:Back Country Jazz Summer Camp 2024
DESCRIPTION:
URL:https://events.bridgeport.edu/event/back-country-jazz-summer-camp-2024-62/
LOCATION:JCSC 205 Campus: Main Campus\, 244 University Avenue\, Bridgeport\, CT\, 06604\, United States
CATEGORIES:Community
END:VEVENT
BEGIN:VEVENT
DTSTART;TZID=America/New_York:20240722T090000
DTEND;TZID=America/New_York:20240722T150000
DTSTAMP:20260422T060653
CREATED:20240516T075059Z
LAST-MODIFIED:20240722T180252Z
UID:76543-1721638800-1721660400@events.bridgeport.edu
SUMMARY:Back Country Jazz Summer Camp 2024
DESCRIPTION:
URL:https://events.bridgeport.edu/event/back-country-jazz-summer-camp-2024-65/
LOCATION:MAN 3 Campus: Main Campus\, 230 Park Avenue\, Bridgeport\, CT\, 06604\, United States
CATEGORIES:Community
END:VEVENT
BEGIN:VEVENT
DTSTART;TZID=America/New_York:20240722T090000
DTEND;TZID=America/New_York:20240722T150000
DTSTAMP:20260422T060653
CREATED:20240516T075059Z
LAST-MODIFIED:20240722T180252Z
UID:76544-1721638800-1721660400@events.bridgeport.edu
SUMMARY:BackCountry Jazz Summer Camp 2024
DESCRIPTION:
URL:https://events.bridgeport.edu/event/backcountry-jazz-summer-camp-2024-11/
LOCATION:JCSC KNIGHT S2 – Commuter Lounge Campus: Main Campus
CATEGORIES:Community
END:VEVENT
BEGIN:VEVENT
DTSTART;TZID=America/New_York:20240722T090000
DTEND;TZID=America/New_York:20240722T150000
DTSTAMP:20260422T060653
CREATED:20240516T075059Z
LAST-MODIFIED:20240517T183557Z
UID:76541-1721638800-1721660400@events.bridgeport.edu
SUMMARY:Back Country Jazz Summer Camp 2024
DESCRIPTION:
URL:https://events.bridgeport.edu/event/back-country-jazz-summer-camp-2024-63/
LOCATION:JCSC Knight S7 Campus: Main Campus
CATEGORIES:Community
END:VEVENT
BEGIN:VEVENT
DTSTART;TZID=America/New_York:20240722T090000
DTEND;TZID=America/New_York:20240722T150000
DTSTAMP:20260422T060653
CREATED:20240516T075059Z
LAST-MODIFIED:20240722T180252Z
UID:76542-1721638800-1721660400@events.bridgeport.edu
SUMMARY:Back Country Jazz Summer Camp 2024
DESCRIPTION:
URL:https://events.bridgeport.edu/event/back-country-jazz-summer-camp-2024-64/
LOCATION:JCSC 207-209 Campus: Main Campus\, 244 University Avenue\, Bridgeport\, CT\, 06604\, United States
CATEGORIES:Community
END:VEVENT
BEGIN:VEVENT
DTSTART;TZID=America/New_York:20240722T090000
DTEND;TZID=America/New_York:20240722T150000
DTSTAMP:20260422T060653
CREATED:20240516T075100Z
LAST-MODIFIED:20240722T180252Z
UID:76545-1721638800-1721660400@events.bridgeport.edu
SUMMARY:Back Country Jazz Summer Camp 2024
DESCRIPTION:
URL:https://events.bridgeport.edu/event/back-country-jazz-summer-camp-2024-66/
LOCATION:MAN 1 Campus: Main Campus\, 230 Park Avenue\, Bridgeport\, CT\, 06604\, United States
CATEGORIES:Community
END:VEVENT
BEGIN:VEVENT
DTSTART;TZID=America/New_York:20240722T090000
DTEND;TZID=America/New_York:20240722T150000
DTSTAMP:20260422T060653
CREATED:20240610T200829Z
LAST-MODIFIED:20240722T180252Z
UID:79445-1721638800-1721660400@events.bridgeport.edu
SUMMARY:BackCountry Jazz Summer Camp 2024
DESCRIPTION:
URL:https://events.bridgeport.edu/event/backcountry-jazz-summer-camp-2024-31/
LOCATION:MAN 16 Campus: Main Campus\, 230 Park Avenue\, Bridgeport\, CT\, 06604\, United States
CATEGORIES:Community
END:VEVENT
BEGIN:VEVENT
DTSTART;TZID=America/New_York:20240723T083000
DTEND;TZID=America/New_York:20240723T140000
DTSTAMP:20260422T060653
CREATED:20240610T200843Z
LAST-MODIFIED:20240723T174749Z
UID:79447-1721723400-1721743200@events.bridgeport.edu
SUMMARY:Bridgeport Caribe Youth Leaders S.U.C.C.E.S.S Summer Program
DESCRIPTION:
URL:https://events.bridgeport.edu/event/bridgeport-caribe-youth-leaders-s-u-c-c-e-s-s-summer-program-5/
LOCATION:MAN 301 Campus: Main Campus\, 230 Park Avenue\, Bridgeport\, CT\, 06604\, United States
CATEGORIES:Community
END:VEVENT
BEGIN:VEVENT
DTSTART;TZID=America/New_York:20240723T090000
DTEND;TZID=America/New_York:20240723T150000
DTSTAMP:20260422T060653
CREATED:20240516T075100Z
LAST-MODIFIED:20240517T183558Z
UID:76549-1721725200-1721746800@events.bridgeport.edu
SUMMARY:Back Country Jazz Summer Camp 2024
DESCRIPTION:
URL:https://events.bridgeport.edu/event/back-country-jazz-summer-camp-2024-69/
LOCATION:JCSC Knight S7 Campus: Main Campus
CATEGORIES:Community
END:VEVENT
BEGIN:VEVENT
DTSTART;TZID=America/New_York:20240723T090000
DTEND;TZID=America/New_York:20240723T150000
DTSTAMP:20260422T060653
CREATED:20240516T075100Z
LAST-MODIFIED:20240723T184747Z
UID:76550-1721725200-1721746800@events.bridgeport.edu
SUMMARY:Back Country Jazz Summer Camp 2024
DESCRIPTION:
URL:https://events.bridgeport.edu/event/back-country-jazz-summer-camp-2024-70/
LOCATION:MAN 1 Campus: Main Campus\, 230 Park Avenue\, Bridgeport\, CT\, 06604\, United States
CATEGORIES:Community
END:VEVENT
BEGIN:VEVENT
DTSTART;TZID=America/New_York:20240723T090000
DTEND;TZID=America/New_York:20240723T150000
DTSTAMP:20260422T060653
CREATED:20240516T075100Z
LAST-MODIFIED:20240610T185140Z
UID:76546-1721725200-1721746800@events.bridgeport.edu
SUMMARY:Back Country Jazz Summer Camp 2024
DESCRIPTION:
URL:https://events.bridgeport.edu/event/back-country-jazz-summer-camp-2024-67/
LOCATION:MAN 201 Campus: Main Campus\, 230 Park Avenue\, Bridgeport\, CT\, 06604\, United States
CATEGORIES:Community
END:VEVENT
BEGIN:VEVENT
DTSTART;TZID=America/New_York:20240723T090000
DTEND;TZID=America/New_York:20240723T150000
DTSTAMP:20260422T060653
CREATED:20240516T075100Z
LAST-MODIFIED:20240723T184747Z
UID:76547-1721725200-1721746800@events.bridgeport.edu
SUMMARY:BackCountry Jazz Summer Camp 2024
DESCRIPTION:
URL:https://events.bridgeport.edu/event/backcountry-jazz-summer-camp-2024-12/
LOCATION:JCSC KNIGHT S2 – Commuter Lounge Campus: Main Campus
CATEGORIES:Community
END:VEVENT
BEGIN:VEVENT
DTSTART;TZID=America/New_York:20240723T090000
DTEND;TZID=America/New_York:20240723T150000
DTSTAMP:20260422T060653
CREATED:20240516T075100Z
LAST-MODIFIED:20240723T184747Z
UID:76548-1721725200-1721746800@events.bridgeport.edu
SUMMARY:Back Country Jazz Summer Camp 2024
DESCRIPTION:
URL:https://events.bridgeport.edu/event/back-country-jazz-summer-camp-2024-68/
LOCATION:MAN 3 Campus: Main Campus\, 230 Park Avenue\, Bridgeport\, CT\, 06604\, United States
CATEGORIES:Community
END:VEVENT
BEGIN:VEVENT
DTSTART;TZID=America/New_York:20240723T090000
DTEND;TZID=America/New_York:20240723T150000
DTSTAMP:20260422T060653
CREATED:20240516T075112Z
LAST-MODIFIED:20240723T184747Z
UID:76551-1721725200-1721746800@events.bridgeport.edu
SUMMARY:Back Country Jazz Summer Camp 2024
DESCRIPTION:
URL:https://events.bridgeport.edu/event/back-country-jazz-summer-camp-2024-71/
LOCATION:JCSC 207-209 Campus: Main Campus\, 244 University Avenue\, Bridgeport\, CT\, 06604\, United States
CATEGORIES:Community
END:VEVENT
BEGIN:VEVENT
DTSTART;TZID=America/New_York:20240723T090000
DTEND;TZID=America/New_York:20240723T150000
DTSTAMP:20260422T060653
CREATED:20240516T075112Z
LAST-MODIFIED:20240723T184747Z
UID:76552-1721725200-1721746800@events.bridgeport.edu
SUMMARY:Back Country Jazz Summer Camp 2024
DESCRIPTION:
URL:https://events.bridgeport.edu/event/back-country-jazz-summer-camp-2024-72/
LOCATION:JCSC 205 Campus: Main Campus\, 244 University Avenue\, Bridgeport\, CT\, 06604\, United States
CATEGORIES:Community
END:VEVENT
BEGIN:VEVENT
DTSTART;TZID=America/New_York:20240723T090000
DTEND;TZID=America/New_York:20240723T150000
DTSTAMP:20260422T060653
CREATED:20240610T200842Z
LAST-MODIFIED:20240723T184747Z
UID:79446-1721725200-1721746800@events.bridgeport.edu
SUMMARY:BackCountry Jazz Summer Camp 2024
DESCRIPTION:
URL:https://events.bridgeport.edu/event/backcountry-jazz-summer-camp-2024-32/
LOCATION:MAN 16 Campus: Main Campus\, 230 Park Avenue\, Bridgeport\, CT\, 06604\, United States
CATEGORIES:Community
END:VEVENT
BEGIN:VEVENT
DTSTART;TZID=America/New_York:20240724T090000
DTEND;TZID=America/New_York:20240724T150000
DTSTAMP:20260422T060653
CREATED:20240516T075112Z
LAST-MODIFIED:20240724T184748Z
UID:76554-1721811600-1721833200@events.bridgeport.edu
SUMMARY:Back Country Jazz Summer Camp 2024
DESCRIPTION:
URL:https://events.bridgeport.edu/event/back-country-jazz-summer-camp-2024-74/
LOCATION:MAN 1 Campus: Main Campus\, 230 Park Avenue\, Bridgeport\, CT\, 06604\, United States
CATEGORIES:Community
END:VEVENT
BEGIN:VEVENT
DTSTART;TZID=America/New_York:20240724T090000
DTEND;TZID=America/New_York:20240724T150000
DTSTAMP:20260422T060653
CREATED:20240516T075112Z
LAST-MODIFIED:20240610T185140Z
UID:76555-1721811600-1721833200@events.bridgeport.edu
SUMMARY:Back Country Jazz Summer Camp 2024
DESCRIPTION:
URL:https://events.bridgeport.edu/event/back-country-jazz-summer-camp-2024-75/
LOCATION:MAN 201 Campus: Main Campus\, 230 Park Avenue\, Bridgeport\, CT\, 06604\, United States
CATEGORIES:Community
END:VEVENT
BEGIN:VEVENT
DTSTART;TZID=America/New_York:20240724T090000
DTEND;TZID=America/New_York:20240724T150000
DTSTAMP:20260422T060653
CREATED:20240516T075112Z
LAST-MODIFIED:20240517T183610Z
UID:76556-1721811600-1721833200@events.bridgeport.edu
SUMMARY:Back Country Jazz Summer Camp 2024
DESCRIPTION:
URL:https://events.bridgeport.edu/event/back-country-jazz-summer-camp-2024-76/
LOCATION:JCSC Knight S7 Campus: Main Campus
CATEGORIES:Community
END:VEVENT
BEGIN:VEVENT
DTSTART;TZID=America/New_York:20240724T090000
DTEND;TZID=America/New_York:20240724T150000
DTSTAMP:20260422T060653
CREATED:20240516T075112Z
LAST-MODIFIED:20240724T184748Z
UID:76557-1721811600-1721833200@events.bridgeport.edu
SUMMARY:Back Country Jazz Summer Camp 2024
DESCRIPTION:
URL:https://events.bridgeport.edu/event/back-country-jazz-summer-camp-2024-77/
LOCATION:JCSC 207-209 Campus: Main Campus\, 244 University Avenue\, Bridgeport\, CT\, 06604\, United States
CATEGORIES:Community
END:VEVENT
END:VCALENDAR