

BEGIN:VCALENDAR
VERSION:2.0
PRODID:-//Campus Events - ECPv6.15.20//NONSGML v1.0//EN
CALSCALE:GREGORIAN
METHOD:PUBLISH
X-WR-CALNAME:Campus Events
X-ORIGINAL-URL:https://events.bridgeport.edu
X-WR-CALDESC:Events for Campus Events
REFRESH-INTERVAL;VALUE=DURATION:PT1H
X-Robots-Tag:noindex
X-PUBLISHED-TTL:PT1H
BEGIN:VTIMEZONE
TZID:America/New_York
BEGIN:DAYLIGHT
TZOFFSETFROM:-0500
TZOFFSETTO:-0400
TZNAME:EDT
DTSTART:20240310T070000
END:DAYLIGHT
BEGIN:STANDARD
TZOFFSETFROM:-0400
TZOFFSETTO:-0500
TZNAME:EST
DTSTART:20241103T060000
END:STANDARD
BEGIN:DAYLIGHT
TZOFFSETFROM:-0500
TZOFFSETTO:-0400
TZNAME:EDT
DTSTART:20250309T070000
END:DAYLIGHT
BEGIN:STANDARD
TZOFFSETFROM:-0400
TZOFFSETTO:-0500
TZNAME:EST
DTSTART:20251102T060000
END:STANDARD
BEGIN:DAYLIGHT
TZOFFSETFROM:-0500
TZOFFSETTO:-0400
TZNAME:EDT
DTSTART:20260308T070000
END:DAYLIGHT
BEGIN:STANDARD
TZOFFSETFROM:-0400
TZOFFSETTO:-0500
TZNAME:EST
DTSTART:20261101T060000
END:STANDARD
END:VTIMEZONE
BEGIN:VEVENT
DTSTART;TZID=America/New_York:20250103T153000
DTEND;TZID=America/New_York:20250103T173000
DTSTAMP:20260421T204745
CREATED:20241114T000456Z
LAST-MODIFIED:20250103T201751Z
UID:96788-1735918200-1735925400@events.bridgeport.edu
SUMMARY:BackCountry Jazz Music Program
DESCRIPTION:
URL:https://events.bridgeport.edu/event/backcountry-jazz-music-program-18/
LOCATION:JCSC Knight S7 Campus: Main Campus
CATEGORIES:Community
END:VEVENT
BEGIN:VEVENT
DTSTART;TZID=America/New_York:20250103T153000
DTEND;TZID=America/New_York:20250103T173000
DTSTAMP:20260421T204745
CREATED:20241114T000456Z
LAST-MODIFIED:20250103T201751Z
UID:96786-1735918200-1735925400@events.bridgeport.edu
SUMMARY:BackCountry Jazz Music Program
DESCRIPTION:
URL:https://events.bridgeport.edu/event/backcountry-jazz-music-program-16/
LOCATION:JCSC 213-215 Campus: Main Campus\, 244 University Avenue\, Bridgeport\, CT\, 06604\, United States
CATEGORIES:Community
END:VEVENT
BEGIN:VEVENT
DTSTART;TZID=America/New_York:20250103T153000
DTEND;TZID=America/New_York:20250103T173000
DTSTAMP:20260421T204745
CREATED:20241114T000456Z
LAST-MODIFIED:20250103T201751Z
UID:96787-1735918200-1735925400@events.bridgeport.edu
SUMMARY:BackCountry Jazz Music Program
DESCRIPTION:
URL:https://events.bridgeport.edu/event/backcountry-jazz-music-program-17/
LOCATION:JCSC 207-209 Campus: Main Campus\, 244 University Avenue\, Bridgeport\, CT\, 06604\, United States
CATEGORIES:Community
END:VEVENT
BEGIN:VEVENT
DTSTART;TZID=America/New_York:20250104T080000
DTEND;TZID=America/New_York:20250104T140000
DTSTAMP:20260421T204745
CREATED:20241003T040750Z
LAST-MODIFIED:20250104T174753Z
UID:92157-1735977600-1735999200@events.bridgeport.edu
SUMMARY:BCYL
DESCRIPTION:
URL:https://events.bridgeport.edu/event/bcyl-9/
LOCATION:MAN 319 Campus: Main Campus\, 230 Park Avenue\, Bridgeport\, CT\, 06604\, United States
CATEGORIES:Community
END:VEVENT
BEGIN:VEVENT
DTSTART;TZID=America/New_York:20250104T080000
DTEND;TZID=America/New_York:20250104T140000
DTSTAMP:20260421T204745
CREATED:20241003T040751Z
LAST-MODIFIED:20250104T174753Z
UID:92165-1735977600-1735999200@events.bridgeport.edu
SUMMARY:BCYL
DESCRIPTION:
URL:https://events.bridgeport.edu/event/bcyl-16/
LOCATION:MAN 316 Campus: Main Campus\, 230 Park Avenue\, Bridgeport\, CT\, 06604\, United States
CATEGORIES:Community
END:VEVENT
BEGIN:VEVENT
DTSTART;TZID=America/New_York:20250104T080000
DTEND;TZID=America/New_York:20250104T140000
DTSTAMP:20260421T204745
CREATED:20241003T040751Z
LAST-MODIFIED:20250104T174753Z
UID:92160-1735977600-1735999200@events.bridgeport.edu
SUMMARY:BCYL
DESCRIPTION:
URL:https://events.bridgeport.edu/event/bcyl-11/
LOCATION:MAN 320 Campus: Main Campus\, 230 Park Avenue\, Bridgeport\, CT\, 06604\, United States
CATEGORIES:Community
END:VEVENT
BEGIN:VEVENT
DTSTART;TZID=America/New_York:20250104T080000
DTEND;TZID=America/New_York:20250104T140000
DTSTAMP:20260421T204745
CREATED:20241003T040751Z
LAST-MODIFIED:20250104T174753Z
UID:92161-1735977600-1735999200@events.bridgeport.edu
SUMMARY:BCYL
DESCRIPTION:
URL:https://events.bridgeport.edu/event/bcyl-12/
LOCATION:MAN 321 Campus: Main Campus\, 230 Park Avenue\, Bridgeport\, CT\, 06604\, United States
CATEGORIES:Community
END:VEVENT
BEGIN:VEVENT
DTSTART;TZID=America/New_York:20250104T080000
DTEND;TZID=America/New_York:20250104T140000
DTSTAMP:20260421T204745
CREATED:20241003T040751Z
LAST-MODIFIED:20250104T174753Z
UID:92162-1735977600-1735999200@events.bridgeport.edu
SUMMARY:BCYL
DESCRIPTION:
URL:https://events.bridgeport.edu/event/bcyl-13/
LOCATION:MAN 311 Campus: Main Campus\, 230 Park Avenue\, Bridgeport\, CT\, 06604\, United States
CATEGORIES:Community
END:VEVENT
BEGIN:VEVENT
DTSTART;TZID=America/New_York:20250104T080000
DTEND;TZID=America/New_York:20250104T140000
DTSTAMP:20260421T204745
CREATED:20241003T040751Z
LAST-MODIFIED:20250104T174754Z
UID:92163-1735977600-1735999200@events.bridgeport.edu
SUMMARY:BCYL
DESCRIPTION:
URL:https://events.bridgeport.edu/event/bcyl-14/
LOCATION:MAN 322 Campus: Main Campus\, 230 Park Avenue\, Bridgeport\, CT\, 06604\, United States
CATEGORIES:Community
END:VEVENT
BEGIN:VEVENT
DTSTART;TZID=America/New_York:20250104T080000
DTEND;TZID=America/New_York:20250104T140000
DTSTAMP:20260421T204745
CREATED:20241003T040751Z
LAST-MODIFIED:20250104T174754Z
UID:92164-1735977600-1735999200@events.bridgeport.edu
SUMMARY:BCYL
DESCRIPTION:
URL:https://events.bridgeport.edu/event/bcyl-15/
LOCATION:MAN 318 Campus: Main Campus\, 230 Park Avenue\, Bridgeport\, CT\, 06604\, United States
CATEGORIES:Community
END:VEVENT
BEGIN:VEVENT
DTSTART;TZID=America/New_York:20250104T080000
DTEND;TZID=America/New_York:20250104T140000
DTSTAMP:20260421T204745
CREATED:20241003T040751Z
LAST-MODIFIED:20250104T174754Z
UID:92159-1735977600-1735999200@events.bridgeport.edu
SUMMARY:BCYL
DESCRIPTION:
URL:https://events.bridgeport.edu/event/bcyl-10/
LOCATION:MAN 323 Campus: Main Campus\, 230 Park Avenue\, Bridgeport\, CT\, 06604\, United States
CATEGORIES:Community
END:VEVENT
BEGIN:VEVENT
DTSTART;TZID=America/New_York:20250104T080000
DTEND;TZID=America/New_York:20250104T140000
DTSTAMP:20260421T204745
CREATED:20241106T000503Z
LAST-MODIFIED:20241112T190423Z
UID:95899-1735977600-1735999200@events.bridgeport.edu
SUMMARY:Bridgeport Caribe Youth Leaders Banquet
DESCRIPTION:
URL:https://events.bridgeport.edu/event/bridgeport-caribe-youth-leaders-banquet/
LOCATION:JCSC KNIGHT S1 – Social Room Campus: Main Campus
CATEGORIES:Community
END:VEVENT
BEGIN:VEVENT
DTSTART;TZID=America/New_York:20250104T103000
DTEND;TZID=America/New_York:20250104T160000
DTSTAMP:20260421T204745
CREATED:20241113T000433Z
LAST-MODIFIED:20250104T201752Z
UID:96661-1735986600-1736006400@events.bridgeport.edu
SUMMARY:Bridgeport Caribe Youth Leaders Banquet
DESCRIPTION:
URL:https://events.bridgeport.edu/event/bridgeport-caribe-youth-leaders-banquet-2/
LOCATION:JCSC KNIGHT S1 – Social Room Campus: Main Campus
CATEGORIES:Community
END:VEVENT
BEGIN:VEVENT
DTSTART;TZID=America/New_York:20250106T093000
DTEND;TZID=America/New_York:20250106T110000
DTSTAMP:20260421T204745
CREATED:20240912T173508Z
LAST-MODIFIED:20250106T151828Z
UID:89312-1736155800-1736161200@events.bridgeport.edu
SUMMARY:Fairfield Schools
DESCRIPTION:
URL:https://events.bridgeport.edu/event/fairfield-schools-54/
LOCATION:MAN MAN 9 Campus: Main Campus
CATEGORIES:Community
END:VEVENT
BEGIN:VEVENT
DTSTART;TZID=America/New_York:20250107T093000
DTEND;TZID=America/New_York:20250107T110000
DTSTAMP:20260421T204745
CREATED:20240913T000607Z
LAST-MODIFIED:20250107T151816Z
UID:89573-1736242200-1736247600@events.bridgeport.edu
SUMMARY:Fairfield Schools
DESCRIPTION:
URL:https://events.bridgeport.edu/event/fairfield-schools-149/
LOCATION:MAN MAN 9 Campus: Main Campus
CATEGORIES:Community
END:VEVENT
BEGIN:VEVENT
DTSTART;TZID=America/New_York:20250107T180000
DTEND;TZID=America/New_York:20250107T200000
DTSTAMP:20260421T204745
CREATED:20241210T000400Z
LAST-MODIFIED:20250108T001751Z
UID:99616-1736272800-1736280000@events.bridgeport.edu
SUMMARY:Immigration Forum - hosted by The Provost and Library Department
DESCRIPTION:
URL:https://events.bridgeport.edu/event/immigration-forum-hosted-by-the-provost-and-library-department/
LOCATION:JCSC KNIGHT S1 – Social Room Campus: Main Campus
CATEGORIES:Community
END:VEVENT
BEGIN:VEVENT
DTSTART;TZID=America/New_York:20250108T093000
DTEND;TZID=America/New_York:20250108T110000
DTSTAMP:20260421T204745
CREATED:20240913T000607Z
LAST-MODIFIED:20250108T151750Z
UID:89574-1736328600-1736334000@events.bridgeport.edu
SUMMARY:Fairfield Schools
DESCRIPTION:
URL:https://events.bridgeport.edu/event/fairfield-schools-150/
LOCATION:MAN MAN 9 Campus: Main Campus
CATEGORIES:Community
END:VEVENT
BEGIN:VEVENT
DTSTART;TZID=America/New_York:20250109T093000
DTEND;TZID=America/New_York:20250109T110000
DTSTAMP:20260421T204745
CREATED:20240913T000607Z
LAST-MODIFIED:20250109T151750Z
UID:89575-1736415000-1736420400@events.bridgeport.edu
SUMMARY:Fairfield Schools
DESCRIPTION:
URL:https://events.bridgeport.edu/event/fairfield-schools-151/
LOCATION:MAN MAN 9 Campus: Main Campus
CATEGORIES:Community
END:VEVENT
BEGIN:VEVENT
DTSTART;TZID=America/New_York:20250110T093000
DTEND;TZID=America/New_York:20250110T110000
DTSTAMP:20260421T204745
CREATED:20240913T000607Z
LAST-MODIFIED:20250110T151750Z
UID:89576-1736501400-1736506800@events.bridgeport.edu
SUMMARY:Fairfield Schools
DESCRIPTION:
URL:https://events.bridgeport.edu/event/fairfield-schools-152/
LOCATION:MAN MAN 9 Campus: Main Campus
CATEGORIES:Community
END:VEVENT
BEGIN:VEVENT
DTSTART;TZID=America/New_York:20250110T153000
DTEND;TZID=America/New_York:20250110T173000
DTSTAMP:20260421T204745
CREATED:20241114T000523Z
LAST-MODIFIED:20250110T201749Z
UID:96789-1736523000-1736530200@events.bridgeport.edu
SUMMARY:BackCountry Jazz Music Program
DESCRIPTION:
URL:https://events.bridgeport.edu/event/backcountry-jazz-music-program-19/
LOCATION:JCSC 207-209 Campus: Main Campus\, 244 University Avenue\, Bridgeport\, CT\, 06604\, United States
CATEGORIES:Community
END:VEVENT
BEGIN:VEVENT
DTSTART;TZID=America/New_York:20250110T153000
DTEND;TZID=America/New_York:20250110T173000
DTSTAMP:20260421T204745
CREATED:20241114T000523Z
LAST-MODIFIED:20250110T201749Z
UID:96790-1736523000-1736530200@events.bridgeport.edu
SUMMARY:BackCountry Jazz Music Program
DESCRIPTION:
URL:https://events.bridgeport.edu/event/backcountry-jazz-music-program-20/
LOCATION:JCSC Knight S7 Campus: Main Campus
CATEGORIES:Community
END:VEVENT
BEGIN:VEVENT
DTSTART;TZID=America/New_York:20250110T153000
DTEND;TZID=America/New_York:20250110T173000
DTSTAMP:20260421T204745
CREATED:20241114T000523Z
LAST-MODIFIED:20250110T201750Z
UID:96791-1736523000-1736530200@events.bridgeport.edu
SUMMARY:BackCountry Jazz Music Program
DESCRIPTION:
URL:https://events.bridgeport.edu/event/backcountry-jazz-music-program-21/
LOCATION:JCSC 213-215 Campus: Main Campus\, 244 University Avenue\, Bridgeport\, CT\, 06604\, United States
CATEGORIES:Community
END:VEVENT
BEGIN:VEVENT
DTSTART;TZID=America/New_York:20250111T080000
DTEND;TZID=America/New_York:20250111T140000
DTSTAMP:20260421T204745
CREATED:20241003T040804Z
LAST-MODIFIED:20250111T174750Z
UID:92166-1736582400-1736604000@events.bridgeport.edu
SUMMARY:BCYL
DESCRIPTION:
URL:https://events.bridgeport.edu/event/bcyl-17/
LOCATION:MAN 318 Campus: Main Campus\, 230 Park Avenue\, Bridgeport\, CT\, 06604\, United States
CATEGORIES:Community
END:VEVENT
BEGIN:VEVENT
DTSTART;TZID=America/New_York:20250111T080000
DTEND;TZID=America/New_York:20250111T140000
DTSTAMP:20260421T204745
CREATED:20241003T040805Z
LAST-MODIFIED:20250111T174750Z
UID:92170-1736582400-1736604000@events.bridgeport.edu
SUMMARY:BCYL
DESCRIPTION:
URL:https://events.bridgeport.edu/event/bcyl-21/
LOCATION:MAN 321 Campus: Main Campus\, 230 Park Avenue\, Bridgeport\, CT\, 06604\, United States
CATEGORIES:Community
END:VEVENT
BEGIN:VEVENT
DTSTART;TZID=America/New_York:20250111T080000
DTEND;TZID=America/New_York:20250111T140000
DTSTAMP:20260421T204745
CREATED:20241003T040805Z
LAST-MODIFIED:20250111T174750Z
UID:92167-1736582400-1736604000@events.bridgeport.edu
SUMMARY:BCYL
DESCRIPTION:
URL:https://events.bridgeport.edu/event/bcyl-18/
LOCATION:MAN 316 Campus: Main Campus\, 230 Park Avenue\, Bridgeport\, CT\, 06604\, United States
CATEGORIES:Community
END:VEVENT
BEGIN:VEVENT
DTSTART;TZID=America/New_York:20250111T080000
DTEND;TZID=America/New_York:20250111T140000
DTSTAMP:20260421T204745
CREATED:20241003T040805Z
LAST-MODIFIED:20250111T174750Z
UID:92168-1736582400-1736604000@events.bridgeport.edu
SUMMARY:BCYL
DESCRIPTION:
URL:https://events.bridgeport.edu/event/bcyl-19/
LOCATION:MAN 319 Campus: Main Campus\, 230 Park Avenue\, Bridgeport\, CT\, 06604\, United States
CATEGORIES:Community
END:VEVENT
BEGIN:VEVENT
DTSTART;TZID=America/New_York:20250111T080000
DTEND;TZID=America/New_York:20250111T140000
DTSTAMP:20260421T204745
CREATED:20241003T040805Z
LAST-MODIFIED:20250111T174750Z
UID:92169-1736582400-1736604000@events.bridgeport.edu
SUMMARY:BCYL
DESCRIPTION:
URL:https://events.bridgeport.edu/event/bcyl-20/
LOCATION:MAN 322 Campus: Main Campus\, 230 Park Avenue\, Bridgeport\, CT\, 06604\, United States
CATEGORIES:Community
END:VEVENT
BEGIN:VEVENT
DTSTART;TZID=America/New_York:20250111T080000
DTEND;TZID=America/New_York:20250111T140000
DTSTAMP:20260421T204745
CREATED:20241003T040817Z
LAST-MODIFIED:20250111T174750Z
UID:92171-1736582400-1736604000@events.bridgeport.edu
SUMMARY:BCYL
DESCRIPTION:
URL:https://events.bridgeport.edu/event/bcyl-22/
LOCATION:MAN 323 Campus: Main Campus\, 230 Park Avenue\, Bridgeport\, CT\, 06604\, United States
CATEGORIES:Community
END:VEVENT
BEGIN:VEVENT
DTSTART;TZID=America/New_York:20250111T080000
DTEND;TZID=America/New_York:20250111T140000
DTSTAMP:20260421T204745
CREATED:20241003T040818Z
LAST-MODIFIED:20250111T174750Z
UID:92172-1736582400-1736604000@events.bridgeport.edu
SUMMARY:BCYL
DESCRIPTION:
URL:https://events.bridgeport.edu/event/bcyl-23/
LOCATION:MAN 311 Campus: Main Campus\, 230 Park Avenue\, Bridgeport\, CT\, 06604\, United States
CATEGORIES:Community
END:VEVENT
BEGIN:VEVENT
DTSTART;TZID=America/New_York:20250111T080000
DTEND;TZID=America/New_York:20250111T140000
DTSTAMP:20260421T204745
CREATED:20241003T040818Z
LAST-MODIFIED:20250111T174750Z
UID:92173-1736582400-1736604000@events.bridgeport.edu
SUMMARY:BCYL
DESCRIPTION:
URL:https://events.bridgeport.edu/event/bcyl-24/
LOCATION:MAN 320 Campus: Main Campus\, 230 Park Avenue\, Bridgeport\, CT\, 06604\, United States
CATEGORIES:Community
END:VEVENT
END:VCALENDAR