

BEGIN:VCALENDAR
VERSION:2.0
PRODID:-//Campus Events - ECPv6.15.20//NONSGML v1.0//EN
CALSCALE:GREGORIAN
METHOD:PUBLISH
X-ORIGINAL-URL:https://events.bridgeport.edu
X-WR-CALDESC:Events for Campus Events
REFRESH-INTERVAL;VALUE=DURATION:PT1H
X-Robots-Tag:noindex
X-PUBLISHED-TTL:PT1H
BEGIN:VTIMEZONE
TZID:America/New_York
BEGIN:DAYLIGHT
TZOFFSETFROM:-0500
TZOFFSETTO:-0400
TZNAME:EDT
DTSTART:20230312T070000
END:DAYLIGHT
BEGIN:STANDARD
TZOFFSETFROM:-0400
TZOFFSETTO:-0500
TZNAME:EST
DTSTART:20231105T060000
END:STANDARD
BEGIN:DAYLIGHT
TZOFFSETFROM:-0500
TZOFFSETTO:-0400
TZNAME:EDT
DTSTART:20240310T070000
END:DAYLIGHT
BEGIN:STANDARD
TZOFFSETFROM:-0400
TZOFFSETTO:-0500
TZNAME:EST
DTSTART:20241103T060000
END:STANDARD
BEGIN:DAYLIGHT
TZOFFSETFROM:-0500
TZOFFSETTO:-0400
TZNAME:EDT
DTSTART:20250309T070000
END:DAYLIGHT
BEGIN:STANDARD
TZOFFSETFROM:-0400
TZOFFSETTO:-0500
TZNAME:EST
DTSTART:20251102T060000
END:STANDARD
END:VTIMEZONE
BEGIN:VEVENT
DTSTART;TZID=America/New_York:20241105T080000
DTEND;TZID=America/New_York:20241105T170000
DTSTAMP:20260421T224212
CREATED:20240830T191827Z
LAST-MODIFIED:20241022T184829Z
UID:87851-1730793600-1730826000@events.bridgeport.edu
SUMMARY:HOLD
DESCRIPTION:
URL:https://events.bridgeport.edu/event/hold-3/
LOCATION:JCSC KNIGHT S1 – Social Room Campus: Main Campus
CATEGORIES:Community
END:VEVENT
BEGIN:VEVENT
DTSTART;TZID=America/New_York:20241105T093000
DTEND;TZID=America/New_York:20241105T110000
DTSTAMP:20260421T224212
CREATED:20240912T173406Z
LAST-MODIFIED:20241105T151750Z
UID:89285-1730799000-1730804400@events.bridgeport.edu
SUMMARY:Fairfield Schools
DESCRIPTION:
URL:https://events.bridgeport.edu/event/fairfield-schools-27/
LOCATION:MAN MAN 9 Campus: Main Campus
CATEGORIES:Community
END:VEVENT
BEGIN:VEVENT
DTSTART;TZID=America/New_York:20241106T093000
DTEND;TZID=America/New_York:20241106T110000
DTSTAMP:20260421T224212
CREATED:20240912T173406Z
LAST-MODIFIED:20241106T151750Z
UID:89286-1730885400-1730890800@events.bridgeport.edu
SUMMARY:Fairfield Schools
DESCRIPTION:
URL:https://events.bridgeport.edu/event/fairfield-schools-28/
LOCATION:MAN MAN 9 Campus: Main Campus
CATEGORIES:Community
END:VEVENT
BEGIN:VEVENT
DTSTART;TZID=America/New_York:20241107T093000
DTEND;TZID=America/New_York:20241107T110000
DTSTAMP:20260421T224212
CREATED:20240912T173406Z
LAST-MODIFIED:20241107T151819Z
UID:89287-1730971800-1730977200@events.bridgeport.edu
SUMMARY:Fairfield Schools
DESCRIPTION:
URL:https://events.bridgeport.edu/event/fairfield-schools-29/
LOCATION:MAN MAN 9 Campus: Main Campus
CATEGORIES:Community
END:VEVENT
BEGIN:VEVENT
DTSTART;TZID=America/New_York:20241107T160000
DTEND;TZID=America/New_York:20241107T180000
DTSTAMP:20260421T224212
CREATED:20240815T013325Z
LAST-MODIFIED:20241107T201753Z
UID:86100-1730995200-1731002400@events.bridgeport.edu
SUMMARY:Turner School of Construction Management 8 Week Program
DESCRIPTION:
URL:https://events.bridgeport.edu/event/turner-school-of-construction-management-8-week-program-7/
LOCATION:MAN 1 Campus: Main Campus\, 230 Park Avenue\, Bridgeport\, CT\, 06604\, United States
CATEGORIES:Community
END:VEVENT
BEGIN:VEVENT
DTSTART;TZID=America/New_York:20241108T093000
DTEND;TZID=America/New_York:20241108T110000
DTSTAMP:20260421T224212
CREATED:20240912T173406Z
LAST-MODIFIED:20241108T151752Z
UID:89288-1731058200-1731063600@events.bridgeport.edu
SUMMARY:Fairfield Schools
DESCRIPTION:
URL:https://events.bridgeport.edu/event/fairfield-schools-30/
LOCATION:MAN MAN 9 Campus: Main Campus
CATEGORIES:Community
END:VEVENT
BEGIN:VEVENT
DTSTART;TZID=America/New_York:20241108T093000
DTEND;TZID=America/New_York:20241108T113000
DTSTAMP:20260421T224212
CREATED:20240918T000507Z
LAST-MODIFIED:20241108T151752Z
UID:90210-1731058200-1731065400@events.bridgeport.edu
SUMMARY:Fairfield Edu Job Skills Training
DESCRIPTION:
URL:https://events.bridgeport.edu/event/fairfield-edu-job-skills-training-7/
LOCATION:MAN 16 Campus: Main Campus\, 230 Park Avenue\, Bridgeport\, CT\, 06604\, United States
CATEGORIES:Community
END:VEVENT
BEGIN:VEVENT
DTSTART;TZID=America/New_York:20241109T080000
DTEND;TZID=America/New_York:20241109T140000
DTSTAMP:20260421T224212
CREATED:20240920T000615Z
LAST-MODIFIED:20241109T174803Z
UID:90523-1731139200-1731160800@events.bridgeport.edu
SUMMARY:BCYL Tutoring
DESCRIPTION:
URL:https://events.bridgeport.edu/event/bcyl-tutoring-143/
LOCATION:MAN 311 Campus: Main Campus\, 230 Park Avenue\, Bridgeport\, CT\, 06604\, United States
CATEGORIES:Community
END:VEVENT
BEGIN:VEVENT
DTSTART;TZID=America/New_York:20241109T080000
DTEND;TZID=America/New_York:20241109T140000
DTSTAMP:20260421T224212
CREATED:20240920T000615Z
LAST-MODIFIED:20240926T013634Z
UID:90524-1731139200-1731160800@events.bridgeport.edu
SUMMARY:BCYL Tutoring
DESCRIPTION:
URL:https://events.bridgeport.edu/event/bcyl-tutoring-144/
LOCATION:MAN 216 Campus: Main Campus\, 230 Park Avenue\, Bridgeport\, CT\, 06604\, United States
CATEGORIES:Community
END:VEVENT
BEGIN:VEVENT
DTSTART;TZID=America/New_York:20241109T080000
DTEND;TZID=America/New_York:20241109T140000
DTSTAMP:20260421T224212
CREATED:20240920T000615Z
LAST-MODIFIED:20241109T174803Z
UID:90521-1731139200-1731160800@events.bridgeport.edu
SUMMARY:BCYL Tutoring
DESCRIPTION:
URL:https://events.bridgeport.edu/event/bcyl-tutoring-141/
LOCATION:MAN 316 Campus: Main Campus\, 230 Park Avenue\, Bridgeport\, CT\, 06604\, United States
CATEGORIES:Community
END:VEVENT
BEGIN:VEVENT
DTSTART;TZID=America/New_York:20241109T080000
DTEND;TZID=America/New_York:20241109T140000
DTSTAMP:20260421T224212
CREATED:20240920T000615Z
LAST-MODIFIED:20241109T174751Z
UID:90522-1731139200-1731160800@events.bridgeport.edu
SUMMARY:BCYL Tutoring
DESCRIPTION:
URL:https://events.bridgeport.edu/event/bcyl-tutoring-142/
LOCATION:MAN 210 Campus: Main Campus\, 230 Park Avenue\, Bridgeport\, CT\, 06604\, United States
CATEGORIES:Community
END:VEVENT
BEGIN:VEVENT
DTSTART;TZID=America/New_York:20241109T080000
DTEND;TZID=America/New_York:20241109T140000
DTSTAMP:20260421T224212
CREATED:20240920T000628Z
LAST-MODIFIED:20241109T174751Z
UID:90528-1731139200-1731160800@events.bridgeport.edu
SUMMARY:BCYL Tutoring
DESCRIPTION:
URL:https://events.bridgeport.edu/event/bcyl-tutoring-148/
LOCATION:MAN 322 Campus: Main Campus\, 230 Park Avenue\, Bridgeport\, CT\, 06604\, United States
CATEGORIES:Community
END:VEVENT
BEGIN:VEVENT
DTSTART;TZID=America/New_York:20241109T080000
DTEND;TZID=America/New_York:20241109T140000
DTSTAMP:20260421T224212
CREATED:20240920T000628Z
LAST-MODIFIED:20241109T174751Z
UID:90529-1731139200-1731160800@events.bridgeport.edu
SUMMARY:BCYL Tutoring
DESCRIPTION:
URL:https://events.bridgeport.edu/event/bcyl-tutoring-149/
LOCATION:MAN 318 Campus: Main Campus\, 230 Park Avenue\, Bridgeport\, CT\, 06604\, United States
CATEGORIES:Community
END:VEVENT
BEGIN:VEVENT
DTSTART;TZID=America/New_York:20241109T080000
DTEND;TZID=America/New_York:20241109T140000
DTSTAMP:20260421T224212
CREATED:20240920T000628Z
LAST-MODIFIED:20241109T174751Z
UID:90530-1731139200-1731160800@events.bridgeport.edu
SUMMARY:BCYL Tutoring
DESCRIPTION:
URL:https://events.bridgeport.edu/event/bcyl-tutoring-150/
LOCATION:MAN 321 Campus: Main Campus\, 230 Park Avenue\, Bridgeport\, CT\, 06604\, United States
CATEGORIES:Community
END:VEVENT
BEGIN:VEVENT
DTSTART;TZID=America/New_York:20241109T080000
DTEND;TZID=America/New_York:20241109T140000
DTSTAMP:20260421T224212
CREATED:20240920T000628Z
LAST-MODIFIED:20241109T174751Z
UID:90525-1731139200-1731160800@events.bridgeport.edu
SUMMARY:BCYL Tutoring
DESCRIPTION:
URL:https://events.bridgeport.edu/event/bcyl-tutoring-145/
LOCATION:MAN 320 Campus: Main Campus\, 230 Park Avenue\, Bridgeport\, CT\, 06604\, United States
CATEGORIES:Community
END:VEVENT
BEGIN:VEVENT
DTSTART;TZID=America/New_York:20241109T080000
DTEND;TZID=America/New_York:20241109T140000
DTSTAMP:20260421T224212
CREATED:20240920T000628Z
LAST-MODIFIED:20241109T174751Z
UID:90526-1731139200-1731160800@events.bridgeport.edu
SUMMARY:BCYL Tutoring
DESCRIPTION:
URL:https://events.bridgeport.edu/event/bcyl-tutoring-146/
LOCATION:MAN 319 Campus: Main Campus\, 230 Park Avenue\, Bridgeport\, CT\, 06604\, United States
CATEGORIES:Community
END:VEVENT
BEGIN:VEVENT
DTSTART;TZID=America/New_York:20241109T080000
DTEND;TZID=America/New_York:20241109T140000
DTSTAMP:20260421T224212
CREATED:20240920T000628Z
LAST-MODIFIED:20241109T174751Z
UID:90527-1731139200-1731160800@events.bridgeport.edu
SUMMARY:BCYL Tutoring
DESCRIPTION:
URL:https://events.bridgeport.edu/event/bcyl-tutoring-147/
LOCATION:MAN 323 Campus: Main Campus\, 230 Park Avenue\, Bridgeport\, CT\, 06604\, United States
CATEGORIES:Community
END:VEVENT
BEGIN:VEVENT
DTSTART;TZID=America/New_York:20241109T080000
DTEND;TZID=America/New_York:20241109T160000
DTSTAMP:20260421T224212
CREATED:20240830T011817Z
LAST-MODIFIED:20240830T181814Z
UID:87706-1731139200-1731168000@events.bridgeport.edu
SUMMARY:32BJ Training
DESCRIPTION:
URL:https://events.bridgeport.edu/event/32bj-training-2/
LOCATION:MAN 303 Campus: Main Campus\, 230 Park Avenue\, Bridgeport\, CT\, 06604\, United States
CATEGORIES:Community
END:VEVENT
BEGIN:VEVENT
DTSTART;TZID=America/New_York:20241109T083000
DTEND;TZID=America/New_York:20241109T150000
DTSTAMP:20260421T224212
CREATED:20240830T011817Z
LAST-MODIFIED:20240926T013634Z
UID:87705-1731141000-1731164400@events.bridgeport.edu
SUMMARY:B2BJ Training Course
DESCRIPTION:
URL:https://events.bridgeport.edu/event/b2bj-training-course-8/
LOCATION:MAN 220 Campus: Main Campus\, 230 Park Avenue\, Bridgeport\, CT\, 06604\, United States
CATEGORIES:Community
END:VEVENT
BEGIN:VEVENT
DTSTART;TZID=America/New_York:20241109T083000
DTEND;TZID=America/New_York:20241109T150000
DTSTAMP:20260421T224212
CREATED:20240830T191828Z
LAST-MODIFIED:20241109T190252Z
UID:87852-1731141000-1731164400@events.bridgeport.edu
SUMMARY:32BJ Training
DESCRIPTION:
URL:https://events.bridgeport.edu/event/32bj-training-4/
LOCATION:MAN 303 Campus: Main Campus\, 230 Park Avenue\, Bridgeport\, CT\, 06604\, United States
CATEGORIES:Community
END:VEVENT
BEGIN:VEVENT
DTSTART;TZID=America/New_York:20241109T083000
DTEND;TZID=America/New_York:20241109T150000
DTSTAMP:20260421T224212
CREATED:20240926T025023Z
LAST-MODIFIED:20241109T190252Z
UID:91389-1731141000-1731164400@events.bridgeport.edu
SUMMARY:B2BJ Training Course
DESCRIPTION:
URL:https://events.bridgeport.edu/event/b2bj-training-course-17/
LOCATION:MAN 216 Campus: Main Campus\, 230 Park Avenue\, Bridgeport\, CT\, 06604\, United States
CATEGORIES:Community
END:VEVENT
BEGIN:VEVENT
DTSTART;TZID=America/New_York:20241109T100000
DTEND;TZID=America/New_York:20241109T130000
DTSTAMP:20260421T224212
CREATED:20241012T013517Z
LAST-MODIFIED:20241109T174751Z
UID:93271-1731146400-1731157200@events.bridgeport.edu
SUMMARY:Full Circle Training
DESCRIPTION:
URL:https://events.bridgeport.edu/event/full-circle-training-3/
LOCATION:CARH 153 Campus: Main Campus\, 303 University Avenue\, Bridgeport\, CT\, 06604\, United States
CATEGORIES:Community
END:VEVENT
BEGIN:VEVENT
DTSTART;TZID=America/New_York:20241111T003000
DTEND;TZID=America/New_York:20241111T013000
DTSTAMP:20260421T224212
CREATED:20240930T202012Z
LAST-MODIFIED:20241111T051752Z
UID:91894-1731285000-1731288600@events.bridgeport.edu
SUMMARY:Fairfield Bowling
DESCRIPTION:
URL:https://events.bridgeport.edu/event/fairfield-bowling-35/
LOCATION:JCSC UBowl Campus: Main Campus
CATEGORIES:Community
END:VEVENT
BEGIN:VEVENT
DTSTART;TZID=America/New_York:20241111T090000
DTEND;TZID=America/New_York:20241111T100000
DTSTAMP:20260421T224212
CREATED:20241029T000407Z
LAST-MODIFIED:20241111T140252Z
UID:95054-1731315600-1731319200@events.bridgeport.edu
SUMMARY:Veterans' Day Recognition Ceremony
DESCRIPTION:
URL:https://events.bridgeport.edu/event/veterans-day-recognition-ceremony/
LOCATION:OUTDOOR N/A Campus: Main Campus
CATEGORIES:Community
END:VEVENT
BEGIN:VEVENT
DTSTART;TZID=America/New_York:20241111T093000
DTEND;TZID=America/New_York:20241111T110000
DTSTAMP:20260421T224212
CREATED:20240912T173418Z
LAST-MODIFIED:20241111T151829Z
UID:89289-1731317400-1731322800@events.bridgeport.edu
SUMMARY:Fairfield Schools
DESCRIPTION:
URL:https://events.bridgeport.edu/event/fairfield-schools-31/
LOCATION:MAN MAN 9 Campus: Main Campus
CATEGORIES:Community
END:VEVENT
BEGIN:VEVENT
DTSTART;TZID=America/New_York:20241111T120000
DTEND;TZID=America/New_York:20241111T133000
DTSTAMP:20260421T224212
CREATED:20240830T191828Z
LAST-MODIFIED:20240930T190510Z
UID:87853-1731326400-1731331800@events.bridgeport.edu
SUMMARY:Fairfield Bowling
DESCRIPTION:
URL:https://events.bridgeport.edu/event/fairfield-bowling-24/
LOCATION:JCSC UBowl Campus: Main Campus
CATEGORIES:Community
END:VEVENT
BEGIN:VEVENT
DTSTART;TZID=America/New_York:20241112T090000
DTEND;TZID=America/New_York:20241112T110000
DTSTAMP:20260421T224212
CREATED:20241112T090249Z
LAST-MODIFIED:20241112T151751Z
UID:96600-1731402000-1731409200@events.bridgeport.edu
SUMMARY:BIA Chemistry Lab
DESCRIPTION:
URL:https://events.bridgeport.edu/event/bia-chemistry-lab-2/
LOCATION:DANA 127 Campus: Main Campus
CATEGORIES:Community
END:VEVENT
BEGIN:VEVENT
DTSTART;TZID=America/New_York:20241112T093000
DTEND;TZID=America/New_York:20241112T110000
DTSTAMP:20260421T224212
CREATED:20240912T173418Z
LAST-MODIFIED:20241112T151751Z
UID:89290-1731403800-1731409200@events.bridgeport.edu
SUMMARY:Fairfield Schools
DESCRIPTION:
URL:https://events.bridgeport.edu/event/fairfield-schools-32/
LOCATION:MAN MAN 9 Campus: Main Campus
CATEGORIES:Community
END:VEVENT
BEGIN:VEVENT
DTSTART;TZID=America/New_York:20241113T093000
DTEND;TZID=America/New_York:20241113T110000
DTSTAMP:20260421T224212
CREATED:20240912T173418Z
LAST-MODIFIED:20241113T151752Z
UID:89291-1731490200-1731495600@events.bridgeport.edu
SUMMARY:Fairfield Schools
DESCRIPTION:
URL:https://events.bridgeport.edu/event/fairfield-schools-33/
LOCATION:MAN MAN 9 Campus: Main Campus
CATEGORIES:Community
END:VEVENT
BEGIN:VEVENT
DTSTART;TZID=America/New_York:20241113T110000
DTEND;TZID=America/New_York:20241113T180000
DTSTAMP:20260421T224212
CREATED:20241012T013541Z
LAST-MODIFIED:20241017T001951Z
UID:93272-1731495600-1731520800@events.bridgeport.edu
SUMMARY:CT Metro Council of Governments Public Meeting
DESCRIPTION:
URL:https://events.bridgeport.edu/event/ct-metro-council-of-governments-public-meeting/
LOCATION:JCSC KNIGHT S1 – Social Room Campus: Main Campus
CATEGORIES:Community
END:VEVENT
END:VCALENDAR