

BEGIN:VCALENDAR
VERSION:2.0
PRODID:-//Campus Events - ECPv6.15.20//NONSGML v1.0//EN
CALSCALE:GREGORIAN
METHOD:PUBLISH
X-WR-CALNAME:Campus Events
X-ORIGINAL-URL:https://events.bridgeport.edu
X-WR-CALDESC:Events for Campus Events
REFRESH-INTERVAL;VALUE=DURATION:PT1H
X-Robots-Tag:noindex
X-PUBLISHED-TTL:PT1H
BEGIN:VTIMEZONE
TZID:America/New_York
BEGIN:DAYLIGHT
TZOFFSETFROM:-0500
TZOFFSETTO:-0400
TZNAME:EDT
DTSTART:20230312T070000
END:DAYLIGHT
BEGIN:STANDARD
TZOFFSETFROM:-0400
TZOFFSETTO:-0500
TZNAME:EST
DTSTART:20231105T060000
END:STANDARD
BEGIN:DAYLIGHT
TZOFFSETFROM:-0500
TZOFFSETTO:-0400
TZNAME:EDT
DTSTART:20240310T070000
END:DAYLIGHT
BEGIN:STANDARD
TZOFFSETFROM:-0400
TZOFFSETTO:-0500
TZNAME:EST
DTSTART:20241103T060000
END:STANDARD
BEGIN:DAYLIGHT
TZOFFSETFROM:-0500
TZOFFSETTO:-0400
TZNAME:EDT
DTSTART:20250309T070000
END:DAYLIGHT
BEGIN:STANDARD
TZOFFSETFROM:-0400
TZOFFSETTO:-0500
TZNAME:EST
DTSTART:20251102T060000
END:STANDARD
BEGIN:DAYLIGHT
TZOFFSETFROM:-0500
TZOFFSETTO:-0400
TZNAME:EDT
DTSTART:20260308T070000
END:DAYLIGHT
BEGIN:STANDARD
TZOFFSETFROM:-0400
TZOFFSETTO:-0500
TZNAME:EST
DTSTART:20261101T060000
END:STANDARD
END:VTIMEZONE
BEGIN:VEVENT
DTSTART;TZID=America/New_York:20241221T080000
DTEND;TZID=America/New_York:20241221T140000
DTSTAMP:20260421T192353
CREATED:20240920T000835Z
LAST-MODIFIED:20241003T025159Z
UID:90561-1734768000-1734789600@events.bridgeport.edu
SUMMARY:BCYL Tutoring
DESCRIPTION:
URL:https://events.bridgeport.edu/event/bcyl-tutoring-181/
LOCATION:MAN 311 Campus: Main Campus\, 230 Park Avenue\, Bridgeport\, CT\, 06604\, United States
CATEGORIES:Community
END:VEVENT
BEGIN:VEVENT
DTSTART;TZID=America/New_York:20241221T080000
DTEND;TZID=America/New_York:20241221T140000
DTSTAMP:20260421T192353
CREATED:20240920T000835Z
LAST-MODIFIED:20241003T025159Z
UID:90562-1734768000-1734789600@events.bridgeport.edu
SUMMARY:BCYL Tutoring
DESCRIPTION:
URL:https://events.bridgeport.edu/event/bcyl-tutoring-182/
LOCATION:MAN 322 Campus: Main Campus\, 230 Park Avenue\, Bridgeport\, CT\, 06604\, United States
CATEGORIES:Community
END:VEVENT
BEGIN:VEVENT
DTSTART;TZID=America/New_York:20241221T080000
DTEND;TZID=America/New_York:20241221T140000
DTSTAMP:20260421T192353
CREATED:20240920T000835Z
LAST-MODIFIED:20241003T025212Z
UID:90563-1734768000-1734789600@events.bridgeport.edu
SUMMARY:BCYL Tutoring
DESCRIPTION:
URL:https://events.bridgeport.edu/event/bcyl-tutoring-183/
LOCATION:MAN 318 Campus: Main Campus\, 230 Park Avenue\, Bridgeport\, CT\, 06604\, United States
CATEGORIES:Community
END:VEVENT
BEGIN:VEVENT
DTSTART;TZID=America/New_York:20241221T080000
DTEND;TZID=America/New_York:20241221T140000
DTSTAMP:20260421T192353
CREATED:20240920T000835Z
LAST-MODIFIED:20241003T025159Z
UID:90564-1734768000-1734789600@events.bridgeport.edu
SUMMARY:BCYL Tutoring
DESCRIPTION:
URL:https://events.bridgeport.edu/event/bcyl-tutoring-184/
LOCATION:MAN 316 Campus: Main Campus\, 230 Park Avenue\, Bridgeport\, CT\, 06604\, United States
CATEGORIES:Community
END:VEVENT
BEGIN:VEVENT
DTSTART;TZID=America/New_York:20241221T080000
DTEND;TZID=America/New_York:20241221T140000
DTSTAMP:20260421T192353
CREATED:20240920T000835Z
LAST-MODIFIED:20241003T025159Z
UID:90565-1734768000-1734789600@events.bridgeport.edu
SUMMARY:BCYL Tutoring
DESCRIPTION:
URL:https://events.bridgeport.edu/event/bcyl-tutoring-185/
LOCATION:MAN 320 Campus: Main Campus\, 230 Park Avenue\, Bridgeport\, CT\, 06604\, United States
CATEGORIES:Community
END:VEVENT
BEGIN:VEVENT
DTSTART;TZID=America/New_York:20241221T080000
DTEND;TZID=America/New_York:20241221T140000
DTSTAMP:20260421T192353
CREATED:20240920T000848Z
LAST-MODIFIED:20241003T025211Z
UID:90567-1734768000-1734789600@events.bridgeport.edu
SUMMARY:BCYL Tutoring
DESCRIPTION:
URL:https://events.bridgeport.edu/event/bcyl-tutoring-187/
LOCATION:MAN 319 Campus: Main Campus\, 230 Park Avenue\, Bridgeport\, CT\, 06604\, United States
CATEGORIES:Community
END:VEVENT
BEGIN:VEVENT
DTSTART;TZID=America/New_York:20241221T080000
DTEND;TZID=America/New_York:20241221T140000
DTSTAMP:20260421T192353
CREATED:20240920T000848Z
LAST-MODIFIED:20241003T025212Z
UID:90568-1734768000-1734789600@events.bridgeport.edu
SUMMARY:BCYL Tutoring
DESCRIPTION:
URL:https://events.bridgeport.edu/event/bcyl-tutoring-188/
LOCATION:MAN 321 Campus: Main Campus\, 230 Park Avenue\, Bridgeport\, CT\, 06604\, United States
CATEGORIES:Community
END:VEVENT
BEGIN:VEVENT
DTSTART;TZID=America/New_York:20241221T080000
DTEND;TZID=America/New_York:20241221T140000
DTSTAMP:20260421T192353
CREATED:20240920T000849Z
LAST-MODIFIED:20241003T025159Z
UID:90569-1734768000-1734789600@events.bridgeport.edu
SUMMARY:BCYL Tutoring
DESCRIPTION:
URL:https://events.bridgeport.edu/event/bcyl-tutoring-189/
LOCATION:MAN 323 Campus: Main Campus\, 230 Park Avenue\, Bridgeport\, CT\, 06604\, United States
CATEGORIES:Community
END:VEVENT
BEGIN:VEVENT
DTSTART;TZID=America/New_York:20241221T080000
DTEND;TZID=America/New_York:20241221T140000
DTSTAMP:20260421T192353
CREATED:20240920T000849Z
LAST-MODIFIED:20241003T025159Z
UID:90570-1734768000-1734789600@events.bridgeport.edu
SUMMARY:BCYL Tutoring
DESCRIPTION:
URL:https://events.bridgeport.edu/event/bcyl-tutoring-190/
LOCATION:MAN 210 Campus: Main Campus\, 230 Park Avenue\, Bridgeport\, CT\, 06604\, United States
CATEGORIES:Community
END:VEVENT
BEGIN:VEVENT
DTSTART;TZID=America/New_York:20241221T080000
DTEND;TZID=America/New_York:20241221T150000
DTSTAMP:20260421T192353
CREATED:20241106T000450Z
LAST-MODIFIED:20241221T190253Z
UID:95897-1734768000-1734793200@events.bridgeport.edu
SUMMARY:BCYL SAT Prep
DESCRIPTION:
URL:https://events.bridgeport.edu/event/bcyl-sat-prep-5/
LOCATION:MAN 301 Campus: Main Campus\, 230 Park Avenue\, Bridgeport\, CT\, 06604\, United States
CATEGORIES:Community
END:VEVENT
BEGIN:VEVENT
DTSTART;TZID=America/New_York:20241221T080000
DTEND;TZID=America/New_York:20241221T150000
DTSTAMP:20260421T192353
CREATED:20241106T000450Z
LAST-MODIFIED:20241221T190252Z
UID:95898-1734768000-1734793200@events.bridgeport.edu
SUMMARY:BCYL SAT Prep
DESCRIPTION:
URL:https://events.bridgeport.edu/event/bcyl-sat-prep-6/
LOCATION:MAN 303 Campus: Main Campus\, 230 Park Avenue\, Bridgeport\, CT\, 06604\, United States
CATEGORIES:Community
END:VEVENT
BEGIN:VEVENT
DTSTART;TZID=America/New_York:20241223T093000
DTEND;TZID=America/New_York:20241223T110000
DTSTAMP:20260421T192353
CREATED:20240913T000553Z
LAST-MODIFIED:20241223T151750Z
UID:89569-1734946200-1734951600@events.bridgeport.edu
SUMMARY:Fairfield Schools
DESCRIPTION:
URL:https://events.bridgeport.edu/event/fairfield-schools-145/
LOCATION:MAN MAN 9 Campus: Main Campus
CATEGORIES:Community
END:VEVENT
BEGIN:VEVENT
DTSTART;TZID=America/New_York:20241226T093000
DTEND;TZID=America/New_York:20241226T110000
DTSTAMP:20260421T192353
CREATED:20240913T000607Z
LAST-MODIFIED:20241226T151749Z
UID:89570-1735205400-1735210800@events.bridgeport.edu
SUMMARY:Fairfield Schools
DESCRIPTION:
URL:https://events.bridgeport.edu/event/fairfield-schools-146/
LOCATION:MAN MAN 9 Campus: Main Campus
CATEGORIES:Community
END:VEVENT
BEGIN:VEVENT
DTSTART;TZID=America/New_York:20241227T093000
DTEND;TZID=America/New_York:20241227T110000
DTSTAMP:20260421T192353
CREATED:20240913T000607Z
LAST-MODIFIED:20241227T151753Z
UID:89571-1735291800-1735297200@events.bridgeport.edu
SUMMARY:Fairfield Schools
DESCRIPTION:
URL:https://events.bridgeport.edu/event/fairfield-schools-147/
LOCATION:MAN MAN 9 Campus: Main Campus
CATEGORIES:Community
END:VEVENT
BEGIN:VEVENT
DTSTART;TZID=America/New_York:20241227T153000
DTEND;TZID=America/New_York:20241227T173000
DTSTAMP:20260421T192353
CREATED:20241114T000443Z
LAST-MODIFIED:20241227T201749Z
UID:96783-1735313400-1735320600@events.bridgeport.edu
SUMMARY:BackCountry Jazz Music Program
DESCRIPTION:
URL:https://events.bridgeport.edu/event/backcountry-jazz-music-program-13/
LOCATION:JCSC 213-215 Campus: Main Campus\, 244 University Avenue\, Bridgeport\, CT\, 06604\, United States
CATEGORIES:Community
END:VEVENT
BEGIN:VEVENT
DTSTART;TZID=America/New_York:20241227T153000
DTEND;TZID=America/New_York:20241227T173000
DTSTAMP:20260421T192353
CREATED:20241114T000456Z
LAST-MODIFIED:20241227T201750Z
UID:96784-1735313400-1735320600@events.bridgeport.edu
SUMMARY:BackCountry Jazz Music Program
DESCRIPTION:
URL:https://events.bridgeport.edu/event/backcountry-jazz-music-program-14/
LOCATION:JCSC Knight S7 Campus: Main Campus
CATEGORIES:Community
END:VEVENT
BEGIN:VEVENT
DTSTART;TZID=America/New_York:20241227T153000
DTEND;TZID=America/New_York:20241227T173000
DTSTAMP:20260421T192353
CREATED:20241114T000456Z
LAST-MODIFIED:20241227T201750Z
UID:96785-1735313400-1735320600@events.bridgeport.edu
SUMMARY:BackCountry Jazz Music Program
DESCRIPTION:
URL:https://events.bridgeport.edu/event/backcountry-jazz-music-program-15/
LOCATION:JCSC 207-209 Campus: Main Campus\, 244 University Avenue\, Bridgeport\, CT\, 06604\, United States
CATEGORIES:Community
END:VEVENT
BEGIN:VEVENT
DTSTART;TZID=America/New_York:20241230T093000
DTEND;TZID=America/New_York:20241230T110000
DTSTAMP:20260421T192353
CREATED:20240912T173508Z
LAST-MODIFIED:20241230T151752Z
UID:89310-1735551000-1735556400@events.bridgeport.edu
SUMMARY:Fairfield Schools
DESCRIPTION:
URL:https://events.bridgeport.edu/event/fairfield-schools-52/
LOCATION:MAN MAN 9 Campus: Main Campus
CATEGORIES:Community
END:VEVENT
BEGIN:VEVENT
DTSTART;TZID=America/New_York:20250102T093000
DTEND;TZID=America/New_York:20250102T110000
DTSTAMP:20260421T192353
CREATED:20240913T000607Z
LAST-MODIFIED:20250102T151751Z
UID:89572-1735810200-1735815600@events.bridgeport.edu
SUMMARY:Fairfield Schools
DESCRIPTION:
URL:https://events.bridgeport.edu/event/fairfield-schools-148/
LOCATION:MAN MAN 9 Campus: Main Campus
CATEGORIES:Community
END:VEVENT
BEGIN:VEVENT
DTSTART;TZID=America/New_York:20250103T093000
DTEND;TZID=America/New_York:20250103T110000
DTSTAMP:20260421T192353
CREATED:20240912T173508Z
LAST-MODIFIED:20250103T151750Z
UID:89311-1735896600-1735902000@events.bridgeport.edu
SUMMARY:Fairfield Schools
DESCRIPTION:
URL:https://events.bridgeport.edu/event/fairfield-schools-53/
LOCATION:MAN MAN 9 Campus: Main Campus
CATEGORIES:Community
END:VEVENT
BEGIN:VEVENT
DTSTART;TZID=America/New_York:20250103T153000
DTEND;TZID=America/New_York:20250103T173000
DTSTAMP:20260421T192353
CREATED:20241114T000456Z
LAST-MODIFIED:20250103T201751Z
UID:96788-1735918200-1735925400@events.bridgeport.edu
SUMMARY:BackCountry Jazz Music Program
DESCRIPTION:
URL:https://events.bridgeport.edu/event/backcountry-jazz-music-program-18/
LOCATION:JCSC Knight S7 Campus: Main Campus
CATEGORIES:Community
END:VEVENT
BEGIN:VEVENT
DTSTART;TZID=America/New_York:20250103T153000
DTEND;TZID=America/New_York:20250103T173000
DTSTAMP:20260421T192353
CREATED:20241114T000456Z
LAST-MODIFIED:20250103T201751Z
UID:96786-1735918200-1735925400@events.bridgeport.edu
SUMMARY:BackCountry Jazz Music Program
DESCRIPTION:
URL:https://events.bridgeport.edu/event/backcountry-jazz-music-program-16/
LOCATION:JCSC 213-215 Campus: Main Campus\, 244 University Avenue\, Bridgeport\, CT\, 06604\, United States
CATEGORIES:Community
END:VEVENT
BEGIN:VEVENT
DTSTART;TZID=America/New_York:20250103T153000
DTEND;TZID=America/New_York:20250103T173000
DTSTAMP:20260421T192353
CREATED:20241114T000456Z
LAST-MODIFIED:20250103T201751Z
UID:96787-1735918200-1735925400@events.bridgeport.edu
SUMMARY:BackCountry Jazz Music Program
DESCRIPTION:
URL:https://events.bridgeport.edu/event/backcountry-jazz-music-program-17/
LOCATION:JCSC 207-209 Campus: Main Campus\, 244 University Avenue\, Bridgeport\, CT\, 06604\, United States
CATEGORIES:Community
END:VEVENT
BEGIN:VEVENT
DTSTART;TZID=America/New_York:20250104T080000
DTEND;TZID=America/New_York:20250104T140000
DTSTAMP:20260421T192353
CREATED:20241003T040750Z
LAST-MODIFIED:20250104T174753Z
UID:92157-1735977600-1735999200@events.bridgeport.edu
SUMMARY:BCYL
DESCRIPTION:
URL:https://events.bridgeport.edu/event/bcyl-9/
LOCATION:MAN 319 Campus: Main Campus\, 230 Park Avenue\, Bridgeport\, CT\, 06604\, United States
CATEGORIES:Community
END:VEVENT
BEGIN:VEVENT
DTSTART;TZID=America/New_York:20250104T080000
DTEND;TZID=America/New_York:20250104T140000
DTSTAMP:20260421T192353
CREATED:20241003T040751Z
LAST-MODIFIED:20250104T174753Z
UID:92165-1735977600-1735999200@events.bridgeport.edu
SUMMARY:BCYL
DESCRIPTION:
URL:https://events.bridgeport.edu/event/bcyl-16/
LOCATION:MAN 316 Campus: Main Campus\, 230 Park Avenue\, Bridgeport\, CT\, 06604\, United States
CATEGORIES:Community
END:VEVENT
BEGIN:VEVENT
DTSTART;TZID=America/New_York:20250104T080000
DTEND;TZID=America/New_York:20250104T140000
DTSTAMP:20260421T192353
CREATED:20241003T040751Z
LAST-MODIFIED:20250104T174753Z
UID:92160-1735977600-1735999200@events.bridgeport.edu
SUMMARY:BCYL
DESCRIPTION:
URL:https://events.bridgeport.edu/event/bcyl-11/
LOCATION:MAN 320 Campus: Main Campus\, 230 Park Avenue\, Bridgeport\, CT\, 06604\, United States
CATEGORIES:Community
END:VEVENT
BEGIN:VEVENT
DTSTART;TZID=America/New_York:20250104T080000
DTEND;TZID=America/New_York:20250104T140000
DTSTAMP:20260421T192353
CREATED:20241003T040751Z
LAST-MODIFIED:20250104T174753Z
UID:92161-1735977600-1735999200@events.bridgeport.edu
SUMMARY:BCYL
DESCRIPTION:
URL:https://events.bridgeport.edu/event/bcyl-12/
LOCATION:MAN 321 Campus: Main Campus\, 230 Park Avenue\, Bridgeport\, CT\, 06604\, United States
CATEGORIES:Community
END:VEVENT
BEGIN:VEVENT
DTSTART;TZID=America/New_York:20250104T080000
DTEND;TZID=America/New_York:20250104T140000
DTSTAMP:20260421T192353
CREATED:20241003T040751Z
LAST-MODIFIED:20250104T174753Z
UID:92162-1735977600-1735999200@events.bridgeport.edu
SUMMARY:BCYL
DESCRIPTION:
URL:https://events.bridgeport.edu/event/bcyl-13/
LOCATION:MAN 311 Campus: Main Campus\, 230 Park Avenue\, Bridgeport\, CT\, 06604\, United States
CATEGORIES:Community
END:VEVENT
BEGIN:VEVENT
DTSTART;TZID=America/New_York:20250104T080000
DTEND;TZID=America/New_York:20250104T140000
DTSTAMP:20260421T192353
CREATED:20241003T040751Z
LAST-MODIFIED:20250104T174754Z
UID:92163-1735977600-1735999200@events.bridgeport.edu
SUMMARY:BCYL
DESCRIPTION:
URL:https://events.bridgeport.edu/event/bcyl-14/
LOCATION:MAN 322 Campus: Main Campus\, 230 Park Avenue\, Bridgeport\, CT\, 06604\, United States
CATEGORIES:Community
END:VEVENT
BEGIN:VEVENT
DTSTART;TZID=America/New_York:20250104T080000
DTEND;TZID=America/New_York:20250104T140000
DTSTAMP:20260421T192353
CREATED:20241003T040751Z
LAST-MODIFIED:20250104T174754Z
UID:92164-1735977600-1735999200@events.bridgeport.edu
SUMMARY:BCYL
DESCRIPTION:
URL:https://events.bridgeport.edu/event/bcyl-15/
LOCATION:MAN 318 Campus: Main Campus\, 230 Park Avenue\, Bridgeport\, CT\, 06604\, United States
CATEGORIES:Community
END:VEVENT
END:VCALENDAR