

BEGIN:VCALENDAR
VERSION:2.0
PRODID:-//Campus Events - ECPv6.15.20//NONSGML v1.0//EN
CALSCALE:GREGORIAN
METHOD:PUBLISH
X-ORIGINAL-URL:https://events.bridgeport.edu
X-WR-CALDESC:Events for Campus Events
REFRESH-INTERVAL;VALUE=DURATION:PT1H
X-Robots-Tag:noindex
X-PUBLISHED-TTL:PT1H
BEGIN:VTIMEZONE
TZID:America/New_York
BEGIN:DAYLIGHT
TZOFFSETFROM:-0500
TZOFFSETTO:-0400
TZNAME:EDT
DTSTART:20230312T070000
END:DAYLIGHT
BEGIN:STANDARD
TZOFFSETFROM:-0400
TZOFFSETTO:-0500
TZNAME:EST
DTSTART:20231105T060000
END:STANDARD
BEGIN:DAYLIGHT
TZOFFSETFROM:-0500
TZOFFSETTO:-0400
TZNAME:EDT
DTSTART:20240310T070000
END:DAYLIGHT
BEGIN:STANDARD
TZOFFSETFROM:-0400
TZOFFSETTO:-0500
TZNAME:EST
DTSTART:20241103T060000
END:STANDARD
BEGIN:DAYLIGHT
TZOFFSETFROM:-0500
TZOFFSETTO:-0400
TZNAME:EDT
DTSTART:20250309T070000
END:DAYLIGHT
BEGIN:STANDARD
TZOFFSETFROM:-0400
TZOFFSETTO:-0500
TZNAME:EST
DTSTART:20251102T060000
END:STANDARD
END:VTIMEZONE
BEGIN:VEVENT
DTSTART;TZID=America/New_York:20240615T083000
DTEND;TZID=America/New_York:20240615T160000
DTSTAMP:20260422T025952
CREATED:20240105T124857Z
LAST-MODIFIED:20240614T160248Z
UID:60962-1718440200-1718467200@events.bridgeport.edu
SUMMARY:32BJ Benefits Saturday Training Courses
DESCRIPTION:
URL:https://events.bridgeport.edu/event/32bj-benefits-saturday-training-courses-17/
LOCATION:MAN 220 Campus: Main Campus\, 230 Park Avenue\, Bridgeport\, CT\, 06604\, United States
CATEGORIES:Community
END:VEVENT
BEGIN:VEVENT
DTSTART;TZID=America/New_York:20240615T083000
DTEND;TZID=America/New_York:20240615T163000
DTSTAMP:20260422T025952
CREATED:20240508T000426Z
LAST-MODIFIED:20240614T160248Z
UID:75250-1718440200-1718469000@events.bridgeport.edu
SUMMARY:Institute of Reading Development
DESCRIPTION:
URL:https://events.bridgeport.edu/event/institute-of-reading-development/
LOCATION:MAN 203 Campus: Main Campus\, 230 Park Avenue\, Bridgeport\, CT\, 06604\, United States
CATEGORIES:Community
END:VEVENT
BEGIN:VEVENT
DTSTART;TZID=America/New_York:20240616T083000
DTEND;TZID=America/New_York:20240616T163000
DTSTAMP:20260422T025952
CREATED:20240508T000426Z
LAST-MODIFIED:20240614T160249Z
UID:75251-1718526600-1718555400@events.bridgeport.edu
SUMMARY:Institute of Reading Development
DESCRIPTION:
URL:https://events.bridgeport.edu/event/institute-of-reading-development-2/
LOCATION:MAN 203 Campus: Main Campus\, 230 Park Avenue\, Bridgeport\, CT\, 06604\, United States
CATEGORIES:Community
END:VEVENT
BEGIN:VEVENT
DTSTART;TZID=America/New_York:20240618T083000
DTEND;TZID=America/New_York:20240618T140000
DTSTAMP:20260422T025952
CREATED:20240522T083342Z
LAST-MODIFIED:20240523T063343Z
UID:77387-1718699400-1718719200@events.bridgeport.edu
SUMMARY:J. Harris Academy of Police Training
DESCRIPTION:
URL:https://events.bridgeport.edu/event/j-harris-academy-of-police-training-2/
LOCATION:CARH 153 Campus: Main Campus\, 303 University Avenue\, Bridgeport\, CT\, 06604\, United States
CATEGORIES:Community
END:VEVENT
BEGIN:VEVENT
DTSTART;TZID=America/New_York:20240618T083000
DTEND;TZID=America/New_York:20240618T140000
DTSTAMP:20260422T025952
CREATED:20240523T074840Z
LAST-MODIFIED:20240605T193302Z
UID:77492-1718699400-1718719200@events.bridgeport.edu
SUMMARY:J.Harris Academy of Police Training
DESCRIPTION:
URL:https://events.bridgeport.edu/event/j-harris-academy-of-police-training-5/
LOCATION:MAN 220 Campus: Main Campus\, 230 Park Avenue\, Bridgeport\, CT\, 06604\, United States
CATEGORIES:Community
END:VEVENT
BEGIN:VEVENT
DTSTART;TZID=America/New_York:20240618T083000
DTEND;TZID=America/New_York:20240618T140000
DTSTAMP:20260422T025952
CREATED:20240606T000301Z
LAST-MODIFIED:20240618T174752Z
UID:78909-1718699400-1718719200@events.bridgeport.edu
SUMMARY:J.Harris Academy of Police Training
DESCRIPTION:
URL:https://events.bridgeport.edu/event/j-harris-academy-of-police-training-7/
LOCATION:CARH 252 Campus: Main Campus\, 303 University Avenue\, Bridgeport\, CT\, 06604\, United States
CATEGORIES:Community
END:VEVENT
BEGIN:VEVENT
DTSTART;TZID=America/New_York:20240618T083000
DTEND;TZID=America/New_York:20240618T163000
DTSTAMP:20260422T025952
CREATED:20240508T000426Z
LAST-MODIFIED:20240618T201749Z
UID:75252-1718699400-1718728200@events.bridgeport.edu
SUMMARY:Institute of Reading Development
DESCRIPTION:
URL:https://events.bridgeport.edu/event/institute-of-reading-development-3/
LOCATION:MAN 203 Campus: Main Campus\, 230 Park Avenue\, Bridgeport\, CT\, 06604\, United States
CATEGORIES:Community
END:VEVENT
BEGIN:VEVENT
DTSTART;TZID=America/New_York:20240620T113000
DTEND;TZID=America/New_York:20240620T133000
DTSTAMP:20260422T025952
CREATED:20240119T163700Z
LAST-MODIFIED:20240124T163603Z
UID:62568-1718883000-1718890200@events.bridgeport.edu
SUMMARY:Fairfield Bowling
DESCRIPTION:
URL:https://events.bridgeport.edu/event/fairfield-bowling-11/
LOCATION:JCSC UBowl Campus: Main Campus
CATEGORIES:Community
END:VEVENT
BEGIN:VEVENT
DTSTART;TZID=America/New_York:20240621T080000
DTEND;TZID=America/New_York:20240621T170000
DTSTAMP:20260422T025952
CREATED:20240417T025011Z
LAST-MODIFIED:20240603T190317Z
UID:73100-1718956800-1718989200@events.bridgeport.edu
SUMMARY:Bridgeport NOW
DESCRIPTION:
URL:https://events.bridgeport.edu/event/bridgeport-now/
LOCATION:JCSC 100 Campus: Main Campus\, 244 University Avenue\, Bridgeport\, CT\, 06604\, United States
CATEGORIES:Community
END:VEVENT
BEGIN:VEVENT
DTSTART;TZID=America/New_York:20240621T180000
DTEND;TZID=America/New_York:20240621T210000
DTSTAMP:20260422T025952
CREATED:20240603T201819Z
LAST-MODIFIED:20240622T001750Z
UID:78677-1718992800-1719003600@events.bridgeport.edu
SUMMARY:Undoing Racism - Bridgeport GEN NOW
DESCRIPTION:
URL:https://events.bridgeport.edu/event/undoing-racism-bridgeport-gen-now/
LOCATION:JCSC 100 Campus: Main Campus\, 244 University Avenue\, Bridgeport\, CT\, 06604\, United States
CATEGORIES:Community
END:VEVENT
BEGIN:VEVENT
DTSTART;TZID=America/New_York:20240622T080000
DTEND;TZID=America/New_York:20240622T170000
DTSTAMP:20260422T025952
CREATED:20240417T025011Z
LAST-MODIFIED:20240603T190317Z
UID:73101-1719043200-1719075600@events.bridgeport.edu
SUMMARY:Bridgeport NOW
DESCRIPTION:
URL:https://events.bridgeport.edu/event/bridgeport-now-2/
LOCATION:JCSC 100 Campus: Main Campus\, 244 University Avenue\, Bridgeport\, CT\, 06604\, United States
CATEGORIES:Community
END:VEVENT
BEGIN:VEVENT
DTSTART;TZID=America/New_York:20240622T083000
DTEND;TZID=America/New_York:20240622T160000
DTSTAMP:20260422T025952
CREATED:20240105T124909Z
LAST-MODIFIED:20240622T193252Z
UID:60963-1719045000-1719072000@events.bridgeport.edu
SUMMARY:32BJ Benefits Saturday Training Courses
DESCRIPTION:
URL:https://events.bridgeport.edu/event/32bj-benefits-saturday-training-courses-18/
LOCATION:MAN 220 Campus: Main Campus\, 230 Park Avenue\, Bridgeport\, CT\, 06604\, United States
CATEGORIES:Community
END:VEVENT
BEGIN:VEVENT
DTSTART;TZID=America/New_York:20240622T083000
DTEND;TZID=America/New_York:20240622T163000
DTSTAMP:20260422T025952
CREATED:20240508T000427Z
LAST-MODIFIED:20240622T193252Z
UID:75253-1719045000-1719073800@events.bridgeport.edu
SUMMARY:Institute of Reading Development
DESCRIPTION:
URL:https://events.bridgeport.edu/event/institute-of-reading-development-4/
LOCATION:MAN 203 Campus: Main Campus\, 230 Park Avenue\, Bridgeport\, CT\, 06604\, United States
CATEGORIES:Community
END:VEVENT
BEGIN:VEVENT
DTSTART;TZID=America/New_York:20240622T090000
DTEND;TZID=America/New_York:20240622T170000
DTSTAMP:20260422T025952
CREATED:20240603T201819Z
LAST-MODIFIED:20240622T193252Z
UID:78678-1719046800-1719075600@events.bridgeport.edu
SUMMARY:Undoing Racism - Bridgeport GEN NOW
DESCRIPTION:
URL:https://events.bridgeport.edu/event/undoing-racism-bridgeport-gen-now-2/
LOCATION:JCSC 100 Campus: Main Campus\, 244 University Avenue\, Bridgeport\, CT\, 06604\, United States
CATEGORIES:Community
END:VEVENT
BEGIN:VEVENT
DTSTART;TZID=America/New_York:20240623T080000
DTEND;TZID=America/New_York:20240623T170000
DTSTAMP:20260422T025952
CREATED:20240417T025012Z
LAST-MODIFIED:20240603T190318Z
UID:73102-1719129600-1719162000@events.bridgeport.edu
SUMMARY:Bridgeport NOW
DESCRIPTION:
URL:https://events.bridgeport.edu/event/bridgeport-now-3/
LOCATION:JCSC 100 Campus: Main Campus\, 244 University Avenue\, Bridgeport\, CT\, 06604\, United States
CATEGORIES:Community
END:VEVENT
BEGIN:VEVENT
DTSTART;TZID=America/New_York:20240623T083000
DTEND;TZID=America/New_York:20240623T163000
DTSTAMP:20260422T025952
CREATED:20240508T000439Z
LAST-MODIFIED:20240623T200251Z
UID:75254-1719131400-1719160200@events.bridgeport.edu
SUMMARY:Institute of Reading Development
DESCRIPTION:
URL:https://events.bridgeport.edu/event/institute-of-reading-development-5/
LOCATION:MAN 203 Campus: Main Campus\, 230 Park Avenue\, Bridgeport\, CT\, 06604\, United States
CATEGORIES:Community
END:VEVENT
BEGIN:VEVENT
DTSTART;TZID=America/New_York:20240623T090000
DTEND;TZID=America/New_York:20240623T170000
DTSTAMP:20260422T025952
CREATED:20240603T201819Z
LAST-MODIFIED:20240623T200251Z
UID:78679-1719133200-1719162000@events.bridgeport.edu
SUMMARY:Undoing Racism - Bridgeport GEN NOW
DESCRIPTION:
URL:https://events.bridgeport.edu/event/undoing-racism-bridgeport-gen-now-3/
LOCATION:JCSC 100 Campus: Main Campus\, 244 University Avenue\, Bridgeport\, CT\, 06604\, United States
CATEGORIES:Community
END:VEVENT
BEGIN:VEVENT
DTSTART;TZID=America/New_York:20240625T083000
DTEND;TZID=America/New_York:20240625T163000
DTSTAMP:20260422T025952
CREATED:20240508T000439Z
LAST-MODIFIED:20240625T191749Z
UID:75255-1719304200-1719333000@events.bridgeport.edu
SUMMARY:Institute of Reading Development
DESCRIPTION:
URL:https://events.bridgeport.edu/event/institute-of-reading-development-6/
LOCATION:MAN 203 Campus: Main Campus\, 230 Park Avenue\, Bridgeport\, CT\, 06604\, United States
CATEGORIES:Community
END:VEVENT
BEGIN:VEVENT
DTSTART;TZID=America/New_York:20240628T180000
DTEND;TZID=America/New_York:20240628T200000
DTSTAMP:20260422T025952
CREATED:20240307T000412Z
LAST-MODIFIED:20240320T131906Z
UID:67807-1719597600-1719604800@events.bridgeport.edu
SUMMARY:ARV Community Conversations - RYSAP
DESCRIPTION:
URL:https://events.bridgeport.edu/event/arv-community-conversations-rysap-4/
LOCATION:WAHL HC Main Area  Campus: Main Campus
CATEGORIES:Community
END:VEVENT
BEGIN:VEVENT
DTSTART;TZID=America/New_York:20240628T180000
DTEND;TZID=America/New_York:20240628T200000
DTSTAMP:20260422T025952
CREATED:20240320T141907Z
LAST-MODIFIED:20240628T194747Z
UID:70022-1719597600-1719604800@events.bridgeport.edu
SUMMARY:ARV Community Conversations - RYSAP hosted by the Office of Civic Engagement
DESCRIPTION:
URL:https://events.bridgeport.edu/event/arv-community-conversations-rysap-hosted-by-the-office-of-civic-engagement-4/
LOCATION:WAHL HC Main Area  Campus: Main Campus
CATEGORIES:Community
END:VEVENT
BEGIN:VEVENT
DTSTART;TZID=America/New_York:20240628T190000
DTEND;TZID=America/New_York:20240628T210000
DTSTAMP:20260422T025952
CREATED:20240625T000255Z
LAST-MODIFIED:20240629T002009Z
UID:80820-1719601200-1719608400@events.bridgeport.edu
SUMMARY:City of Bridgeport Fireworks in Seaside Park
DESCRIPTION:
URL:https://events.bridgeport.edu/event/city-of-bridgeport-fireworks-in-seaside-park/
LOCATION:OUTDOOR OFF GROUNDS Campus: Main Campus
CATEGORIES:Community
END:VEVENT
BEGIN:VEVENT
DTSTART;TZID=America/New_York:20240629T083000
DTEND;TZID=America/New_York:20240629T163000
DTSTAMP:20260422T025952
CREATED:20240508T000439Z
LAST-MODIFIED:20240629T191751Z
UID:75256-1719649800-1719678600@events.bridgeport.edu
SUMMARY:Institute of Reading Development
DESCRIPTION:
URL:https://events.bridgeport.edu/event/institute-of-reading-development-7/
LOCATION:MAN 203 Campus: Main Campus\, 230 Park Avenue\, Bridgeport\, CT\, 06604\, United States
CATEGORIES:Community
END:VEVENT
BEGIN:VEVENT
DTSTART;TZID=America/New_York:20240630T083000
DTEND;TZID=America/New_York:20240630T163000
DTSTAMP:20260422T025952
CREATED:20240508T000439Z
LAST-MODIFIED:20240630T050248Z
UID:75257-1719736200-1719765000@events.bridgeport.edu
SUMMARY:Institute of Reading Development
DESCRIPTION:
URL:https://events.bridgeport.edu/event/institute-of-reading-development-8/
LOCATION:MAN 203 Campus: Main Campus\, 230 Park Avenue\, Bridgeport\, CT\, 06604\, United States
CATEGORIES:Community
END:VEVENT
BEGIN:VEVENT
DTSTART;TZID=America/New_York:20240630T110000
DTEND;TZID=America/New_York:20240630T130000
DTSTAMP:20260422T025952
CREATED:20240625T000255Z
LAST-MODIFIED:20240630T050248Z
UID:80821-1719745200-1719752400@events.bridgeport.edu
SUMMARY:Barnum Festival Parade
DESCRIPTION:
URL:https://events.bridgeport.edu/event/barnum-festival-parade/
LOCATION:OUTDOOR OFF GROUNDS Campus: Main Campus
CATEGORIES:Community
END:VEVENT
BEGIN:VEVENT
DTSTART;TZID=America/New_York:20240702T083000
DTEND;TZID=America/New_York:20240702T163000
DTSTAMP:20260422T025952
CREATED:20240508T000439Z
LAST-MODIFIED:20240702T193252Z
UID:75258-1719909000-1719937800@events.bridgeport.edu
SUMMARY:Institute of Reading Development
DESCRIPTION:
URL:https://events.bridgeport.edu/event/institute-of-reading-development-9/
LOCATION:MAN 203 Campus: Main Campus\, 230 Park Avenue\, Bridgeport\, CT\, 06604\, United States
CATEGORIES:Community
END:VEVENT
BEGIN:VEVENT
DTSTART;TZID=America/New_York:20240706T083000
DTEND;TZID=America/New_York:20240706T163000
DTSTAMP:20260422T025952
CREATED:20240508T000440Z
LAST-MODIFIED:20240706T193248Z
UID:75259-1720254600-1720283400@events.bridgeport.edu
SUMMARY:Institute of Reading Development
DESCRIPTION:
URL:https://events.bridgeport.edu/event/institute-of-reading-development-10/
LOCATION:MAN 203 Campus: Main Campus\, 230 Park Avenue\, Bridgeport\, CT\, 06604\, United States
CATEGORIES:Community
END:VEVENT
BEGIN:VEVENT
DTSTART;TZID=America/New_York:20240707T083000
DTEND;TZID=America/New_York:20240707T163000
DTSTAMP:20260422T025952
CREATED:20240508T000440Z
LAST-MODIFIED:20240707T194750Z
UID:75260-1720341000-1720369800@events.bridgeport.edu
SUMMARY:Institute of Reading Development
DESCRIPTION:
URL:https://events.bridgeport.edu/event/institute-of-reading-development-11/
LOCATION:MAN 203 Campus: Main Campus\, 230 Park Avenue\, Bridgeport\, CT\, 06604\, United States
CATEGORIES:Community
END:VEVENT
BEGIN:VEVENT
DTSTART;TZID=America/New_York:20240708T090000
DTEND;TZID=America/New_York:20240708T150000
DTSTAMP:20260422T025952
CREATED:20240516T074919Z
LAST-MODIFIED:20240708T183248Z
UID:76468-1720429200-1720450800@events.bridgeport.edu
SUMMARY:Back Country Jazz Summer Camp 2024
DESCRIPTION:
URL:https://events.bridgeport.edu/event/back-country-jazz-summer-camp-2024/
LOCATION:JCSC 207-209 Campus: Main Campus\, 244 University Avenue\, Bridgeport\, CT\, 06604\, United States
CATEGORIES:Community
END:VEVENT
BEGIN:VEVENT
DTSTART;TZID=America/New_York:20240708T090000
DTEND;TZID=America/New_York:20240708T150000
DTSTAMP:20260422T025952
CREATED:20240516T074920Z
LAST-MODIFIED:20240708T183248Z
UID:76474-1720429200-1720450800@events.bridgeport.edu
SUMMARY:Back Country Jazz Summer Camp 2024
DESCRIPTION:
URL:https://events.bridgeport.edu/event/back-country-jazz-summer-camp-2024-5/
LOCATION:MAN 3 Campus: Main Campus\, 230 Park Avenue\, Bridgeport\, CT\, 06604\, United States
CATEGORIES:Community
END:VEVENT
BEGIN:VEVENT
DTSTART;TZID=America/New_York:20240708T090000
DTEND;TZID=America/New_York:20240708T150000
DTSTAMP:20260422T025952
CREATED:20240516T074920Z
LAST-MODIFIED:20240708T183248Z
UID:76470-1720429200-1720450800@events.bridgeport.edu
SUMMARY:Back Country Jazz Summer Camp 2024
DESCRIPTION:
URL:https://events.bridgeport.edu/event/back-country-jazz-summer-camp-2024-2/
LOCATION:JCSC 205 Campus: Main Campus\, 244 University Avenue\, Bridgeport\, CT\, 06604\, United States
CATEGORIES:Community
END:VEVENT
END:VCALENDAR