

BEGIN:VCALENDAR
VERSION:2.0
PRODID:-//Campus Events - ECPv6.15.20//NONSGML v1.0//EN
CALSCALE:GREGORIAN
METHOD:PUBLISH
X-WR-CALNAME:Campus Events
X-ORIGINAL-URL:https://events.bridgeport.edu
X-WR-CALDESC:Events for Campus Events
REFRESH-INTERVAL;VALUE=DURATION:PT1H
X-Robots-Tag:noindex
X-PUBLISHED-TTL:PT1H
BEGIN:VTIMEZONE
TZID:America/New_York
BEGIN:DAYLIGHT
TZOFFSETFROM:-0500
TZOFFSETTO:-0400
TZNAME:EDT
DTSTART:20230312T070000
END:DAYLIGHT
BEGIN:STANDARD
TZOFFSETFROM:-0400
TZOFFSETTO:-0500
TZNAME:EST
DTSTART:20231105T060000
END:STANDARD
BEGIN:DAYLIGHT
TZOFFSETFROM:-0500
TZOFFSETTO:-0400
TZNAME:EDT
DTSTART:20240310T070000
END:DAYLIGHT
BEGIN:STANDARD
TZOFFSETFROM:-0400
TZOFFSETTO:-0500
TZNAME:EST
DTSTART:20241103T060000
END:STANDARD
BEGIN:DAYLIGHT
TZOFFSETFROM:-0500
TZOFFSETTO:-0400
TZNAME:EDT
DTSTART:20250309T070000
END:DAYLIGHT
BEGIN:STANDARD
TZOFFSETFROM:-0400
TZOFFSETTO:-0500
TZNAME:EST
DTSTART:20251102T060000
END:STANDARD
END:VTIMEZONE
BEGIN:VEVENT
DTSTART;TZID=America/New_York:20240715T090000
DTEND;TZID=America/New_York:20240715T150000
DTSTAMP:20260422T025742
CREATED:20240516T075009Z
LAST-MODIFIED:20240715T180248Z
UID:76507-1721034000-1721055600@events.bridgeport.edu
SUMMARY:Back Country Jazz Summer Camp 2024
DESCRIPTION:
URL:https://events.bridgeport.edu/event/back-country-jazz-summer-camp-2024-34/
LOCATION:JCSC 207-209 Campus: Main Campus\, 244 University Avenue\, Bridgeport\, CT\, 06604\, United States
CATEGORIES:Community
END:VEVENT
BEGIN:VEVENT
DTSTART;TZID=America/New_York:20240715T090000
DTEND;TZID=America/New_York:20240715T150000
DTSTAMP:20260422T025742
CREATED:20240516T075009Z
LAST-MODIFIED:20240517T183508Z
UID:76508-1721034000-1721055600@events.bridgeport.edu
SUMMARY:Back Country Jazz Summer Camp 2024
DESCRIPTION:
URL:https://events.bridgeport.edu/event/back-country-jazz-summer-camp-2024-35/
LOCATION:JCSC Knight S7 Campus: Main Campus
CATEGORIES:Community
END:VEVENT
BEGIN:VEVENT
DTSTART;TZID=America/New_York:20240715T090000
DTEND;TZID=America/New_York:20240715T150000
DTSTAMP:20260422T025742
CREATED:20240516T075009Z
LAST-MODIFIED:20240715T180248Z
UID:76509-1721034000-1721055600@events.bridgeport.edu
SUMMARY:BackCountry Jazz Summer Camp 2024
DESCRIPTION:
URL:https://events.bridgeport.edu/event/backcountry-jazz-summer-camp-2024-6/
LOCATION:JCSC KNIGHT S2 – Commuter Lounge Campus: Main Campus
CATEGORIES:Community
END:VEVENT
BEGIN:VEVENT
DTSTART;TZID=America/New_York:20240715T090000
DTEND;TZID=America/New_York:20240715T150000
DTSTAMP:20260422T025742
CREATED:20240516T075009Z
LAST-MODIFIED:20240715T180248Z
UID:76510-1721034000-1721055600@events.bridgeport.edu
SUMMARY:Back Country Jazz Summer Camp 2024
DESCRIPTION:
URL:https://events.bridgeport.edu/event/back-country-jazz-summer-camp-2024-36/
LOCATION:MAN 3 Campus: Main Campus\, 230 Park Avenue\, Bridgeport\, CT\, 06604\, United States
CATEGORIES:Community
END:VEVENT
BEGIN:VEVENT
DTSTART;TZID=America/New_York:20240715T090000
DTEND;TZID=America/New_York:20240715T150000
DTSTAMP:20260422T025742
CREATED:20240610T200736Z
LAST-MODIFIED:20240715T180248Z
UID:79429-1721034000-1721055600@events.bridgeport.edu
SUMMARY:BackCountry Jazz Summer Camp 2024
DESCRIPTION:
URL:https://events.bridgeport.edu/event/backcountry-jazz-summer-camp-2024-26/
LOCATION:MAN 16 Campus: Main Campus\, 230 Park Avenue\, Bridgeport\, CT\, 06604\, United States
CATEGORIES:Community
END:VEVENT
BEGIN:VEVENT
DTSTART;TZID=America/New_York:20240716T083000
DTEND;TZID=America/New_York:20240716T140000
DTSTAMP:20260422T025742
CREATED:20240610T200749Z
LAST-MODIFIED:20240716T164750Z
UID:79431-1721118600-1721138400@events.bridgeport.edu
SUMMARY:Bridgeport Caribe Youth Leaders S.U.C.C.E.S.S Summer Program
DESCRIPTION:
URL:https://events.bridgeport.edu/event/bridgeport-caribe-youth-leaders-s-u-c-c-e-s-s-summer-program-3/
LOCATION:MAN 301 Campus: Main Campus\, 230 Park Avenue\, Bridgeport\, CT\, 06604\, United States
CATEGORIES:Community
END:VEVENT
BEGIN:VEVENT
DTSTART;TZID=America/New_York:20240716T083000
DTEND;TZID=America/New_York:20240716T163000
DTSTAMP:20260422T025742
CREATED:20240508T000452Z
LAST-MODIFIED:20240716T190329Z
UID:75264-1721118600-1721147400@events.bridgeport.edu
SUMMARY:Institute of Reading Development
DESCRIPTION:
URL:https://events.bridgeport.edu/event/institute-of-reading-development-15/
LOCATION:MAN 203 Campus: Main Campus\, 230 Park Avenue\, Bridgeport\, CT\, 06604\, United States
CATEGORIES:Community
END:VEVENT
BEGIN:VEVENT
DTSTART;TZID=America/New_York:20240716T090000
DTEND;TZID=America/New_York:20240716T150000
DTSTAMP:20260422T025742
CREATED:20240516T075009Z
LAST-MODIFIED:20240716T180250Z
UID:76511-1721120400-1721142000@events.bridgeport.edu
SUMMARY:Back Country Jazz Summer Camp 2024
DESCRIPTION:
URL:https://events.bridgeport.edu/event/back-country-jazz-summer-camp-2024-37/
LOCATION:MAN 3 Campus: Main Campus\, 230 Park Avenue\, Bridgeport\, CT\, 06604\, United States
CATEGORIES:Community
END:VEVENT
BEGIN:VEVENT
DTSTART;TZID=America/New_York:20240716T090000
DTEND;TZID=America/New_York:20240716T150000
DTSTAMP:20260422T025742
CREATED:20240516T075021Z
LAST-MODIFIED:20240716T180250Z
UID:76512-1721120400-1721142000@events.bridgeport.edu
SUMMARY:Back Country Jazz Summer Camp 2024
DESCRIPTION:
URL:https://events.bridgeport.edu/event/back-country-jazz-summer-camp-2024-38/
LOCATION:JCSC 207-209 Campus: Main Campus\, 244 University Avenue\, Bridgeport\, CT\, 06604\, United States
CATEGORIES:Community
END:VEVENT
BEGIN:VEVENT
DTSTART;TZID=America/New_York:20240716T090000
DTEND;TZID=America/New_York:20240716T150000
DTSTAMP:20260422T025742
CREATED:20240516T075021Z
LAST-MODIFIED:20240517T183520Z
UID:76513-1721120400-1721142000@events.bridgeport.edu
SUMMARY:Back Country Jazz Summer Camp 2024
DESCRIPTION:
URL:https://events.bridgeport.edu/event/back-country-jazz-summer-camp-2024-39/
LOCATION:JCSC Knight S7 Campus: Main Campus
CATEGORIES:Community
END:VEVENT
BEGIN:VEVENT
DTSTART;TZID=America/New_York:20240716T090000
DTEND;TZID=America/New_York:20240716T150000
DTSTAMP:20260422T025742
CREATED:20240516T075021Z
LAST-MODIFIED:20240716T180250Z
UID:76514-1721120400-1721142000@events.bridgeport.edu
SUMMARY:BackCountry Jazz Summer Camp 2024
DESCRIPTION:
URL:https://events.bridgeport.edu/event/backcountry-jazz-summer-camp-2024-7/
LOCATION:JCSC KNIGHT S2 – Commuter Lounge Campus: Main Campus
CATEGORIES:Community
END:VEVENT
BEGIN:VEVENT
DTSTART;TZID=America/New_York:20240716T090000
DTEND;TZID=America/New_York:20240716T150000
DTSTAMP:20260422T025742
CREATED:20240516T075022Z
LAST-MODIFIED:20240610T185101Z
UID:76517-1721120400-1721142000@events.bridgeport.edu
SUMMARY:Back Country Jazz Summer Camp 2024
DESCRIPTION:
URL:https://events.bridgeport.edu/event/back-country-jazz-summer-camp-2024-42/
LOCATION:MAN 201 Campus: Main Campus\, 230 Park Avenue\, Bridgeport\, CT\, 06604\, United States
CATEGORIES:Community
END:VEVENT
BEGIN:VEVENT
DTSTART;TZID=America/New_York:20240716T090000
DTEND;TZID=America/New_York:20240716T150000
DTSTAMP:20260422T025742
CREATED:20240516T075022Z
LAST-MODIFIED:20240716T180250Z
UID:76515-1721120400-1721142000@events.bridgeport.edu
SUMMARY:Back Country Jazz Summer Camp 2024
DESCRIPTION:
URL:https://events.bridgeport.edu/event/back-country-jazz-summer-camp-2024-40/
LOCATION:JCSC 205 Campus: Main Campus\, 244 University Avenue\, Bridgeport\, CT\, 06604\, United States
CATEGORIES:Community
END:VEVENT
BEGIN:VEVENT
DTSTART;TZID=America/New_York:20240716T090000
DTEND;TZID=America/New_York:20240716T150000
DTSTAMP:20260422T025742
CREATED:20240516T075022Z
LAST-MODIFIED:20240716T180250Z
UID:76516-1721120400-1721142000@events.bridgeport.edu
SUMMARY:Back Country Jazz Summer Camp 2024
DESCRIPTION:
URL:https://events.bridgeport.edu/event/back-country-jazz-summer-camp-2024-41/
LOCATION:MAN 1 Campus: Main Campus\, 230 Park Avenue\, Bridgeport\, CT\, 06604\, United States
CATEGORIES:Community
END:VEVENT
BEGIN:VEVENT
DTSTART;TZID=America/New_York:20240716T090000
DTEND;TZID=America/New_York:20240716T150000
DTSTAMP:20260422T025742
CREATED:20240610T200749Z
LAST-MODIFIED:20240716T180249Z
UID:79430-1721120400-1721142000@events.bridgeport.edu
SUMMARY:BackCountry Jazz Summer Camp 2024
DESCRIPTION:
URL:https://events.bridgeport.edu/event/backcountry-jazz-summer-camp-2024-27/
LOCATION:MAN 16 Campus: Main Campus\, 230 Park Avenue\, Bridgeport\, CT\, 06604\, United States
CATEGORIES:Community
END:VEVENT
BEGIN:VEVENT
DTSTART;TZID=America/New_York:20240717T090000
DTEND;TZID=America/New_York:20240717T150000
DTSTAMP:20260422T025742
CREATED:20240516T075022Z
LAST-MODIFIED:20240717T180248Z
UID:76518-1721206800-1721228400@events.bridgeport.edu
SUMMARY:Back Country Jazz Summer Camp 2024
DESCRIPTION:
URL:https://events.bridgeport.edu/event/back-country-jazz-summer-camp-2024-43/
LOCATION:JCSC 205 Campus: Main Campus\, 244 University Avenue\, Bridgeport\, CT\, 06604\, United States
CATEGORIES:Community
END:VEVENT
BEGIN:VEVENT
DTSTART;TZID=America/New_York:20240717T090000
DTEND;TZID=America/New_York:20240717T150000
DTSTAMP:20260422T025742
CREATED:20240516T075022Z
LAST-MODIFIED:20240717T180248Z
UID:76519-1721206800-1721228400@events.bridgeport.edu
SUMMARY:Back Country Jazz Summer Camp 2024
DESCRIPTION:
URL:https://events.bridgeport.edu/event/back-country-jazz-summer-camp-2024-44/
LOCATION:MAN 3 Campus: Main Campus\, 230 Park Avenue\, Bridgeport\, CT\, 06604\, United States
CATEGORIES:Community
END:VEVENT
BEGIN:VEVENT
DTSTART;TZID=America/New_York:20240717T090000
DTEND;TZID=America/New_York:20240717T150000
DTSTAMP:20260422T025742
CREATED:20240516T075022Z
LAST-MODIFIED:20240717T180248Z
UID:76520-1721206800-1721228400@events.bridgeport.edu
SUMMARY:Back Country Jazz Summer Camp 2024
DESCRIPTION:
URL:https://events.bridgeport.edu/event/back-country-jazz-summer-camp-2024-45/
LOCATION:JCSC 207-209 Campus: Main Campus\, 244 University Avenue\, Bridgeport\, CT\, 06604\, United States
CATEGORIES:Community
END:VEVENT
BEGIN:VEVENT
DTSTART;TZID=America/New_York:20240717T090000
DTEND;TZID=America/New_York:20240717T150000
DTSTAMP:20260422T025742
CREATED:20240516T075033Z
LAST-MODIFIED:20240717T180248Z
UID:76522-1721206800-1721228400@events.bridgeport.edu
SUMMARY:Back Country Jazz Summer Camp 2024
DESCRIPTION:
URL:https://events.bridgeport.edu/event/back-country-jazz-summer-camp-2024-47/
LOCATION:MAN 1 Campus: Main Campus\, 230 Park Avenue\, Bridgeport\, CT\, 06604\, United States
CATEGORIES:Community
END:VEVENT
BEGIN:VEVENT
DTSTART;TZID=America/New_York:20240717T090000
DTEND;TZID=America/New_York:20240717T150000
DTSTAMP:20260422T025742
CREATED:20240516T075033Z
LAST-MODIFIED:20240610T185101Z
UID:76521-1721206800-1721228400@events.bridgeport.edu
SUMMARY:Back Country Jazz Summer Camp 2024
DESCRIPTION:
URL:https://events.bridgeport.edu/event/back-country-jazz-summer-camp-2024-46/
LOCATION:MAN 201 Campus: Main Campus\, 230 Park Avenue\, Bridgeport\, CT\, 06604\, United States
CATEGORIES:Community
END:VEVENT
BEGIN:VEVENT
DTSTART;TZID=America/New_York:20240717T090000
DTEND;TZID=America/New_York:20240717T150000
DTSTAMP:20260422T025742
CREATED:20240516T075034Z
LAST-MODIFIED:20240517T183533Z
UID:76523-1721206800-1721228400@events.bridgeport.edu
SUMMARY:Back Country Jazz Summer Camp 2024
DESCRIPTION:
URL:https://events.bridgeport.edu/event/back-country-jazz-summer-camp-2024-48/
LOCATION:JCSC Knight S7 Campus: Main Campus
CATEGORIES:Community
END:VEVENT
BEGIN:VEVENT
DTSTART;TZID=America/New_York:20240717T090000
DTEND;TZID=America/New_York:20240717T150000
DTSTAMP:20260422T025742
CREATED:20240516T075034Z
LAST-MODIFIED:20240717T180248Z
UID:76524-1721206800-1721228400@events.bridgeport.edu
SUMMARY:BackCountry Jazz Summer Camp 2024
DESCRIPTION:
URL:https://events.bridgeport.edu/event/backcountry-jazz-summer-camp-2024-8/
LOCATION:JCSC KNIGHT S2 – Commuter Lounge Campus: Main Campus
CATEGORIES:Community
END:VEVENT
BEGIN:VEVENT
DTSTART;TZID=America/New_York:20240717T090000
DTEND;TZID=America/New_York:20240717T150000
DTSTAMP:20260422T025742
CREATED:20240610T200802Z
LAST-MODIFIED:20240717T180248Z
UID:79432-1721206800-1721228400@events.bridgeport.edu
SUMMARY:BackCountry Jazz Summer Camp 2024
DESCRIPTION:
URL:https://events.bridgeport.edu/event/backcountry-jazz-summer-camp-2024-28/
LOCATION:MAN 16 Campus: Main Campus\, 230 Park Avenue\, Bridgeport\, CT\, 06604\, United States
CATEGORIES:Community
END:VEVENT
BEGIN:VEVENT
DTSTART;TZID=America/New_York:20240718T083000
DTEND;TZID=America/New_York:20240718T140000
DTSTAMP:20260422T025742
CREATED:20240610T200802Z
LAST-MODIFIED:20240718T173249Z
UID:79433-1721291400-1721311200@events.bridgeport.edu
SUMMARY:Bridgeport Caribe Youth Leaders S.U.C.C.E.S.S Summer Program
DESCRIPTION:
URL:https://events.bridgeport.edu/event/bridgeport-caribe-youth-leaders-s-u-c-c-e-s-s-summer-program-4/
LOCATION:MAN 301 Campus: Main Campus\, 230 Park Avenue\, Bridgeport\, CT\, 06604\, United States
CATEGORIES:Community
END:VEVENT
BEGIN:VEVENT
DTSTART;TZID=America/New_York:20240718T090000
DTEND;TZID=America/New_York:20240718T150000
DTSTAMP:20260422T025742
CREATED:20240516T075034Z
LAST-MODIFIED:20240610T185114Z
UID:76527-1721293200-1721314800@events.bridgeport.edu
SUMMARY:Back Country Jazz Summer Camp 2024
DESCRIPTION:
URL:https://events.bridgeport.edu/event/back-country-jazz-summer-camp-2024-51/
LOCATION:MAN 201 Campus: Main Campus\, 230 Park Avenue\, Bridgeport\, CT\, 06604\, United States
CATEGORIES:Community
END:VEVENT
BEGIN:VEVENT
DTSTART;TZID=America/New_York:20240718T090000
DTEND;TZID=America/New_York:20240718T150000
DTSTAMP:20260422T025742
CREATED:20240516T075034Z
LAST-MODIFIED:20240718T184748Z
UID:76528-1721293200-1721314800@events.bridgeport.edu
SUMMARY:Back Country Jazz Summer Camp 2024
DESCRIPTION:
URL:https://events.bridgeport.edu/event/back-country-jazz-summer-camp-2024-52/
LOCATION:MAN 1 Campus: Main Campus\, 230 Park Avenue\, Bridgeport\, CT\, 06604\, United States
CATEGORIES:Community
END:VEVENT
BEGIN:VEVENT
DTSTART;TZID=America/New_York:20240718T090000
DTEND;TZID=America/New_York:20240718T150000
DTSTAMP:20260422T025742
CREATED:20240516T075034Z
LAST-MODIFIED:20240718T184748Z
UID:76529-1721293200-1721314800@events.bridgeport.edu
SUMMARY:Back Country Jazz Summer Camp 2024
DESCRIPTION:
URL:https://events.bridgeport.edu/event/back-country-jazz-summer-camp-2024-53/
LOCATION:JCSC 207-209 Campus: Main Campus\, 244 University Avenue\, Bridgeport\, CT\, 06604\, United States
CATEGORIES:Community
END:VEVENT
BEGIN:VEVENT
DTSTART;TZID=America/New_York:20240718T090000
DTEND;TZID=America/New_York:20240718T150000
DTSTAMP:20260422T025742
CREATED:20240516T075034Z
LAST-MODIFIED:20240718T184748Z
UID:76530-1721293200-1721314800@events.bridgeport.edu
SUMMARY:BackCountry Jazz Summer Camp 2024
DESCRIPTION:
URL:https://events.bridgeport.edu/event/backcountry-jazz-summer-camp-2024-9/
LOCATION:JCSC KNIGHT S2 – Commuter Lounge Campus: Main Campus
CATEGORIES:Community
END:VEVENT
BEGIN:VEVENT
DTSTART;TZID=America/New_York:20240718T090000
DTEND;TZID=America/New_York:20240718T150000
DTSTAMP:20260422T025742
CREATED:20240516T075034Z
LAST-MODIFIED:20240718T184748Z
UID:76525-1721293200-1721314800@events.bridgeport.edu
SUMMARY:Back Country Jazz Summer Camp 2024
DESCRIPTION:
URL:https://events.bridgeport.edu/event/back-country-jazz-summer-camp-2024-49/
LOCATION:MAN 3 Campus: Main Campus\, 230 Park Avenue\, Bridgeport\, CT\, 06604\, United States
CATEGORIES:Community
END:VEVENT
BEGIN:VEVENT
DTSTART;TZID=America/New_York:20240718T090000
DTEND;TZID=America/New_York:20240718T150000
DTSTAMP:20260422T025742
CREATED:20240516T075034Z
LAST-MODIFIED:20240718T184748Z
UID:76526-1721293200-1721314800@events.bridgeport.edu
SUMMARY:Back Country Jazz Summer Camp 2024
DESCRIPTION:
URL:https://events.bridgeport.edu/event/back-country-jazz-summer-camp-2024-50/
LOCATION:JCSC 205 Campus: Main Campus\, 244 University Avenue\, Bridgeport\, CT\, 06604\, United States
CATEGORIES:Community
END:VEVENT
END:VCALENDAR