

BEGIN:VCALENDAR
VERSION:2.0
PRODID:-//Campus Events - ECPv6.15.20//NONSGML v1.0//EN
CALSCALE:GREGORIAN
METHOD:PUBLISH
X-WR-CALNAME:Campus Events
X-ORIGINAL-URL:https://events.bridgeport.edu
X-WR-CALDESC:Events for Campus Events
REFRESH-INTERVAL;VALUE=DURATION:PT1H
X-Robots-Tag:noindex
X-PUBLISHED-TTL:PT1H
BEGIN:VTIMEZONE
TZID:America/New_York
BEGIN:DAYLIGHT
TZOFFSETFROM:-0500
TZOFFSETTO:-0400
TZNAME:EDT
DTSTART:20250309T070000
END:DAYLIGHT
BEGIN:STANDARD
TZOFFSETFROM:-0400
TZOFFSETTO:-0500
TZNAME:EST
DTSTART:20251102T060000
END:STANDARD
BEGIN:DAYLIGHT
TZOFFSETFROM:-0500
TZOFFSETTO:-0400
TZNAME:EDT
DTSTART:20260308T070000
END:DAYLIGHT
BEGIN:STANDARD
TZOFFSETFROM:-0400
TZOFFSETTO:-0500
TZNAME:EST
DTSTART:20261101T060000
END:STANDARD
BEGIN:DAYLIGHT
TZOFFSETFROM:-0500
TZOFFSETTO:-0400
TZNAME:EDT
DTSTART:20270314T070000
END:DAYLIGHT
BEGIN:STANDARD
TZOFFSETFROM:-0400
TZOFFSETTO:-0500
TZNAME:EST
DTSTART:20271107T060000
END:STANDARD
END:VTIMEZONE
BEGIN:VEVENT
DTSTART;TZID=America/New_York:20260318T180000
DTEND;TZID=America/New_York:20260318T200000
DTSTAMP:20260423T185102
CREATED:20260121T001748Z
LAST-MODIFIED:20260223T054723Z
UID:142392-1773856800-1773864000@events.bridgeport.edu
SUMMARY:BPD Citizens Academy
DESCRIPTION:
URL:https://events.bridgeport.edu/event/bpd-citizens-academy-8/
LOCATION:CARH 153 Campus: Main Campus\, 303 University Avenue\, Bridgeport\, CT\, 06604\, United States
CATEGORIES:Community
END:VEVENT
BEGIN:VEVENT
DTSTART;TZID=America/New_York:20260319T000000
DTEND;TZID=America/New_York:20260319T235900
DTSTAMP:20260423T185102
CREATED:20260124T001849Z
LAST-MODIFIED:20260223T054723Z
UID:143465-1773878400-1773964740@events.bridgeport.edu
SUMMARY:Ramadan Prayer Room - Student Affairs
DESCRIPTION:
URL:https://events.bridgeport.edu/event/ramadan-prayer-room-student-affairs-31/
LOCATION:JCSC 003 Campus: Main Campus
CATEGORIES:Community
END:VEVENT
BEGIN:VEVENT
DTSTART;TZID=America/New_York:20260320T153000
DTEND;TZID=America/New_York:20260320T173000
DTSTAMP:20260423T185102
CREATED:20260121T001748Z
LAST-MODIFIED:20260223T054723Z
UID:142394-1774020600-1774027800@events.bridgeport.edu
SUMMARY:BackCountry Jazz -Friday Music Program
DESCRIPTION:
URL:https://events.bridgeport.edu/event/backcountry-jazz-friday-music-program-17/
LOCATION:JCSC 207-209 Campus: Main Campus\, 244 University Avenue\, Bridgeport\, CT\, 06604\, United States
CATEGORIES:Community
END:VEVENT
BEGIN:VEVENT
DTSTART;TZID=America/New_York:20260320T153000
DTEND;TZID=America/New_York:20260320T173000
DTSTAMP:20260423T185102
CREATED:20260121T001748Z
LAST-MODIFIED:20260223T054723Z
UID:142395-1774020600-1774027800@events.bridgeport.edu
SUMMARY:BackCountry Jazz -Friday Music Program
DESCRIPTION:
URL:https://events.bridgeport.edu/event/backcountry-jazz-friday-music-program-18/
LOCATION:JCSC Knight S7 Campus: Main Campus
CATEGORIES:Community
END:VEVENT
BEGIN:VEVENT
DTSTART;TZID=America/New_York:20260320T170000
DTEND;TZID=America/New_York:20260320T193000
DTSTAMP:20260423T185102
CREATED:20260311T183921Z
LAST-MODIFIED:20260317T161247Z
UID:152581-1774026000-1774035000@events.bridgeport.edu
SUMMARY:AI & The Future in New Haven (w/ The AI Collective)
DESCRIPTION:
URL:https://events.bridgeport.edu/event/ai-incubator/
LOCATION:TECH – IET Lab\, 221 University Avenue\, Bridgeport\, CT\, 06604\, United States
CATEGORIES:Community,Meeting
END:VEVENT
BEGIN:VEVENT
DTSTART;TZID=America/New_York:20260320T190000
DTEND;TZID=America/New_York:20260320T220000
DTSTAMP:20260423T185102
CREATED:20260121T001759Z
LAST-MODIFIED:20260223T054723Z
UID:142400-1774033200-1774044000@events.bridgeport.edu
SUMMARY:BIA Theater Presents A Hitchhiker's Guide To The Galaxy
DESCRIPTION:
URL:https://events.bridgeport.edu/event/bia-theater-presents-a-hitchhikers-guide-to-the-galaxy/
LOCATION:ABC 118 Campus: Main Campus\, 84 Iranistan Avenue\, Bridgeport\, CT\, 06604\, United States
CATEGORIES:Community
END:VEVENT
BEGIN:VEVENT
DTSTART;TZID=America/New_York:20260321T080000
DTEND;TZID=America/New_York:20260321T130000
DTSTAMP:20260423T185102
CREATED:20260121T001759Z
LAST-MODIFIED:20260223T054723Z
UID:142405-1774080000-1774098000@events.bridgeport.edu
SUMMARY:BCYL Winter/Spring Tutoring
DESCRIPTION:
URL:https://events.bridgeport.edu/event/bcyl-winter-spring-tutoring-9/
LOCATION:MAN 210 Campus: Main Campus\, 230 Park Avenue\, Bridgeport\, CT\, 06604\, United States
CATEGORIES:Community
END:VEVENT
BEGIN:VEVENT
DTSTART;TZID=America/New_York:20260321T080000
DTEND;TZID=America/New_York:20260321T160000
DTSTAMP:20260423T185102
CREATED:20260121T001759Z
LAST-MODIFIED:20260223T054723Z
UID:142403-1774080000-1774108800@events.bridgeport.edu
SUMMARY:32BJ Training and ESL Citizenship Courses
DESCRIPTION:
URL:https://events.bridgeport.edu/event/32bj-training-and-esl-citizenship-courses-17/
LOCATION:MAN 216 Campus: Main Campus\, 230 Park Avenue\, Bridgeport\, CT\, 06604\, United States
CATEGORIES:Community
END:VEVENT
BEGIN:VEVENT
DTSTART;TZID=America/New_York:20260321T080000
DTEND;TZID=America/New_York:20260321T160000
DTSTAMP:20260423T185102
CREATED:20260121T001800Z
LAST-MODIFIED:20260223T054723Z
UID:142409-1774080000-1774108800@events.bridgeport.edu
SUMMARY:32BJ Training and ESL Citizenship Courses
DESCRIPTION:
URL:https://events.bridgeport.edu/event/32bj-training-and-esl-citizenship-courses-18/
LOCATION:MAN 303 Campus: Main Campus\, 230 Park Avenue\, Bridgeport\, CT\, 06604\, United States
CATEGORIES:Community
END:VEVENT
BEGIN:VEVENT
DTSTART;TZID=America/New_York:20260321T133000
DTEND;TZID=America/New_York:20260321T170000
DTSTAMP:20260423T185102
CREATED:20260121T001800Z
LAST-MODIFIED:20260305T190538Z
UID:142407-1774099800-1774112400@events.bridgeport.edu
SUMMARY:BIA Theater Presents A Hitchhiker's Guide To The Galaxy
DESCRIPTION:
URL:https://events.bridgeport.edu/event/bia-theater-presents-a-hitchhikers-guide-to-the-galaxy-2/
LOCATION:ABC 118 Campus: Main Campus\, 84 Iranistan Avenue\, Bridgeport\, CT\, 06604\, United States
CATEGORIES:Community
END:VEVENT
BEGIN:VEVENT
DTSTART;TZID=America/New_York:20260321T180000
DTEND;TZID=America/New_York:20260321T220000
DTSTAMP:20260423T185102
CREATED:20260121T001800Z
LAST-MODIFIED:20260223T054735Z
UID:142411-1774116000-1774130400@events.bridgeport.edu
SUMMARY:Bridgeport Public Education Fund Mini Golf Fundraiser
DESCRIPTION:
URL:https://events.bridgeport.edu/event/bridgeport-public-education-fund-mini-golf-fundraiser/
LOCATION:WRC Field House  Campus: Main Campus\, 400 University Avenue\, Bridgeport\, CT\, 06604\, United States
CATEGORIES:Community
END:VEVENT
BEGIN:VEVENT
DTSTART;TZID=America/New_York:20260323T123000
DTEND;TZID=America/New_York:20260323T134500
DTSTAMP:20260423T185102
CREATED:20260121T001800Z
LAST-MODIFIED:20260223T054735Z
UID:142413-1774269000-1774273500@events.bridgeport.edu
SUMMARY:Bowling - Fairfield Education
DESCRIPTION:
URL:https://events.bridgeport.edu/event/bowling-fairfield-education-7/
LOCATION:JCSC UBowl Campus: Main Campus
CATEGORIES:Community
END:VEVENT
BEGIN:VEVENT
DTSTART;TZID=America/New_York:20260325T140000
DTEND;TZID=America/New_York:20260325T193000
DTSTAMP:20260423T185102
CREATED:20260121T001800Z
LAST-MODIFIED:20260223T054735Z
UID:142415-1774447200-1774467000@events.bridgeport.edu
SUMMARY:Bassick eSports Club - ACCESS for Kidz and School of Business
DESCRIPTION:
URL:https://events.bridgeport.edu/event/bassick-esports-club-access-for-kidz-and-school-of-business-10/
LOCATION:JCSC JCSC Campus: Main Campus
CATEGORIES:Community
END:VEVENT
BEGIN:VEVENT
DTSTART;TZID=America/New_York:20260325T180000
DTEND;TZID=America/New_York:20260325T200000
DTSTAMP:20260423T185102
CREATED:20260121T001800Z
LAST-MODIFIED:20260223T054735Z
UID:142414-1774461600-1774468800@events.bridgeport.edu
SUMMARY:BPD Citizens Academy
DESCRIPTION:
URL:https://events.bridgeport.edu/event/bpd-citizens-academy-9/
LOCATION:CARH 153 Campus: Main Campus\, 303 University Avenue\, Bridgeport\, CT\, 06604\, United States
CATEGORIES:Community
END:VEVENT
BEGIN:VEVENT
DTSTART;TZID=America/New_York:20260327T080000
DTEND;TZID=America/New_York:20260327T140000
DTSTAMP:20260423T185102
CREATED:20260121T001800Z
LAST-MODIFIED:20260324T163553Z
UID:142416-1774598400-1774620000@events.bridgeport.edu
SUMMARY:CT ACE Women's Network Spring Conference
DESCRIPTION:
URL:https://events.bridgeport.edu/event/ct-ace-womens-network-spring-conference/
LOCATION:ABC Littlefield\, 575 University Avenue\, Bridgeport\, CT\, 06604\, United States
CATEGORIES:Community
END:VEVENT
BEGIN:VEVENT
DTSTART;TZID=America/New_York:20260327T153000
DTEND;TZID=America/New_York:20260327T173000
DTSTAMP:20260423T185102
CREATED:20260121T001811Z
LAST-MODIFIED:20260223T054735Z
UID:142425-1774625400-1774632600@events.bridgeport.edu
SUMMARY:BackCountry Jazz -Friday Music Program
DESCRIPTION:
URL:https://events.bridgeport.edu/event/backcountry-jazz-friday-music-program-20/
LOCATION:JCSC 207-209 Campus: Main Campus\, 244 University Avenue\, Bridgeport\, CT\, 06604\, United States
CATEGORIES:Community
END:VEVENT
BEGIN:VEVENT
DTSTART;TZID=America/New_York:20260327T153000
DTEND;TZID=America/New_York:20260327T173000
DTSTAMP:20260423T185102
CREATED:20260121T001811Z
LAST-MODIFIED:20260223T054735Z
UID:142423-1774625400-1774632600@events.bridgeport.edu
SUMMARY:BackCountry Jazz -Friday Music Program
DESCRIPTION:
URL:https://events.bridgeport.edu/event/backcountry-jazz-friday-music-program-19/
LOCATION:JCSC Knight S7 Campus: Main Campus
CATEGORIES:Community
END:VEVENT
BEGIN:VEVENT
DTSTART;TZID=America/New_York:20260327T170000
DTEND;TZID=America/New_York:20260327T200000
DTSTAMP:20260423T185102
CREATED:20260212T221810Z
LAST-MODIFIED:20260223T054735Z
UID:145784-1774630800-1774641600@events.bridgeport.edu
SUMMARY:Community Conversations- PT Partners & Catalyst
DESCRIPTION:
URL:https://events.bridgeport.edu/event/community-conversations-pt-partners-catalyst/
LOCATION:MAN 104 Campus: Main Campus\, 230 Park Avenue\, Bridgeport\, CT\, 06604\, United States
CATEGORIES:Community
END:VEVENT
BEGIN:VEVENT
DTSTART;TZID=America/New_York:20260328T080000
DTEND;TZID=America/New_York:20260328T130000
DTSTAMP:20260423T185102
CREATED:20260121T001811Z
LAST-MODIFIED:20260223T054747Z
UID:142427-1774684800-1774702800@events.bridgeport.edu
SUMMARY:BCYL Winter/Spring Tutoring
DESCRIPTION:
URL:https://events.bridgeport.edu/event/bcyl-winter-spring-tutoring-10/
LOCATION:MAN 210 Campus: Main Campus\, 230 Park Avenue\, Bridgeport\, CT\, 06604\, United States
CATEGORIES:Community
END:VEVENT
BEGIN:VEVENT
DTSTART;TZID=America/New_York:20260328T080000
DTEND;TZID=America/New_York:20260328T160000
DTSTAMP:20260423T185102
CREATED:20260121T001811Z
LAST-MODIFIED:20260223T054735Z
UID:142429-1774684800-1774713600@events.bridgeport.edu
SUMMARY:32BJ Training and ESL Citizenship Courses
DESCRIPTION:
URL:https://events.bridgeport.edu/event/32bj-training-and-esl-citizenship-courses-19/
LOCATION:MAN 216 Campus: Main Campus\, 230 Park Avenue\, Bridgeport\, CT\, 06604\, United States
CATEGORIES:Community
END:VEVENT
BEGIN:VEVENT
DTSTART;TZID=America/New_York:20260328T080000
DTEND;TZID=America/New_York:20260328T160000
DTSTAMP:20260423T185102
CREATED:20260121T001811Z
LAST-MODIFIED:20260223T054735Z
UID:142431-1774684800-1774713600@events.bridgeport.edu
SUMMARY:32BJ Training and ESL Citizenship Courses
DESCRIPTION:
URL:https://events.bridgeport.edu/event/32bj-training-and-esl-citizenship-courses-20/
LOCATION:MAN 303 Campus: Main Campus\, 230 Park Avenue\, Bridgeport\, CT\, 06604\, United States
CATEGORIES:Community
END:VEVENT
BEGIN:VEVENT
DTSTART;TZID=America/New_York:20260330T123000
DTEND;TZID=America/New_York:20260330T134500
DTSTAMP:20260423T185102
CREATED:20260121T001811Z
LAST-MODIFIED:20260223T054747Z
UID:142432-1774873800-1774878300@events.bridgeport.edu
SUMMARY:Bowling - Fairfield Education
DESCRIPTION:
URL:https://events.bridgeport.edu/event/bowling-fairfield-education-8/
LOCATION:JCSC UBowl Campus: Main Campus
CATEGORIES:Community
END:VEVENT
BEGIN:VEVENT
DTSTART;TZID=America/New_York:20260401T140000
DTEND;TZID=America/New_York:20260401T193000
DTSTAMP:20260423T185102
CREATED:20260121T001811Z
LAST-MODIFIED:20260223T054747Z
UID:142433-1775052000-1775071800@events.bridgeport.edu
SUMMARY:Bassick eSports Club - ACCESS for Kidz and School of Business
DESCRIPTION:
URL:https://events.bridgeport.edu/event/bassick-esports-club-access-for-kidz-and-school-of-business-11/
LOCATION:JCSC JCSC Campus: Main Campus
CATEGORIES:Community
END:VEVENT
BEGIN:VEVENT
DTSTART;TZID=America/New_York:20260401T180000
DTEND;TZID=America/New_York:20260401T200000
DTSTAMP:20260423T185102
CREATED:20260121T001811Z
LAST-MODIFIED:20260223T054747Z
UID:142434-1775066400-1775073600@events.bridgeport.edu
SUMMARY:BPD Citizens Academy
DESCRIPTION:
URL:https://events.bridgeport.edu/event/bpd-citizens-academy-10/
LOCATION:CARH 153 Campus: Main Campus\, 303 University Avenue\, Bridgeport\, CT\, 06604\, United States
CATEGORIES:Community
END:VEVENT
BEGIN:VEVENT
DTSTART;TZID=America/New_York:20260402T173000
DTEND;TZID=America/New_York:20260402T193000
DTSTAMP:20260423T185102
CREATED:20260319T223400Z
LAST-MODIFIED:20260319T223423Z
UID:152853-1775151000-1775158200@events.bridgeport.edu
SUMMARY:Immigrant Song Opening Night Reception
DESCRIPTION:
URL:https://events.bridgeport.edu/event/immigrant-song-opening-night-reception/
LOCATION:ABC Schelfhaudt Gallery\, 575 University Avenue\, Bridgeport\, CT\, 06604\, United States
CATEGORIES:Community,Social
END:VEVENT
BEGIN:VEVENT
DTSTART;TZID=America/New_York:20260403T153000
DTEND;TZID=America/New_York:20260403T173000
DTSTAMP:20260423T185102
CREATED:20260121T001811Z
LAST-MODIFIED:20260223T054747Z
UID:142436-1775230200-1775237400@events.bridgeport.edu
SUMMARY:BackCountry Jazz -Friday Music Program
DESCRIPTION:
URL:https://events.bridgeport.edu/event/backcountry-jazz-friday-music-program-21/
LOCATION:JCSC Knight S7 Campus: Main Campus
CATEGORIES:Community
END:VEVENT
BEGIN:VEVENT
DTSTART;TZID=America/New_York:20260403T153000
DTEND;TZID=America/New_York:20260403T173000
DTSTAMP:20260423T185102
CREATED:20260121T001822Z
LAST-MODIFIED:20260223T054747Z
UID:142439-1775230200-1775237400@events.bridgeport.edu
SUMMARY:BackCountry Jazz -Friday Music Program
DESCRIPTION:
URL:https://events.bridgeport.edu/event/backcountry-jazz-friday-music-program-22/
LOCATION:JCSC 207-209 Campus: Main Campus\, 244 University Avenue\, Bridgeport\, CT\, 06604\, United States
CATEGORIES:Community
END:VEVENT
BEGIN:VEVENT
DTSTART;TZID=America/New_York:20260406T123000
DTEND;TZID=America/New_York:20260406T134500
DTSTAMP:20260423T185102
CREATED:20260121T001822Z
LAST-MODIFIED:20260223T054747Z
UID:142443-1775478600-1775483100@events.bridgeport.edu
SUMMARY:Bowling - Fairfield Education
DESCRIPTION:
URL:https://events.bridgeport.edu/event/bowling-fairfield-education-9/
LOCATION:JCSC UBowl Campus: Main Campus
CATEGORIES:Community
END:VEVENT
BEGIN:VEVENT
DTSTART;TZID=America/New_York:20260407T183000
DTEND;TZID=America/New_York:20260407T200000
DTSTAMP:20260423T185102
CREATED:20260303T200702Z
LAST-MODIFIED:20260326T140403Z
UID:152365-1775586600-1775592000@events.bridgeport.edu
SUMMARY:Condo Association Meeting - Lofts on Lafayette c/o Felner Corp
DESCRIPTION:
URL:https://events.bridgeport.edu/event/condo-association-meeting-felner-corporation/
LOCATION:MAN 107 Campus: Main Campus\, 230 Park Avenue\, Bridgeport\, CT\, 06604\, United States
CATEGORIES:Community,Meeting
END:VEVENT
BEGIN:VEVENT
DTSTART;TZID=America/New_York:20260408T140000
DTEND;TZID=America/New_York:20260408T193000
DTSTAMP:20260423T185102
CREATED:20260121T001822Z
LAST-MODIFIED:20260223T054759Z
UID:142445-1775656800-1775676600@events.bridgeport.edu
SUMMARY:Bassick eSports Club - ACCESS for Kidz and School of Business
DESCRIPTION:
URL:https://events.bridgeport.edu/event/bassick-esports-club-access-for-kidz-and-school-of-business-12/
LOCATION:JCSC JCSC Campus: Main Campus
CATEGORIES:Community
END:VEVENT
END:VCALENDAR