

BEGIN:VCALENDAR
VERSION:2.0
PRODID:-//Campus Events - ECPv6.15.20//NONSGML v1.0//EN
CALSCALE:GREGORIAN
METHOD:PUBLISH
X-WR-CALNAME:Campus Events
X-ORIGINAL-URL:https://events.bridgeport.edu
X-WR-CALDESC:Events for Campus Events
REFRESH-INTERVAL;VALUE=DURATION:PT1H
X-Robots-Tag:noindex
X-PUBLISHED-TTL:PT1H
BEGIN:VTIMEZONE
TZID:America/New_York
BEGIN:DAYLIGHT
TZOFFSETFROM:-0500
TZOFFSETTO:-0400
TZNAME:EDT
DTSTART:20250309T070000
END:DAYLIGHT
BEGIN:STANDARD
TZOFFSETFROM:-0400
TZOFFSETTO:-0500
TZNAME:EST
DTSTART:20251102T060000
END:STANDARD
BEGIN:DAYLIGHT
TZOFFSETFROM:-0500
TZOFFSETTO:-0400
TZNAME:EDT
DTSTART:20260308T070000
END:DAYLIGHT
BEGIN:STANDARD
TZOFFSETFROM:-0400
TZOFFSETTO:-0500
TZNAME:EST
DTSTART:20261101T060000
END:STANDARD
BEGIN:DAYLIGHT
TZOFFSETFROM:-0500
TZOFFSETTO:-0400
TZNAME:EDT
DTSTART:20270314T070000
END:DAYLIGHT
BEGIN:STANDARD
TZOFFSETFROM:-0400
TZOFFSETTO:-0500
TZNAME:EST
DTSTART:20271107T060000
END:STANDARD
END:VTIMEZONE
BEGIN:VEVENT
DTSTART;TZID=America/New_York:20260311T180000
DTEND;TZID=America/New_York:20260311T200000
DTSTAMP:20260423T172213
CREATED:20260121T001736Z
LAST-MODIFIED:20260223T054649Z
UID:142370-1773252000-1773259200@events.bridgeport.edu
SUMMARY:BPD Citizens Academy
DESCRIPTION:
URL:https://events.bridgeport.edu/event/bpd-citizens-academy-7/
LOCATION:CARH 153 Campus: Main Campus\, 303 University Avenue\, Bridgeport\, CT\, 06604\, United States
CATEGORIES:Community
END:VEVENT
BEGIN:VEVENT
DTSTART;TZID=America/New_York:20260312T000000
DTEND;TZID=America/New_York:20260312T235900
DTSTAMP:20260423T172213
CREATED:20260124T001824Z
LAST-MODIFIED:20260223T054700Z
UID:143456-1773273600-1773359940@events.bridgeport.edu
SUMMARY:Ramadan Prayer Room - Student Affairs
DESCRIPTION:
URL:https://events.bridgeport.edu/event/ramadan-prayer-room-student-affairs-24/
LOCATION:JCSC 003 Campus: Main Campus
CATEGORIES:Community
END:VEVENT
BEGIN:VEVENT
DTSTART;TZID=America/New_York:20260312T180000
DTEND;TZID=America/New_York:20260312T210000
DTSTAMP:20260423T172213
CREATED:20260202T181744Z
LAST-MODIFIED:20260223T054700Z
UID:144544-1773338400-1773349200@events.bridgeport.edu
SUMMARY:South End: NRZ Meetings
DESCRIPTION:
URL:https://events.bridgeport.edu/event/south-end-nrz-meetings-7/
LOCATION:BAUH 111 Campus: Main Campus\, 82 Marina Park Street\, Bridgeport\, CT\, 06604\, United States
CATEGORIES:Community
END:VEVENT
BEGIN:VEVENT
DTSTART;TZID=America/New_York:20260312T180000
DTEND;TZID=America/New_York:20260312T223000
DTSTAMP:20260423T172213
CREATED:20260121T001736Z
LAST-MODIFIED:20260305T190949Z
UID:142372-1773338400-1773354600@events.bridgeport.edu
SUMMARY:Rehearsal - Bridgeport Symphony
DESCRIPTION:
URL:https://events.bridgeport.edu/event/rehearsal-bridgeport-symphony-2/
LOCATION:ABC 118 Campus: Main Campus\, 84 Iranistan Avenue\, Bridgeport\, CT\, 06604\, United States
CATEGORIES:Community
END:VEVENT
BEGIN:VEVENT
DTSTART;TZID=America/New_York:20260313T000000
DTEND;TZID=America/New_York:20260313T235900
DTSTAMP:20260423T172213
CREATED:20260124T001824Z
LAST-MODIFIED:20260223T054700Z
UID:143457-1773360000-1773446340@events.bridgeport.edu
SUMMARY:Ramadan Prayer Room - Student Affairs
DESCRIPTION:
URL:https://events.bridgeport.edu/event/ramadan-prayer-room-student-affairs-25/
LOCATION:JCSC 003 Campus: Main Campus
CATEGORIES:Community
END:VEVENT
BEGIN:VEVENT
DTSTART;TZID=America/New_York:20260313T153000
DTEND;TZID=America/New_York:20260313T173000
DTSTAMP:20260423T172213
CREATED:20260121T001736Z
LAST-MODIFIED:20260223T054700Z
UID:142373-1773415800-1773423000@events.bridgeport.edu
SUMMARY:BackCountry Jazz -Friday Music Program
DESCRIPTION:
URL:https://events.bridgeport.edu/event/backcountry-jazz-friday-music-program-15/
LOCATION:JCSC 207-209 Campus: Main Campus\, 244 University Avenue\, Bridgeport\, CT\, 06604\, United States
CATEGORIES:Community
END:VEVENT
BEGIN:VEVENT
DTSTART;TZID=America/New_York:20260313T153000
DTEND;TZID=America/New_York:20260313T173000
DTSTAMP:20260423T172213
CREATED:20260121T001736Z
LAST-MODIFIED:20260223T054700Z
UID:142374-1773415800-1773423000@events.bridgeport.edu
SUMMARY:BackCountry Jazz -Friday Music Program
DESCRIPTION:
URL:https://events.bridgeport.edu/event/backcountry-jazz-friday-music-program-16/
LOCATION:JCSC Knight S7 Campus: Main Campus
CATEGORIES:Community
END:VEVENT
BEGIN:VEVENT
DTSTART;TZID=America/New_York:20260313T180000
DTEND;TZID=America/New_York:20260313T223000
DTSTAMP:20260423T172213
CREATED:20260121T001736Z
LAST-MODIFIED:20260305T191017Z
UID:142375-1773424800-1773441000@events.bridgeport.edu
SUMMARY:Rehearsal - Bridgeport Symphony
DESCRIPTION:
URL:https://events.bridgeport.edu/event/rehearsal-bridgeport-symphony-3/
LOCATION:ABC 118 Campus: Main Campus\, 84 Iranistan Avenue\, Bridgeport\, CT\, 06604\, United States
CATEGORIES:Community
END:VEVENT
BEGIN:VEVENT
DTSTART;TZID=America/New_York:20260314T000000
DTEND;TZID=America/New_York:20260314T235900
DTSTAMP:20260423T172213
CREATED:20260124T001835Z
LAST-MODIFIED:20260223T054711Z
UID:143459-1773446400-1773532740@events.bridgeport.edu
SUMMARY:Ramadan Prayer Room - Student Affairs
DESCRIPTION:
URL:https://events.bridgeport.edu/event/ramadan-prayer-room-student-affairs-26/
LOCATION:JCSC 003 Campus: Main Campus
CATEGORIES:Community
END:VEVENT
BEGIN:VEVENT
DTSTART;TZID=America/New_York:20260314T080000
DTEND;TZID=America/New_York:20260314T130000
DTSTAMP:20260423T172213
CREATED:20260121T001748Z
LAST-MODIFIED:20260223T054700Z
UID:142385-1773475200-1773493200@events.bridgeport.edu
SUMMARY:BCYL Winter/Spring Tutoring
DESCRIPTION:
URL:https://events.bridgeport.edu/event/bcyl-winter-spring-tutoring-8/
LOCATION:MAN 210 Campus: Main Campus\, 230 Park Avenue\, Bridgeport\, CT\, 06604\, United States
CATEGORIES:Community
END:VEVENT
BEGIN:VEVENT
DTSTART;TZID=America/New_York:20260314T080000
DTEND;TZID=America/New_York:20260314T160000
DTSTAMP:20260423T172213
CREATED:20260121T001748Z
LAST-MODIFIED:20260223T054711Z
UID:142383-1773475200-1773504000@events.bridgeport.edu
SUMMARY:32BJ Training and ESL Citizenship Courses
DESCRIPTION:
URL:https://events.bridgeport.edu/event/32bj-training-and-esl-citizenship-courses-15/
LOCATION:MAN 216 Campus: Main Campus\, 230 Park Avenue\, Bridgeport\, CT\, 06604\, United States
CATEGORIES:Community
END:VEVENT
BEGIN:VEVENT
DTSTART;TZID=America/New_York:20260314T080000
DTEND;TZID=America/New_York:20260314T160000
DTSTAMP:20260423T172213
CREATED:20260121T001748Z
LAST-MODIFIED:20260223T054711Z
UID:142387-1773475200-1773504000@events.bridgeport.edu
SUMMARY:32BJ Training and ESL Citizenship Courses
DESCRIPTION:
URL:https://events.bridgeport.edu/event/32bj-training-and-esl-citizenship-courses-16/
LOCATION:MAN 303 Campus: Main Campus\, 230 Park Avenue\, Bridgeport\, CT\, 06604\, United States
CATEGORIES:Community
END:VEVENT
BEGIN:VEVENT
DTSTART;TZID=America/New_York:20260314T083000
DTEND;TZID=America/New_York:20260314T173000
DTSTAMP:20260423T172213
CREATED:20260121T001748Z
LAST-MODIFIED:20260223T054711Z
UID:142381-1773477000-1773509400@events.bridgeport.edu
SUMMARY:Redeem Wellness-Community Mental Health Fair
DESCRIPTION:
URL:https://events.bridgeport.edu/event/redeem-wellness-community-mental-health-fair/
LOCATION:JCSC KNIGHT S1 – Social Room Campus: Main Campus
CATEGORIES:Community
END:VEVENT
BEGIN:VEVENT
DTSTART;TZID=America/New_York:20260314T190000
DTEND;TZID=America/New_York:20260314T223000
DTSTAMP:20260423T172213
CREATED:20260121T001748Z
LAST-MODIFIED:20260305T191040Z
UID:142389-1773514800-1773527400@events.bridgeport.edu
SUMMARY:Bridgeport Symphony
DESCRIPTION:
URL:https://events.bridgeport.edu/event/bridgeport-symphony/
LOCATION:ABC 118 Campus: Main Campus\, 84 Iranistan Avenue\, Bridgeport\, CT\, 06604\, United States
CATEGORIES:Community
END:VEVENT
BEGIN:VEVENT
DTSTART;TZID=America/New_York:20260315T000000
DTEND;TZID=America/New_York:20260315T235900
DTSTAMP:20260423T172213
CREATED:20260124T001835Z
LAST-MODIFIED:20260223T054711Z
UID:143460-1773532800-1773619140@events.bridgeport.edu
SUMMARY:Ramadan Prayer Room - Student Affairs
DESCRIPTION:
URL:https://events.bridgeport.edu/event/ramadan-prayer-room-student-affairs-27/
LOCATION:JCSC 003 Campus: Main Campus
CATEGORIES:Community
END:VEVENT
BEGIN:VEVENT
DTSTART;TZID=America/New_York:20260316T000000
DTEND;TZID=America/New_York:20260316T235900
DTSTAMP:20260423T172213
CREATED:20260124T001848Z
LAST-MODIFIED:20260223T054711Z
UID:143462-1773619200-1773705540@events.bridgeport.edu
SUMMARY:Ramadan Prayer Room - Student Affairs
DESCRIPTION:
URL:https://events.bridgeport.edu/event/ramadan-prayer-room-student-affairs-28/
LOCATION:JCSC 003 Campus: Main Campus
CATEGORIES:Community
END:VEVENT
BEGIN:VEVENT
DTSTART;TZID=America/New_York:20260316T123000
DTEND;TZID=America/New_York:20260316T134500
DTSTAMP:20260423T172213
CREATED:20260121T001748Z
LAST-MODIFIED:20260223T054711Z
UID:142391-1773664200-1773668700@events.bridgeport.edu
SUMMARY:Bowling - Fairfield Education
DESCRIPTION:
URL:https://events.bridgeport.edu/event/bowling-fairfield-education-6/
LOCATION:JCSC UBowl Campus: Main Campus
CATEGORIES:Community
END:VEVENT
BEGIN:VEVENT
DTSTART;TZID=America/New_York:20260317T000000
DTEND;TZID=America/New_York:20260317T235900
DTSTAMP:20260423T172213
CREATED:20260124T001848Z
LAST-MODIFIED:20260223T054711Z
UID:143463-1773705600-1773791940@events.bridgeport.edu
SUMMARY:Ramadan Prayer Room - Student Affairs
DESCRIPTION:
URL:https://events.bridgeport.edu/event/ramadan-prayer-room-student-affairs-29/
LOCATION:JCSC 003 Campus: Main Campus
CATEGORIES:Community
END:VEVENT
BEGIN:VEVENT
DTSTART;TZID=America/New_York:20260318T000000
DTEND;TZID=America/New_York:20260318T235900
DTSTAMP:20260423T172213
CREATED:20260124T001848Z
LAST-MODIFIED:20260223T054711Z
UID:143464-1773792000-1773878340@events.bridgeport.edu
SUMMARY:Ramadan Prayer Room - Student Affairs
DESCRIPTION:
URL:https://events.bridgeport.edu/event/ramadan-prayer-room-student-affairs-30/
LOCATION:JCSC 003 Campus: Main Campus
CATEGORIES:Community
END:VEVENT
BEGIN:VEVENT
DTSTART;TZID=America/New_York:20260318T140000
DTEND;TZID=America/New_York:20260318T193000
DTSTAMP:20260423T172213
CREATED:20260121T001748Z
LAST-MODIFIED:20260223T054723Z
UID:142393-1773842400-1773862200@events.bridgeport.edu
SUMMARY:Bassick eSports Club - ACCESS for Kidz and School of Business
DESCRIPTION:
URL:https://events.bridgeport.edu/event/bassick-esports-club-access-for-kidz-and-school-of-business-9/
LOCATION:JCSC JCSC Campus: Main Campus
CATEGORIES:Community
END:VEVENT
BEGIN:VEVENT
DTSTART;TZID=America/New_York:20260318T180000
DTEND;TZID=America/New_York:20260318T200000
DTSTAMP:20260423T172213
CREATED:20260121T001748Z
LAST-MODIFIED:20260223T054723Z
UID:142392-1773856800-1773864000@events.bridgeport.edu
SUMMARY:BPD Citizens Academy
DESCRIPTION:
URL:https://events.bridgeport.edu/event/bpd-citizens-academy-8/
LOCATION:CARH 153 Campus: Main Campus\, 303 University Avenue\, Bridgeport\, CT\, 06604\, United States
CATEGORIES:Community
END:VEVENT
BEGIN:VEVENT
DTSTART;TZID=America/New_York:20260319T000000
DTEND;TZID=America/New_York:20260319T235900
DTSTAMP:20260423T172213
CREATED:20260124T001849Z
LAST-MODIFIED:20260223T054723Z
UID:143465-1773878400-1773964740@events.bridgeport.edu
SUMMARY:Ramadan Prayer Room - Student Affairs
DESCRIPTION:
URL:https://events.bridgeport.edu/event/ramadan-prayer-room-student-affairs-31/
LOCATION:JCSC 003 Campus: Main Campus
CATEGORIES:Community
END:VEVENT
BEGIN:VEVENT
DTSTART;TZID=America/New_York:20260320T153000
DTEND;TZID=America/New_York:20260320T173000
DTSTAMP:20260423T172213
CREATED:20260121T001748Z
LAST-MODIFIED:20260223T054723Z
UID:142394-1774020600-1774027800@events.bridgeport.edu
SUMMARY:BackCountry Jazz -Friday Music Program
DESCRIPTION:
URL:https://events.bridgeport.edu/event/backcountry-jazz-friday-music-program-17/
LOCATION:JCSC 207-209 Campus: Main Campus\, 244 University Avenue\, Bridgeport\, CT\, 06604\, United States
CATEGORIES:Community
END:VEVENT
BEGIN:VEVENT
DTSTART;TZID=America/New_York:20260320T153000
DTEND;TZID=America/New_York:20260320T173000
DTSTAMP:20260423T172213
CREATED:20260121T001748Z
LAST-MODIFIED:20260223T054723Z
UID:142395-1774020600-1774027800@events.bridgeport.edu
SUMMARY:BackCountry Jazz -Friday Music Program
DESCRIPTION:
URL:https://events.bridgeport.edu/event/backcountry-jazz-friday-music-program-18/
LOCATION:JCSC Knight S7 Campus: Main Campus
CATEGORIES:Community
END:VEVENT
BEGIN:VEVENT
DTSTART;TZID=America/New_York:20260320T170000
DTEND;TZID=America/New_York:20260320T193000
DTSTAMP:20260423T172213
CREATED:20260311T183921Z
LAST-MODIFIED:20260317T161247Z
UID:152581-1774026000-1774035000@events.bridgeport.edu
SUMMARY:AI & The Future in New Haven (w/ The AI Collective)
DESCRIPTION:
URL:https://events.bridgeport.edu/event/ai-incubator/
LOCATION:TECH – IET Lab\, 221 University Avenue\, Bridgeport\, CT\, 06604\, United States
CATEGORIES:Community,Meeting
END:VEVENT
BEGIN:VEVENT
DTSTART;TZID=America/New_York:20260320T190000
DTEND;TZID=America/New_York:20260320T220000
DTSTAMP:20260423T172213
CREATED:20260121T001759Z
LAST-MODIFIED:20260223T054723Z
UID:142400-1774033200-1774044000@events.bridgeport.edu
SUMMARY:BIA Theater Presents A Hitchhiker's Guide To The Galaxy
DESCRIPTION:
URL:https://events.bridgeport.edu/event/bia-theater-presents-a-hitchhikers-guide-to-the-galaxy/
LOCATION:ABC 118 Campus: Main Campus\, 84 Iranistan Avenue\, Bridgeport\, CT\, 06604\, United States
CATEGORIES:Community
END:VEVENT
BEGIN:VEVENT
DTSTART;TZID=America/New_York:20260321T080000
DTEND;TZID=America/New_York:20260321T130000
DTSTAMP:20260423T172213
CREATED:20260121T001759Z
LAST-MODIFIED:20260223T054723Z
UID:142405-1774080000-1774098000@events.bridgeport.edu
SUMMARY:BCYL Winter/Spring Tutoring
DESCRIPTION:
URL:https://events.bridgeport.edu/event/bcyl-winter-spring-tutoring-9/
LOCATION:MAN 210 Campus: Main Campus\, 230 Park Avenue\, Bridgeport\, CT\, 06604\, United States
CATEGORIES:Community
END:VEVENT
BEGIN:VEVENT
DTSTART;TZID=America/New_York:20260321T080000
DTEND;TZID=America/New_York:20260321T160000
DTSTAMP:20260423T172213
CREATED:20260121T001759Z
LAST-MODIFIED:20260223T054723Z
UID:142403-1774080000-1774108800@events.bridgeport.edu
SUMMARY:32BJ Training and ESL Citizenship Courses
DESCRIPTION:
URL:https://events.bridgeport.edu/event/32bj-training-and-esl-citizenship-courses-17/
LOCATION:MAN 216 Campus: Main Campus\, 230 Park Avenue\, Bridgeport\, CT\, 06604\, United States
CATEGORIES:Community
END:VEVENT
BEGIN:VEVENT
DTSTART;TZID=America/New_York:20260321T080000
DTEND;TZID=America/New_York:20260321T160000
DTSTAMP:20260423T172213
CREATED:20260121T001800Z
LAST-MODIFIED:20260223T054723Z
UID:142409-1774080000-1774108800@events.bridgeport.edu
SUMMARY:32BJ Training and ESL Citizenship Courses
DESCRIPTION:
URL:https://events.bridgeport.edu/event/32bj-training-and-esl-citizenship-courses-18/
LOCATION:MAN 303 Campus: Main Campus\, 230 Park Avenue\, Bridgeport\, CT\, 06604\, United States
CATEGORIES:Community
END:VEVENT
BEGIN:VEVENT
DTSTART;TZID=America/New_York:20260321T133000
DTEND;TZID=America/New_York:20260321T170000
DTSTAMP:20260423T172213
CREATED:20260121T001800Z
LAST-MODIFIED:20260305T190538Z
UID:142407-1774099800-1774112400@events.bridgeport.edu
SUMMARY:BIA Theater Presents A Hitchhiker's Guide To The Galaxy
DESCRIPTION:
URL:https://events.bridgeport.edu/event/bia-theater-presents-a-hitchhikers-guide-to-the-galaxy-2/
LOCATION:ABC 118 Campus: Main Campus\, 84 Iranistan Avenue\, Bridgeport\, CT\, 06604\, United States
CATEGORIES:Community
END:VEVENT
END:VCALENDAR