

BEGIN:VCALENDAR
VERSION:2.0
PRODID:-//Campus Events - ECPv6.15.20//NONSGML v1.0//EN
CALSCALE:GREGORIAN
METHOD:PUBLISH
X-WR-CALNAME:Campus Events
X-ORIGINAL-URL:https://events.bridgeport.edu
X-WR-CALDESC:Events for Campus Events
REFRESH-INTERVAL;VALUE=DURATION:PT1H
X-Robots-Tag:noindex
X-PUBLISHED-TTL:PT1H
BEGIN:VTIMEZONE
TZID:America/New_York
BEGIN:DAYLIGHT
TZOFFSETFROM:-0500
TZOFFSETTO:-0400
TZNAME:EDT
DTSTART:20250309T070000
END:DAYLIGHT
BEGIN:STANDARD
TZOFFSETFROM:-0400
TZOFFSETTO:-0500
TZNAME:EST
DTSTART:20251102T060000
END:STANDARD
BEGIN:DAYLIGHT
TZOFFSETFROM:-0500
TZOFFSETTO:-0400
TZNAME:EDT
DTSTART:20260308T070000
END:DAYLIGHT
BEGIN:STANDARD
TZOFFSETFROM:-0400
TZOFFSETTO:-0500
TZNAME:EST
DTSTART:20261101T060000
END:STANDARD
BEGIN:DAYLIGHT
TZOFFSETFROM:-0500
TZOFFSETTO:-0400
TZNAME:EDT
DTSTART:20270314T070000
END:DAYLIGHT
BEGIN:STANDARD
TZOFFSETFROM:-0400
TZOFFSETTO:-0500
TZNAME:EST
DTSTART:20271107T060000
END:STANDARD
END:VTIMEZONE
BEGIN:VEVENT
DTSTART;TZID=America/New_York:20260202T123000
DTEND;TZID=America/New_York:20260202T134500
DTSTAMP:20260423T115728
CREATED:20260121T001636Z
LAST-MODIFIED:20260202T181612Z
UID:142263-1770035400-1770039900@events.bridgeport.edu
SUMMARY:Bowling - Fairfield Education
DESCRIPTION:
URL:https://events.bridgeport.edu/event/bowling-fairfield-education-2/
LOCATION:JCSC UBowl Campus: Main Campus
CATEGORIES:Community
END:VEVENT
BEGIN:VEVENT
DTSTART;TZID=America/New_York:20260204T140000
DTEND;TZID=America/New_York:20260204T193000
DTSTAMP:20260423T115728
CREATED:20260121T001636Z
LAST-MODIFIED:20260205T001615Z
UID:142267-1770213600-1770233400@events.bridgeport.edu
SUMMARY:Bassick eSports Club - ACCESS for Kidz and School of Business
DESCRIPTION:
URL:https://events.bridgeport.edu/event/bassick-esports-club-access-for-kidz-and-school-of-business-3/
LOCATION:JCSC JCSC Campus: Main Campus
CATEGORIES:Community
END:VEVENT
BEGIN:VEVENT
DTSTART;TZID=America/New_York:20260204T180000
DTEND;TZID=America/New_York:20260204T200000
DTSTAMP:20260423T115728
CREATED:20260121T001636Z
LAST-MODIFIED:20260205T001615Z
UID:142265-1770228000-1770235200@events.bridgeport.edu
SUMMARY:BPD Citizens Academy
DESCRIPTION:
URL:https://events.bridgeport.edu/event/bpd-citizens-academy-2/
LOCATION:CARH 153 Campus: Main Campus\, 303 University Avenue\, Bridgeport\, CT\, 06604\, United States
CATEGORIES:Community
END:VEVENT
BEGIN:VEVENT
DTSTART;TZID=America/New_York:20260206T153000
DTEND;TZID=America/New_York:20260206T173000
DTSTAMP:20260423T115728
CREATED:20260121T001636Z
LAST-MODIFIED:20260206T214613Z
UID:142269-1770391800-1770399000@events.bridgeport.edu
SUMMARY:BackCountry Jazz -Friday Music Program
DESCRIPTION:
URL:https://events.bridgeport.edu/event/backcountry-jazz-friday-music-program-5/
LOCATION:JCSC Knight S7 Campus: Main Campus
CATEGORIES:Community
END:VEVENT
BEGIN:VEVENT
DTSTART;TZID=America/New_York:20260206T153000
DTEND;TZID=America/New_York:20260206T173000
DTSTAMP:20260423T115728
CREATED:20260121T001636Z
LAST-MODIFIED:20260206T214613Z
UID:142270-1770391800-1770399000@events.bridgeport.edu
SUMMARY:BackCountry Jazz -Friday Music Program
DESCRIPTION:
URL:https://events.bridgeport.edu/event/backcountry-jazz-friday-music-program-6/
LOCATION:JCSC 207-209 Campus: Main Campus\, 244 University Avenue\, Bridgeport\, CT\, 06604\, United States
CATEGORIES:Community
END:VEVENT
BEGIN:VEVENT
DTSTART;TZID=America/New_York:20260207T080000
DTEND;TZID=America/New_York:20260207T130000
DTSTAMP:20260423T115728
CREATED:20260121T001636Z
LAST-MODIFIED:20260207T171613Z
UID:142272-1770451200-1770469200@events.bridgeport.edu
SUMMARY:BCYL-SAT MATH
DESCRIPTION:
URL:https://events.bridgeport.edu/event/bcyl-sat-math-3/
LOCATION:MAN 301 Campus: Main Campus\, 230 Park Avenue\, Bridgeport\, CT\, 06604\, United States
CATEGORIES:Community
END:VEVENT
BEGIN:VEVENT
DTSTART;TZID=America/New_York:20260207T080000
DTEND;TZID=America/New_York:20260207T130000
DTSTAMP:20260423T115728
CREATED:20260121T001647Z
LAST-MODIFIED:20260207T171613Z
UID:142286-1770451200-1770469200@events.bridgeport.edu
SUMMARY:BCYL Winter/Spring Tutoring
DESCRIPTION:
URL:https://events.bridgeport.edu/event/bcyl-winter-spring-tutoring-3/
LOCATION:MAN 210 Campus: Main Campus\, 230 Park Avenue\, Bridgeport\, CT\, 06604\, United States
CATEGORIES:Community
END:VEVENT
BEGIN:VEVENT
DTSTART;TZID=America/New_York:20260207T080000
DTEND;TZID=America/New_York:20260207T160000
DTSTAMP:20260423T115728
CREATED:20260121T001636Z
LAST-MODIFIED:20260207T201612Z
UID:142271-1770451200-1770480000@events.bridgeport.edu
SUMMARY:32BJ Training and ESL Citizenship Courses
DESCRIPTION:
URL:https://events.bridgeport.edu/event/32bj-training-and-esl-citizenship-courses-5/
LOCATION:MAN 303 Campus: Main Campus\, 230 Park Avenue\, Bridgeport\, CT\, 06604\, United States
CATEGORIES:Community
END:VEVENT
BEGIN:VEVENT
DTSTART;TZID=America/New_York:20260207T080000
DTEND;TZID=America/New_York:20260207T160000
DTSTAMP:20260423T115728
CREATED:20260121T001636Z
LAST-MODIFIED:20260207T201612Z
UID:142273-1770451200-1770480000@events.bridgeport.edu
SUMMARY:32BJ Training and ESL Citizenship Courses
DESCRIPTION:
URL:https://events.bridgeport.edu/event/32bj-training-and-esl-citizenship-courses-6/
LOCATION:MAN 216 Campus: Main Campus\, 230 Park Avenue\, Bridgeport\, CT\, 06604\, United States
CATEGORIES:Community
END:VEVENT
BEGIN:VEVENT
DTSTART;TZID=America/New_York:20260207T100000
DTEND;TZID=America/New_York:20260207T140000
DTSTAMP:20260423T115728
CREATED:20260121T001636Z
LAST-MODIFIED:20260207T184611Z
UID:142275-1770458400-1770472800@events.bridgeport.edu
SUMMARY:STEM Girls - National Coalition of 100 Black Women/NCBW
DESCRIPTION:
URL:https://events.bridgeport.edu/event/stem-girls-national-coalition-of-100-black-women-ncbw/
LOCATION:WAHL 613 Campus: Main Campus
CATEGORIES:Community
END:VEVENT
BEGIN:VEVENT
DTSTART;TZID=America/New_York:20260207T103000
DTEND;TZID=America/New_York:20260207T133000
DTSTAMP:20260423T115728
CREATED:20260121T001636Z
LAST-MODIFIED:20260207T171613Z
UID:142274-1770460200-1770471000@events.bridgeport.edu
SUMMARY:Sigma Gamma Rho Monthly Chapter Meeting
DESCRIPTION:
URL:https://events.bridgeport.edu/event/sigma-gamma-rho-monthly-chapter-meeting/
LOCATION:Campus:
CATEGORIES:Community
END:VEVENT
BEGIN:VEVENT
DTSTART;TZID=America/New_York:20260209T080000
DTEND;TZID=America/New_York:20260209T160000
DTSTAMP:20260423T115728
CREATED:20260121T001647Z
LAST-MODIFIED:20260209T194612Z
UID:142288-1770624000-1770652800@events.bridgeport.edu
SUMMARY:Police Recertification Training
DESCRIPTION:
URL:https://events.bridgeport.edu/event/police-recertification-training/
LOCATION:JCSC KNIGHT S1 – Social Room Campus: Main Campus
CATEGORIES:Community
END:VEVENT
BEGIN:VEVENT
DTSTART;TZID=America/New_York:20260209T123000
DTEND;TZID=America/New_York:20260209T134500
DTSTAMP:20260423T115728
CREATED:20260121T001647Z
LAST-MODIFIED:20260209T181610Z
UID:142287-1770640200-1770644700@events.bridgeport.edu
SUMMARY:Bowling - Fairfield Education
DESCRIPTION:
URL:https://events.bridgeport.edu/event/bowling-fairfield-education-3/
LOCATION:JCSC UBowl Campus: Main Campus
CATEGORIES:Community
END:VEVENT
BEGIN:VEVENT
DTSTART;TZID=America/New_York:20260210T080000
DTEND;TZID=America/New_York:20260210T160000
DTSTAMP:20260423T115728
CREATED:20260121T001647Z
LAST-MODIFIED:20260210T204613Z
UID:142289-1770710400-1770739200@events.bridgeport.edu
SUMMARY:Police Recertification Training
DESCRIPTION:
URL:https://events.bridgeport.edu/event/police-recertification-training-2/
LOCATION:JCSC KNIGHT S1 – Social Room Campus: Main Campus
CATEGORIES:Community
END:VEVENT
BEGIN:VEVENT
DTSTART;TZID=America/New_York:20260211T080000
DTEND;TZID=America/New_York:20260211T160000
DTSTAMP:20260423T115728
CREATED:20260121T001647Z
LAST-MODIFIED:20260211T201613Z
UID:142290-1770796800-1770825600@events.bridgeport.edu
SUMMARY:Police Recertification Training
DESCRIPTION:
URL:https://events.bridgeport.edu/event/police-recertification-training-3/
LOCATION:JCSC KNIGHT S1 – Social Room Campus: Main Campus
CATEGORIES:Community
END:VEVENT
BEGIN:VEVENT
DTSTART;TZID=America/New_York:20260211T140000
DTEND;TZID=America/New_York:20260211T193000
DTSTAMP:20260423T115728
CREATED:20260121T001647Z
LAST-MODIFIED:20260211T231614Z
UID:142291-1770818400-1770838200@events.bridgeport.edu
SUMMARY:Bassick eSports Club - ACCESS for Kidz and School of Business
DESCRIPTION:
URL:https://events.bridgeport.edu/event/bassick-esports-club-access-for-kidz-and-school-of-business-4/
LOCATION:JCSC JCSC Campus: Main Campus
CATEGORIES:Community
END:VEVENT
BEGIN:VEVENT
DTSTART;TZID=America/New_York:20260211T180000
DTEND;TZID=America/New_York:20260211T200000
DTSTAMP:20260423T115728
CREATED:20260121T001647Z
LAST-MODIFIED:20260212T004612Z
UID:142292-1770832800-1770840000@events.bridgeport.edu
SUMMARY:BPD Citizens Academy
DESCRIPTION:
URL:https://events.bridgeport.edu/event/bpd-citizens-academy-3/
LOCATION:CARH 153 Campus: Main Campus\, 303 University Avenue\, Bridgeport\, CT\, 06604\, United States
CATEGORIES:Community
END:VEVENT
BEGIN:VEVENT
DTSTART;TZID=America/New_York:20260212T080000
DTEND;TZID=America/New_York:20260212T160000
DTSTAMP:20260423T115728
CREATED:20260121T001647Z
LAST-MODIFIED:20260212T201614Z
UID:142293-1770883200-1770912000@events.bridgeport.edu
SUMMARY:Police Recertification Training
DESCRIPTION:
URL:https://events.bridgeport.edu/event/police-recertification-training-4/
LOCATION:JCSC KNIGHT S1 – Social Room Campus: Main Campus
CATEGORIES:Community
END:VEVENT
BEGIN:VEVENT
DTSTART;TZID=America/New_York:20260212T180000
DTEND;TZID=America/New_York:20260212T210000
DTSTAMP:20260423T115728
CREATED:20260202T181623Z
LAST-MODIFIED:20260213T014614Z
UID:144542-1770919200-1770930000@events.bridgeport.edu
SUMMARY:South End: NRZ Meetings
DESCRIPTION:
URL:https://events.bridgeport.edu/event/south-end-nrz-meetings-5/
LOCATION:BAUH 111 Campus: Main Campus\, 82 Marina Park Street\, Bridgeport\, CT\, 06604\, United States
CATEGORIES:Community
END:VEVENT
BEGIN:VEVENT
DTSTART;TZID=America/New_York:20260213T080000
DTEND;TZID=America/New_York:20260213T160000
DTSTAMP:20260423T115728
CREATED:20260121T001647Z
LAST-MODIFIED:20260213T194613Z
UID:142295-1770969600-1770998400@events.bridgeport.edu
SUMMARY:Police Recertification Training
DESCRIPTION:
URL:https://events.bridgeport.edu/event/police-recertification-training-5/
LOCATION:JCSC KNIGHT S1 – Social Room Campus: Main Campus
CATEGORIES:Community
END:VEVENT
BEGIN:VEVENT
DTSTART;TZID=America/New_York:20260213T153000
DTEND;TZID=America/New_York:20260213T173000
DTSTAMP:20260423T115728
CREATED:20260121T001647Z
LAST-MODIFIED:20260213T211612Z
UID:142294-1770996600-1771003800@events.bridgeport.edu
SUMMARY:BackCountry Jazz -Friday Music Program
DESCRIPTION:
URL:https://events.bridgeport.edu/event/backcountry-jazz-friday-music-program-7/
LOCATION:JCSC 207-209 Campus: Main Campus\, 244 University Avenue\, Bridgeport\, CT\, 06604\, United States
CATEGORIES:Community
END:VEVENT
BEGIN:VEVENT
DTSTART;TZID=America/New_York:20260213T153000
DTEND;TZID=America/New_York:20260213T173000
DTSTAMP:20260423T115728
CREATED:20260121T001659Z
LAST-MODIFIED:20260213T211612Z
UID:142306-1770996600-1771003800@events.bridgeport.edu
SUMMARY:BackCountry Jazz -Friday Music Program
DESCRIPTION:
URL:https://events.bridgeport.edu/event/backcountry-jazz-friday-music-program-8/
LOCATION:JCSC Knight S7 Campus: Main Campus
CATEGORIES:Community
END:VEVENT
BEGIN:VEVENT
DTSTART;TZID=America/New_York:20260214T080000
DTEND;TZID=America/New_York:20260214T130000
DTSTAMP:20260423T115728
CREATED:20260121T001659Z
LAST-MODIFIED:20260214T171611Z
UID:142308-1771056000-1771074000@events.bridgeport.edu
SUMMARY:BCYL Winter/Spring Tutoring
DESCRIPTION:
URL:https://events.bridgeport.edu/event/bcyl-winter-spring-tutoring-4/
LOCATION:MAN 210 Campus: Main Campus\, 230 Park Avenue\, Bridgeport\, CT\, 06604\, United States
CATEGORIES:Community
END:VEVENT
BEGIN:VEVENT
DTSTART;TZID=America/New_York:20260214T080000
DTEND;TZID=America/New_York:20260214T130000
DTSTAMP:20260423T115728
CREATED:20260121T001659Z
LAST-MODIFIED:20260214T171611Z
UID:142309-1771056000-1771074000@events.bridgeport.edu
SUMMARY:BCYL-SAT MATH
DESCRIPTION:
URL:https://events.bridgeport.edu/event/bcyl-sat-math-4/
LOCATION:MAN 301 Campus: Main Campus\, 230 Park Avenue\, Bridgeport\, CT\, 06604\, United States
CATEGORIES:Community
END:VEVENT
BEGIN:VEVENT
DTSTART;TZID=America/New_York:20260214T080000
DTEND;TZID=America/New_York:20260214T160000
DTSTAMP:20260423T115728
CREATED:20260121T001659Z
LAST-MODIFIED:20260214T201613Z
UID:142307-1771056000-1771084800@events.bridgeport.edu
SUMMARY:32BJ Training and ESL Citizenship Courses
DESCRIPTION:
URL:https://events.bridgeport.edu/event/32bj-training-and-esl-citizenship-courses-7/
LOCATION:MAN 303 Campus: Main Campus\, 230 Park Avenue\, Bridgeport\, CT\, 06604\, United States
CATEGORIES:Community
END:VEVENT
BEGIN:VEVENT
DTSTART;TZID=America/New_York:20260214T080000
DTEND;TZID=America/New_York:20260214T160000
DTSTAMP:20260423T115728
CREATED:20260121T001659Z
LAST-MODIFIED:20260214T201612Z
UID:142310-1771056000-1771084800@events.bridgeport.edu
SUMMARY:32BJ Training and ESL Citizenship Courses
DESCRIPTION:
URL:https://events.bridgeport.edu/event/32bj-training-and-esl-citizenship-courses-8/
LOCATION:MAN 216 Campus: Main Campus\, 230 Park Avenue\, Bridgeport\, CT\, 06604\, United States
CATEGORIES:Community
END:VEVENT
BEGIN:VEVENT
DTSTART;TZID=America/New_York:20260215T133000
DTEND;TZID=America/New_York:20260215T163000
DTSTAMP:20260423T115728
CREATED:20260124T001722Z
LAST-MODIFIED:20260215T201613Z
UID:143429-1771162200-1771173000@events.bridgeport.edu
SUMMARY:Seaside Village Homes Meeting
DESCRIPTION:
URL:https://events.bridgeport.edu/event/seaside-village-homes-meeting-4/
LOCATION:MAN 104 Campus: Main Campus\, 230 Park Avenue\, Bridgeport\, CT\, 06604\, United States
CATEGORIES:Community
END:VEVENT
BEGIN:VEVENT
DTSTART;TZID=America/New_York:20260217T000000
DTEND;TZID=America/New_York:20260217T235900
DTSTAMP:20260423T115728
CREATED:20260124T001722Z
LAST-MODIFIED:20260218T044611Z
UID:143430-1771286400-1771372740@events.bridgeport.edu
SUMMARY:Ramadan Prayer Room - Student Affairs
DESCRIPTION:
URL:https://events.bridgeport.edu/event/ramadan-prayer-room-student-affairs/
LOCATION:JCSC 003 Campus: Main Campus
CATEGORIES:Community
END:VEVENT
BEGIN:VEVENT
DTSTART;TZID=America/New_York:20260218T000000
DTEND;TZID=America/New_York:20260218T235900
DTSTAMP:20260423T115728
CREATED:20260124T001722Z
LAST-MODIFIED:20260219T044613Z
UID:143431-1771372800-1771459140@events.bridgeport.edu
SUMMARY:Ramadan Prayer Room - Student Affairs
DESCRIPTION:
URL:https://events.bridgeport.edu/event/ramadan-prayer-room-student-affairs-2/
LOCATION:JCSC 003 Campus: Main Campus
CATEGORIES:Community
END:VEVENT
BEGIN:VEVENT
DTSTART;TZID=America/New_York:20260218T140000
DTEND;TZID=America/New_York:20260218T193000
DTSTAMP:20260423T115728
CREATED:20260121T001659Z
LAST-MODIFIED:20260218T054612Z
UID:142311-1771423200-1771443000@events.bridgeport.edu
SUMMARY:Bassick eSports Club - ACCESS for Kidz and School of Business
DESCRIPTION:
URL:https://events.bridgeport.edu/event/bassick-esports-club-access-for-kidz-and-school-of-business-5/
LOCATION:JCSC JCSC Campus: Main Campus
CATEGORIES:Community
END:VEVENT
END:VCALENDAR