

BEGIN:VCALENDAR
VERSION:2.0
PRODID:-//Campus Events - ECPv6.15.20//NONSGML v1.0//EN
CALSCALE:GREGORIAN
METHOD:PUBLISH
X-ORIGINAL-URL:https://events.bridgeport.edu
X-WR-CALDESC:Events for Campus Events
REFRESH-INTERVAL;VALUE=DURATION:PT1H
X-Robots-Tag:noindex
X-PUBLISHED-TTL:PT1H
BEGIN:VTIMEZONE
TZID:America/New_York
BEGIN:DAYLIGHT
TZOFFSETFROM:-0500
TZOFFSETTO:-0400
TZNAME:EDT
DTSTART:20250309T070000
END:DAYLIGHT
BEGIN:STANDARD
TZOFFSETFROM:-0400
TZOFFSETTO:-0500
TZNAME:EST
DTSTART:20251102T060000
END:STANDARD
BEGIN:DAYLIGHT
TZOFFSETFROM:-0500
TZOFFSETTO:-0400
TZNAME:EDT
DTSTART:20260308T070000
END:DAYLIGHT
BEGIN:STANDARD
TZOFFSETFROM:-0400
TZOFFSETTO:-0500
TZNAME:EST
DTSTART:20261101T060000
END:STANDARD
BEGIN:DAYLIGHT
TZOFFSETFROM:-0500
TZOFFSETTO:-0400
TZNAME:EDT
DTSTART:20270314T070000
END:DAYLIGHT
BEGIN:STANDARD
TZOFFSETFROM:-0400
TZOFFSETTO:-0500
TZNAME:EST
DTSTART:20271107T060000
END:STANDARD
END:VTIMEZONE
BEGIN:VEVENT
DTSTART;TZID=America/New_York:20260424T153000
DTEND;TZID=America/New_York:20260424T173000
DTSTAMP:20260420T142908
CREATED:20260121T001909Z
LAST-MODIFIED:20260223T054845Z
UID:142532-1777044600-1777051800@events.bridgeport.edu
SUMMARY:BackCountry Jazz -Friday Music Program
DESCRIPTION:
URL:https://events.bridgeport.edu/event/backcountry-jazz-friday-music-program-27/
LOCATION:JCSC Knight S7 Campus: Main Campus
CATEGORIES:Community
END:VEVENT
BEGIN:VEVENT
DTSTART;TZID=America/New_York:20260424T153000
DTEND;TZID=America/New_York:20260424T173000
DTSTAMP:20260420T142908
CREATED:20260121T001909Z
LAST-MODIFIED:20260223T054845Z
UID:142533-1777044600-1777051800@events.bridgeport.edu
SUMMARY:BackCountry Jazz -Friday Music Program
DESCRIPTION:
URL:https://events.bridgeport.edu/event/backcountry-jazz-friday-music-program-28/
LOCATION:JCSC 207-209 Campus: Main Campus\, 244 University Avenue\, Bridgeport\, CT\, 06604\, United States
CATEGORIES:Community
END:VEVENT
BEGIN:VEVENT
DTSTART;TZID=America/New_York:20260425T080000
DTEND;TZID=America/New_York:20260425T160000
DTSTAMP:20260420T142908
CREATED:20260121T001909Z
LAST-MODIFIED:20260223T054845Z
UID:142534-1777104000-1777132800@events.bridgeport.edu
SUMMARY:32BJ Training and ESL Citizenship Courses
DESCRIPTION:
URL:https://events.bridgeport.edu/event/32bj-training-and-esl-citizenship-courses-25/
LOCATION:MAN 216 Campus: Main Campus\, 230 Park Avenue\, Bridgeport\, CT\, 06604\, United States
CATEGORIES:Community
END:VEVENT
BEGIN:VEVENT
DTSTART;TZID=America/New_York:20260425T080000
DTEND;TZID=America/New_York:20260425T160000
DTSTAMP:20260420T142908
CREATED:20260121T001909Z
LAST-MODIFIED:20260223T054845Z
UID:142535-1777104000-1777132800@events.bridgeport.edu
SUMMARY:32BJ Training and ESL Citizenship Courses
DESCRIPTION:
URL:https://events.bridgeport.edu/event/32bj-training-and-esl-citizenship-courses-26/
LOCATION:MAN 303 Campus: Main Campus\, 230 Park Avenue\, Bridgeport\, CT\, 06604\, United States
CATEGORIES:Community
END:VEVENT
BEGIN:VEVENT
DTSTART;TZID=America/New_York:20260425T100000
DTEND;TZID=America/New_York:20260425T143000
DTSTAMP:20260420T142908
CREATED:20260225T192749Z
LAST-MODIFIED:20260323T200105Z
UID:152163-1777111200-1777127400@events.bridgeport.edu
SUMMARY:National Coalition of 100 Black Women STEM Girls Program - Mechanical Engineering
DESCRIPTION:
URL:https://events.bridgeport.edu/event/national-coalition-of-100-black-women-stem-girls-program-mechanical-engineering/
LOCATION:WAHL 6th Floor-EIM Makerspace
CATEGORIES:Community,Social
END:VEVENT
BEGIN:VEVENT
DTSTART;TZID=America/New_York:20260427T123000
DTEND;TZID=America/New_York:20260427T134500
DTSTAMP:20260420T142908
CREATED:20260121T001909Z
LAST-MODIFIED:20260223T054845Z
UID:142536-1777293000-1777297500@events.bridgeport.edu
SUMMARY:Bowling - Fairfield Education
DESCRIPTION:
URL:https://events.bridgeport.edu/event/bowling-fairfield-education-11/
LOCATION:JCSC UBowl Campus: Main Campus
CATEGORIES:Community
END:VEVENT
BEGIN:VEVENT
DTSTART;TZID=America/New_York:20260429T140000
DTEND;TZID=America/New_York:20260429T193000
DTSTAMP:20260420T142908
CREATED:20260121T001909Z
LAST-MODIFIED:20260223T054845Z
UID:142537-1777471200-1777491000@events.bridgeport.edu
SUMMARY:Bassick eSports Club - ACCESS for Kidz and School of Business
DESCRIPTION:
URL:https://events.bridgeport.edu/event/bassick-esports-club-access-for-kidz-and-school-of-business-15/
LOCATION:JCSC JCSC Campus: Main Campus
CATEGORIES:Community
END:VEVENT
BEGIN:VEVENT
DTSTART;TZID=America/New_York:20260430T174500
DTEND;TZID=America/New_York:20260430T210000
DTSTAMP:20260420T142908
CREATED:20260303T005929Z
LAST-MODIFIED:20260415T174401Z
UID:152337-1777571100-1777582800@events.bridgeport.edu
SUMMARY:LifeBridge Community Services Workshop and Symposium
DESCRIPTION:
URL:https://events.bridgeport.edu/event/lifebridge-community-services-workshop-and-symposium/
LOCATION:ABC Tower Room\, 575 University Avenue 9th floor\, Bridgeport\, CT\, 06604\, United States
CATEGORIES:Community,Conference
END:VEVENT
BEGIN:VEVENT
DTSTART;TZID=America/New_York:20260504T123000
DTEND;TZID=America/New_York:20260504T134500
DTSTAMP:20260420T142908
CREATED:20260121T001909Z
LAST-MODIFIED:20260223T054845Z
UID:142538-1777897800-1777902300@events.bridgeport.edu
SUMMARY:Bowling - Fairfield Education
DESCRIPTION:
URL:https://events.bridgeport.edu/event/bowling-fairfield-education-12/
LOCATION:JCSC UBowl Campus: Main Campus
CATEGORIES:Community
END:VEVENT
BEGIN:VEVENT
DTSTART;TZID=America/New_York:20260508T153000
DTEND;TZID=America/New_York:20260508T173000
DTSTAMP:20260420T142908
CREATED:20260121T001920Z
LAST-MODIFIED:20260223T054845Z
UID:142549-1778254200-1778261400@events.bridgeport.edu
SUMMARY:BackCountry Jazz -Friday Music Program
DESCRIPTION:
URL:https://events.bridgeport.edu/event/backcountry-jazz-friday-music-program-29/
LOCATION:JCSC 207-209 Campus: Main Campus\, 244 University Avenue\, Bridgeport\, CT\, 06604\, United States
CATEGORIES:Community
END:VEVENT
BEGIN:VEVENT
DTSTART;TZID=America/New_York:20260508T153000
DTEND;TZID=America/New_York:20260508T173000
DTSTAMP:20260420T142908
CREATED:20260121T001920Z
LAST-MODIFIED:20260223T054845Z
UID:142550-1778254200-1778261400@events.bridgeport.edu
SUMMARY:BackCountry Jazz -Friday Music Program
DESCRIPTION:
URL:https://events.bridgeport.edu/event/backcountry-jazz-friday-music-program-30/
LOCATION:JCSC Knight S7 Campus: Main Campus
CATEGORIES:Community
END:VEVENT
BEGIN:VEVENT
DTSTART;TZID=America/New_York:20260509T080000
DTEND;TZID=America/New_York:20260509T160000
DTSTAMP:20260420T142908
CREATED:20260121T001920Z
LAST-MODIFIED:20260223T054845Z
UID:142551-1778313600-1778342400@events.bridgeport.edu
SUMMARY:32BJ Training and ESL Citizenship Courses
DESCRIPTION:
URL:https://events.bridgeport.edu/event/32bj-training-and-esl-citizenship-courses-27/
LOCATION:MAN 303 Campus: Main Campus\, 230 Park Avenue\, Bridgeport\, CT\, 06604\, United States
CATEGORIES:Community
END:VEVENT
BEGIN:VEVENT
DTSTART;TZID=America/New_York:20260509T080000
DTEND;TZID=America/New_York:20260509T160000
DTSTAMP:20260420T142908
CREATED:20260121T001920Z
LAST-MODIFIED:20260223T054858Z
UID:142552-1778313600-1778342400@events.bridgeport.edu
SUMMARY:32BJ Training and ESL Citizenship Courses
DESCRIPTION:
URL:https://events.bridgeport.edu/event/32bj-training-and-esl-citizenship-courses-28/
LOCATION:MAN 216 Campus: Main Campus\, 230 Park Avenue\, Bridgeport\, CT\, 06604\, United States
CATEGORIES:Community
END:VEVENT
BEGIN:VEVENT
DTSTART;TZID=America/New_York:20260509T100000
DTEND;TZID=America/New_York:20260509T120000
DTSTAMP:20260420T142908
CREATED:20260204T021942Z
LAST-MODIFIED:20260210T221916Z
UID:144703-1778320800-1778328000@events.bridgeport.edu
SUMMARY:STEM Scholarship and Closing Ceremony Breakfast  - National Coalition of 100 Black Women
DESCRIPTION:
URL:https://events.bridgeport.edu/event/stem-scholarship-and-closing-ceremony-breakfast-national-coalition-of-100-black-women/
LOCATION:JCSC KNIGHT S1 – Social Room Campus: Main Campus
CATEGORIES:Community
END:VEVENT
BEGIN:VEVENT
DTSTART;TZID=America/New_York:20260509T180000
DTEND;TZID=America/New_York:20260509T210000
DTSTAMP:20260420T142908
CREATED:20260121T001920Z
LAST-MODIFIED:20260223T054858Z
UID:142553-1778349600-1778360400@events.bridgeport.edu
SUMMARY:Parker Project Annual Gala
DESCRIPTION:
URL:https://events.bridgeport.edu/event/parker-project-annual-gala/
LOCATION:ABC 118 Campus: Main Campus\, 84 Iranistan Avenue\, Bridgeport\, CT\, 06604\, United States
CATEGORIES:Community
END:VEVENT
BEGIN:VEVENT
DTSTART;TZID=America/New_York:20260511T123000
DTEND;TZID=America/New_York:20260511T134500
DTSTAMP:20260420T142908
CREATED:20260121T001920Z
LAST-MODIFIED:20260223T054858Z
UID:142554-1778502600-1778507100@events.bridgeport.edu
SUMMARY:Bowling - Fairfield Education
DESCRIPTION:
URL:https://events.bridgeport.edu/event/bowling-fairfield-education-13/
LOCATION:JCSC UBowl Campus: Main Campus
CATEGORIES:Community
END:VEVENT
BEGIN:VEVENT
DTSTART;TZID=America/New_York:20260514T180000
DTEND;TZID=America/New_York:20260514T210000
DTSTAMP:20260420T142908
CREATED:20260202T181939Z
LAST-MODIFIED:20260223T054858Z
UID:144546-1778781600-1778792400@events.bridgeport.edu
SUMMARY:South End: NRZ Meetings
DESCRIPTION:
URL:https://events.bridgeport.edu/event/south-end-nrz-meetings-9/
LOCATION:BAUH 111 Campus: Main Campus\, 82 Marina Park Street\, Bridgeport\, CT\, 06604\, United States
CATEGORIES:Community
END:VEVENT
BEGIN:VEVENT
DTSTART;TZID=America/New_York:20260515T153000
DTEND;TZID=America/New_York:20260515T173000
DTSTAMP:20260420T142908
CREATED:20260121T001920Z
LAST-MODIFIED:20260223T054858Z
UID:142555-1778859000-1778866200@events.bridgeport.edu
SUMMARY:BackCountry Jazz -Friday Music Program
DESCRIPTION:
URL:https://events.bridgeport.edu/event/backcountry-jazz-friday-music-program-31/
LOCATION:JCSC Knight S7 Campus: Main Campus
CATEGORIES:Community
END:VEVENT
BEGIN:VEVENT
DTSTART;TZID=America/New_York:20260515T153000
DTEND;TZID=America/New_York:20260515T173000
DTSTAMP:20260420T142908
CREATED:20260121T001921Z
LAST-MODIFIED:20260223T054858Z
UID:142556-1778859000-1778866200@events.bridgeport.edu
SUMMARY:BackCountry Jazz -Friday Music Program
DESCRIPTION:
URL:https://events.bridgeport.edu/event/backcountry-jazz-friday-music-program-32/
LOCATION:JCSC 207-209 Campus: Main Campus\, 244 University Avenue\, Bridgeport\, CT\, 06604\, United States
CATEGORIES:Community
END:VEVENT
BEGIN:VEVENT
DTSTART;TZID=America/New_York:20260516T080000
DTEND;TZID=America/New_York:20260516T160000
DTSTAMP:20260420T142908
CREATED:20260121T001921Z
LAST-MODIFIED:20260223T054858Z
UID:142557-1778918400-1778947200@events.bridgeport.edu
SUMMARY:32BJ Training and ESL Citizenship Courses
DESCRIPTION:
URL:https://events.bridgeport.edu/event/32bj-training-and-esl-citizenship-courses-29/
LOCATION:MAN 303 Campus: Main Campus\, 230 Park Avenue\, Bridgeport\, CT\, 06604\, United States
CATEGORIES:Community
END:VEVENT
BEGIN:VEVENT
DTSTART;TZID=America/New_York:20260516T080000
DTEND;TZID=America/New_York:20260516T160000
DTSTAMP:20260420T142908
CREATED:20260121T001921Z
LAST-MODIFIED:20260223T054858Z
UID:142558-1778918400-1778947200@events.bridgeport.edu
SUMMARY:32BJ Training and ESL Citizenship Courses
DESCRIPTION:
URL:https://events.bridgeport.edu/event/32bj-training-and-esl-citizenship-courses-30/
LOCATION:MAN 216 Campus: Main Campus\, 230 Park Avenue\, Bridgeport\, CT\, 06604\, United States
CATEGORIES:Community
END:VEVENT
BEGIN:VEVENT
DTSTART;TZID=America/New_York:20260516T090000
DTEND;TZID=America/New_York:20260516T130000
DTSTAMP:20260420T142908
CREATED:20260210T234933Z
LAST-MODIFIED:20260223T054858Z
UID:145574-1778922000-1778936400@events.bridgeport.edu
SUMMARY:STEM Scholarship and Closing Ceremony Breakfast  - National Coalition of 100 Black Women
DESCRIPTION:
URL:https://events.bridgeport.edu/event/stem-scholarship-and-closing-ceremony-breakfast-national-coalition-of-100-black-women-2/
LOCATION:JCSC KNIGHT S1 – Social Room Campus: Main Campus
CATEGORIES:Community
END:VEVENT
BEGIN:VEVENT
DTSTART;TZID=America/New_York:20260522T153000
DTEND;TZID=America/New_York:20260522T173000
DTSTAMP:20260420T142908
CREATED:20260121T001932Z
LAST-MODIFIED:20260223T054858Z
UID:142569-1779463800-1779471000@events.bridgeport.edu
SUMMARY:BackCountry Jazz -Friday Music Program
DESCRIPTION:
URL:https://events.bridgeport.edu/event/backcountry-jazz-friday-music-program-33/
LOCATION:JCSC 207-209 Campus: Main Campus\, 244 University Avenue\, Bridgeport\, CT\, 06604\, United States
CATEGORIES:Community
END:VEVENT
BEGIN:VEVENT
DTSTART;TZID=America/New_York:20260522T153000
DTEND;TZID=America/New_York:20260522T173000
DTSTAMP:20260420T142908
CREATED:20260121T001932Z
LAST-MODIFIED:20260223T054909Z
UID:142570-1779463800-1779471000@events.bridgeport.edu
SUMMARY:BackCountry Jazz -Friday Music Program
DESCRIPTION:
URL:https://events.bridgeport.edu/event/backcountry-jazz-friday-music-program-34/
LOCATION:JCSC Knight S7 Campus: Main Campus
CATEGORIES:Community
END:VEVENT
BEGIN:VEVENT
DTSTART;TZID=America/New_York:20260529T130000
DTEND;TZID=America/New_York:20260529T170000
DTSTAMP:20260420T142908
CREATED:20260323T163211Z
LAST-MODIFIED:20260323T163214Z
UID:152971-1780059600-1780074000@events.bridgeport.edu
SUMMARY:Bridgeport International Academy Graduation
DESCRIPTION:
URL:https://events.bridgeport.edu/event/bridgeport-international-academy-graduation-3/
LOCATION:JCSC Social Room\, 244 University Avenue\, Bridgeport\, CT\, 06604\, United States
CATEGORIES:Community
END:VEVENT
BEGIN:VEVENT
DTSTART;TZID=America/New_York:20260530T080000
DTEND;TZID=America/New_York:20260530T160000
DTSTAMP:20260420T142908
CREATED:20260121T001932Z
LAST-MODIFIED:20260223T054909Z
UID:142572-1780128000-1780156800@events.bridgeport.edu
SUMMARY:32BJ Training and ESL Citizenship Courses
DESCRIPTION:
URL:https://events.bridgeport.edu/event/32bj-training-and-esl-citizenship-courses-32/
LOCATION:MAN 303 Campus: Main Campus\, 230 Park Avenue\, Bridgeport\, CT\, 06604\, United States
CATEGORIES:Community
END:VEVENT
BEGIN:VEVENT
DTSTART;TZID=America/New_York:20260530T080000
DTEND;TZID=America/New_York:20260530T160000
DTSTAMP:20260420T142908
CREATED:20260121T001932Z
LAST-MODIFIED:20260223T054909Z
UID:142571-1780128000-1780156800@events.bridgeport.edu
SUMMARY:32BJ Training and ESL Citizenship Courses
DESCRIPTION:
URL:https://events.bridgeport.edu/event/32bj-training-and-esl-citizenship-courses-31/
LOCATION:MAN 216 Campus: Main Campus\, 230 Park Avenue\, Bridgeport\, CT\, 06604\, United States
CATEGORIES:Community
END:VEVENT
BEGIN:VEVENT
DTSTART;TZID=America/New_York:20260606T080000
DTEND;TZID=America/New_York:20260606T160000
DTSTAMP:20260420T142908
CREATED:20260121T001932Z
LAST-MODIFIED:20260223T054909Z
UID:142573-1780732800-1780761600@events.bridgeport.edu
SUMMARY:32BJ Training and ESL Citizenship Courses
DESCRIPTION:
URL:https://events.bridgeport.edu/event/32bj-training-and-esl-citizenship-courses-33/
LOCATION:MAN 216 Campus: Main Campus\, 230 Park Avenue\, Bridgeport\, CT\, 06604\, United States
CATEGORIES:Community
END:VEVENT
BEGIN:VEVENT
DTSTART;TZID=America/New_York:20260606T080000
DTEND;TZID=America/New_York:20260606T160000
DTSTAMP:20260420T142908
CREATED:20260121T001932Z
LAST-MODIFIED:20260223T054909Z
UID:142574-1780732800-1780761600@events.bridgeport.edu
SUMMARY:32BJ Training and ESL Citizenship Courses
DESCRIPTION:
URL:https://events.bridgeport.edu/event/32bj-training-and-esl-citizenship-courses-34/
LOCATION:MAN 303 Campus: Main Campus\, 230 Park Avenue\, Bridgeport\, CT\, 06604\, United States
CATEGORIES:Community
END:VEVENT
BEGIN:VEVENT
DTSTART;TZID=America/New_York:20260607T100000
DTEND;TZID=America/New_York:20260607T200000
DTSTAMP:20260420T142908
CREATED:20260121T001932Z
LAST-MODIFIED:20260223T054909Z
UID:142575-1780826400-1780862400@events.bridgeport.edu
SUMMARY:Thrive: Essence of Dance Spring Recital
DESCRIPTION:
URL:https://events.bridgeport.edu/event/thrive-essence-of-dance-spring-recital-3/
LOCATION:ABC 118 Campus: Main Campus\, 84 Iranistan Avenue\, Bridgeport\, CT\, 06604\, United States
CATEGORIES:Community
END:VEVENT
END:VCALENDAR