

BEGIN:VCALENDAR
VERSION:2.0
PRODID:-//Campus Events - ECPv6.15.20//NONSGML v1.0//EN
CALSCALE:GREGORIAN
METHOD:PUBLISH
X-WR-CALNAME:Campus Events
X-ORIGINAL-URL:https://events.bridgeport.edu
X-WR-CALDESC:Events for Campus Events
REFRESH-INTERVAL;VALUE=DURATION:PT1H
X-Robots-Tag:noindex
X-PUBLISHED-TTL:PT1H
BEGIN:VTIMEZONE
TZID:America/New_York
BEGIN:DAYLIGHT
TZOFFSETFROM:-0500
TZOFFSETTO:-0400
TZNAME:EDT
DTSTART:20230312T070000
END:DAYLIGHT
BEGIN:STANDARD
TZOFFSETFROM:-0400
TZOFFSETTO:-0500
TZNAME:EST
DTSTART:20231105T060000
END:STANDARD
BEGIN:DAYLIGHT
TZOFFSETFROM:-0500
TZOFFSETTO:-0400
TZNAME:EDT
DTSTART:20240310T070000
END:DAYLIGHT
BEGIN:STANDARD
TZOFFSETFROM:-0400
TZOFFSETTO:-0500
TZNAME:EST
DTSTART:20241103T060000
END:STANDARD
BEGIN:DAYLIGHT
TZOFFSETFROM:-0500
TZOFFSETTO:-0400
TZNAME:EDT
DTSTART:20250309T070000
END:DAYLIGHT
BEGIN:STANDARD
TZOFFSETFROM:-0400
TZOFFSETTO:-0500
TZNAME:EST
DTSTART:20251102T060000
END:STANDARD
END:VTIMEZONE
BEGIN:VEVENT
DTSTART;TZID=America/New_York:20240525T080000
DTEND;TZID=America/New_York:20240525T130000
DTSTAMP:20260422T012907
CREATED:20240403T134931Z
LAST-MODIFIED:20240525T161750Z
UID:71599-1716624000-1716642000@events.bridgeport.edu
SUMMARY:Bridgeport Caribe Youth Leaders Spring Tutoring Program: April 20-June 8th 2024
DESCRIPTION:
URL:https://events.bridgeport.edu/event/bridgeport-caribe-youth-leaders-spring-tutoring-program-april-20-june-8th-2024-47/
LOCATION:MAN 319 Campus: Main Campus\, 230 Park Avenue\, Bridgeport\, CT\, 06604\, United States
CATEGORIES:Community
END:VEVENT
BEGIN:VEVENT
DTSTART;TZID=America/New_York:20240525T080000
DTEND;TZID=America/New_York:20240525T130000
DTSTAMP:20260422T012907
CREATED:20240403T134931Z
LAST-MODIFIED:20240525T161749Z
UID:71600-1716624000-1716642000@events.bridgeport.edu
SUMMARY:Bridgeport Caribe Youth Leaders Spring Tutoring Program: April 20-June 8th 2024
DESCRIPTION:
URL:https://events.bridgeport.edu/event/bridgeport-caribe-youth-leaders-spring-tutoring-program-april-20-june-8th-2024-48/
LOCATION:MAN 322 Campus: Main Campus\, 230 Park Avenue\, Bridgeport\, CT\, 06604\, United States
CATEGORIES:Community
END:VEVENT
BEGIN:VEVENT
DTSTART;TZID=America/New_York:20240525T080000
DTEND;TZID=America/New_York:20240525T130000
DTSTAMP:20260422T012907
CREATED:20240403T134931Z
LAST-MODIFIED:20240419T064919Z
UID:71597-1716624000-1716642000@events.bridgeport.edu
SUMMARY:Bridgeport Caribe Youth Leaders Spring Tutoring Program: April 20-June 8th 2024
DESCRIPTION:
URL:https://events.bridgeport.edu/event/bridgeport-caribe-youth-leaders-spring-tutoring-program-april-20-june-8th-2024-45/
LOCATION:MAN 303 Campus: Main Campus\, 230 Park Avenue\, Bridgeport\, CT\, 06604\, United States
CATEGORIES:Community
END:VEVENT
BEGIN:VEVENT
DTSTART;TZID=America/New_York:20240525T080000
DTEND;TZID=America/New_York:20240525T130000
DTSTAMP:20260422T012907
CREATED:20240403T134932Z
LAST-MODIFIED:20240524T063249Z
UID:71601-1716624000-1716642000@events.bridgeport.edu
SUMMARY:Bridgeport Caribe Youth Leaders Spring Tutoring Program: April 20-June 8th 2024
DESCRIPTION:
URL:https://events.bridgeport.edu/event/bridgeport-caribe-youth-leaders-spring-tutoring-program-april-20-june-8th-2024-49/
LOCATION:MAN 310 Campus: Main Campus\, 230 Park Avenue\, Bridgeport\, CT\, 06604\, United States
CATEGORIES:Community
END:VEVENT
BEGIN:VEVENT
DTSTART;TZID=America/New_York:20240525T080000
DTEND;TZID=America/New_York:20240525T130000
DTSTAMP:20260422T012907
CREATED:20240403T134943Z
LAST-MODIFIED:20240525T161749Z
UID:71602-1716624000-1716642000@events.bridgeport.edu
SUMMARY:Bridgeport Caribe Youth Leaders Spring Tutoring Program: April 20-June 8th 2024
DESCRIPTION:
URL:https://events.bridgeport.edu/event/bridgeport-caribe-youth-leaders-spring-tutoring-program-april-20-june-8th-2024-50/
LOCATION:MAN 321 Campus: Main Campus\, 230 Park Avenue\, Bridgeport\, CT\, 06604\, United States
CATEGORIES:Community
END:VEVENT
BEGIN:VEVENT
DTSTART;TZID=America/New_York:20240525T080000
DTEND;TZID=America/New_York:20240525T130000
DTSTAMP:20260422T012907
CREATED:20240403T134944Z
LAST-MODIFIED:20240525T161749Z
UID:71603-1716624000-1716642000@events.bridgeport.edu
SUMMARY:Bridgeport Caribe Youth Leaders Spring Tutoring Program: April 20-June 8th 2024
DESCRIPTION:
URL:https://events.bridgeport.edu/event/bridgeport-caribe-youth-leaders-spring-tutoring-program-april-20-june-8th-2024-51/
LOCATION:MAN 316 Campus: Main Campus\, 230 Park Avenue\, Bridgeport\, CT\, 06604\, United States
CATEGORIES:Community
END:VEVENT
BEGIN:VEVENT
DTSTART;TZID=America/New_York:20240525T080000
DTEND;TZID=America/New_York:20240525T130000
DTSTAMP:20260422T012907
CREATED:20240403T134944Z
LAST-MODIFIED:20240525T161749Z
UID:71604-1716624000-1716642000@events.bridgeport.edu
SUMMARY:Bridgeport Caribe Youth Leaders Spring Tutoring Program: April 20-June 8th 2024
DESCRIPTION:
URL:https://events.bridgeport.edu/event/bridgeport-caribe-youth-leaders-spring-tutoring-program-april-20-june-8th-2024-52/
LOCATION:MAN 323 Campus: Main Campus\, 230 Park Avenue\, Bridgeport\, CT\, 06604\, United States
CATEGORIES:Community
END:VEVENT
BEGIN:VEVENT
DTSTART;TZID=America/New_York:20240525T080000
DTEND;TZID=America/New_York:20240525T130000
DTSTAMP:20260422T012907
CREATED:20240403T134944Z
LAST-MODIFIED:20240419T064920Z
UID:71605-1716624000-1716642000@events.bridgeport.edu
SUMMARY:Bridgeport Caribe Youth Leaders Spring Tutoring Program: April 20-June 8th 2024
DESCRIPTION:
URL:https://events.bridgeport.edu/event/bridgeport-caribe-youth-leaders-spring-tutoring-program-april-20-june-8th-2024-53/
LOCATION:MAN 301 Campus: Main Campus\, 230 Park Avenue\, Bridgeport\, CT\, 06604\, United States
CATEGORIES:Community
END:VEVENT
BEGIN:VEVENT
DTSTART;TZID=America/New_York:20240525T080000
DTEND;TZID=America/New_York:20240525T130000
DTSTAMP:20260422T012907
CREATED:20240403T134944Z
LAST-MODIFIED:20240525T161750Z
UID:71606-1716624000-1716642000@events.bridgeport.edu
SUMMARY:Bridgeport Caribe Youth Leaders Spring Tutoring Program: April 20-June 8th 2024
DESCRIPTION:
URL:https://events.bridgeport.edu/event/bridgeport-caribe-youth-leaders-spring-tutoring-program-april-20-june-8th-2024-54/
LOCATION:MAN 318 Campus: Main Campus\, 230 Park Avenue\, Bridgeport\, CT\, 06604\, United States
CATEGORIES:Community
END:VEVENT
BEGIN:VEVENT
DTSTART;TZID=America/New_York:20240525T080000
DTEND;TZID=America/New_York:20240525T130000
DTSTAMP:20260422T012907
CREATED:20240403T134944Z
LAST-MODIFIED:20240525T161750Z
UID:71607-1716624000-1716642000@events.bridgeport.edu
SUMMARY:Bridgeport Caribe Youth Leaders Spring Tutoring Program: April 20-June 8th 2024
DESCRIPTION:
URL:https://events.bridgeport.edu/event/bridgeport-caribe-youth-leaders-spring-tutoring-program-april-20-june-8th-2024-55/
LOCATION:MAN 311 Campus: Main Campus\, 230 Park Avenue\, Bridgeport\, CT\, 06604\, United States
CATEGORIES:Community
END:VEVENT
BEGIN:VEVENT
DTSTART;TZID=America/New_York:20240525T080000
DTEND;TZID=America/New_York:20240525T130000
DTSTAMP:20260422T012907
CREATED:20240419T075010Z
LAST-MODIFIED:20240525T161749Z
UID:73339-1716624000-1716642000@events.bridgeport.edu
SUMMARY:Bridgeport Caribe Youth Leaders Spring Tutoring Program: April 20-June 8th 2024
DESCRIPTION:
URL:https://events.bridgeport.edu/event/bridgeport-caribe-youth-leaders-spring-tutoring-program-april-20-june-8th-2024-82/
LOCATION:MAN 1 Campus: Main Campus\, 230 Park Avenue\, Bridgeport\, CT\, 06604\, United States
CATEGORIES:Community
END:VEVENT
BEGIN:VEVENT
DTSTART;TZID=America/New_York:20240530T080000
DTEND;TZID=America/New_York:20240530T140000
DTSTAMP:20260422T012907
CREATED:20240201T095057Z
LAST-MODIFIED:20240320T011856Z
UID:64067-1717056000-1717077600@events.bridgeport.edu
SUMMARY:Math Meet
DESCRIPTION:
URL:https://events.bridgeport.edu/event/math-meet/
LOCATION:DANA 107 Campus: Main Campus\, 169 University Avenue\, Bridgeport\, CT\, 06604\, United States
CATEGORIES:Community
END:VEVENT
BEGIN:VEVENT
DTSTART;TZID=America/New_York:20240531T090000
DTEND;TZID=America/New_York:20240531T180000
DTSTAMP:20260422T012907
CREATED:20240308T000359Z
LAST-MODIFIED:20240515T070328Z
UID:68657-1717146000-1717178400@events.bridgeport.edu
SUMMARY:BIA Graduation Ceremony
DESCRIPTION:
URL:https://events.bridgeport.edu/event/bia-graduation-ceremony-6/
LOCATION:JCSC KNIGHT S1 – Social Room Campus: Main Campus
CATEGORIES:Community
END:VEVENT
BEGIN:VEVENT
DTSTART;TZID=America/New_York:20240531T153000
DTEND;TZID=America/New_York:20240531T180000
DTSTAMP:20260422T012907
CREATED:20240314T000406Z
LAST-MODIFIED:20240531T201751Z
UID:69309-1717169400-1717178400@events.bridgeport.edu
SUMMARY:BackCountry Jazz
DESCRIPTION:
URL:https://events.bridgeport.edu/event/backcountry-jazz-23/
LOCATION:JCSC 207-209 Campus: Main Campus\, 244 University Avenue\, Bridgeport\, CT\, 06604\, United States
CATEGORIES:Community
END:VEVENT
BEGIN:VEVENT
DTSTART;TZID=America/New_York:20240531T153000
DTEND;TZID=America/New_York:20240531T180000
DTSTAMP:20260422T012907
CREATED:20240314T000418Z
LAST-MODIFIED:20240531T201751Z
UID:69310-1717169400-1717178400@events.bridgeport.edu
SUMMARY:BackCountry Jazz
DESCRIPTION:
URL:https://events.bridgeport.edu/event/backcountry-jazz-24/
LOCATION:JCSC Knight S7 Campus: Main Campus
CATEGORIES:Community
END:VEVENT
BEGIN:VEVENT
DTSTART;TZID=America/New_York:20240531T180000
DTEND;TZID=America/New_York:20240531T200000
DTSTAMP:20260422T012907
CREATED:20240307T000400Z
LAST-MODIFIED:20240320T131853Z
UID:67803-1717178400-1717185600@events.bridgeport.edu
SUMMARY:ARV Community Conversations - RYSAP
DESCRIPTION:
URL:https://events.bridgeport.edu/event/arv-community-conversations-rysap-3/
LOCATION:WAHL HC Main Area  Campus: Main Campus
CATEGORIES:Community
END:VEVENT
BEGIN:VEVENT
DTSTART;TZID=America/New_York:20240531T180000
DTEND;TZID=America/New_York:20240531T200000
DTSTAMP:20260422T012907
CREATED:20240320T141854Z
LAST-MODIFIED:20240531T201751Z
UID:70021-1717178400-1717185600@events.bridgeport.edu
SUMMARY:ARV Community Conversations - RYSAP hosted by the Office of Civic Engagement
DESCRIPTION:
URL:https://events.bridgeport.edu/event/arv-community-conversations-rysap-hosted-by-the-office-of-civic-engagement-3/
LOCATION:WAHL HC Main Area  Campus: Main Campus
CATEGORIES:Community
END:VEVENT
BEGIN:VEVENT
DTSTART;TZID=America/New_York:20240531T190000
DTEND;TZID=America/New_York:20240531T210000
DTSTAMP:20260422T012907
CREATED:20240515T080327Z
LAST-MODIFIED:20240601T001750Z
UID:76346-1717182000-1717189200@events.bridgeport.edu
SUMMARY:BIA Graduation Ceremony
DESCRIPTION:
URL:https://events.bridgeport.edu/event/bia-graduation-ceremony-7/
LOCATION:JCSC KNIGHT S1 – Social Room Campus: Main Campus
CATEGORIES:Community
END:VEVENT
BEGIN:VEVENT
DTSTART;TZID=America/New_York:20240601T080000
DTEND;TZID=America/New_York:20240601T130000
DTSTAMP:20260422T012907
CREATED:20240403T134956Z
LAST-MODIFIED:20240601T161751Z
UID:71608-1717228800-1717246800@events.bridgeport.edu
SUMMARY:Bridgeport Caribe Youth Leaders Spring Tutoring Program: April 20-June 8th 2024
DESCRIPTION:
URL:https://events.bridgeport.edu/event/bridgeport-caribe-youth-leaders-spring-tutoring-program-april-20-june-8th-2024-56/
LOCATION:MAN 320 Campus: Main Campus\, 230 Park Avenue\, Bridgeport\, CT\, 06604\, United States
CATEGORIES:Community
END:VEVENT
BEGIN:VEVENT
DTSTART;TZID=America/New_York:20240601T080000
DTEND;TZID=America/New_York:20240601T130000
DTSTAMP:20260422T012907
CREATED:20240403T134957Z
LAST-MODIFIED:20240601T161750Z
UID:71614-1717228800-1717246800@events.bridgeport.edu
SUMMARY:Bridgeport Caribe Youth Leaders Spring Tutoring Program: April 20-June 8th 2024
DESCRIPTION:
URL:https://events.bridgeport.edu/event/bridgeport-caribe-youth-leaders-spring-tutoring-program-april-20-june-8th-2024-62/
LOCATION:MAN 323 Campus: Main Campus\, 230 Park Avenue\, Bridgeport\, CT\, 06604\, United States
CATEGORIES:Community
END:VEVENT
BEGIN:VEVENT
DTSTART;TZID=America/New_York:20240601T080000
DTEND;TZID=America/New_York:20240601T130000
DTSTAMP:20260422T012907
CREATED:20240403T134957Z
LAST-MODIFIED:20240601T161751Z
UID:71609-1717228800-1717246800@events.bridgeport.edu
SUMMARY:Bridgeport Caribe Youth Leaders Spring Tutoring Program: April 20-June 8th 2024
DESCRIPTION:
URL:https://events.bridgeport.edu/event/bridgeport-caribe-youth-leaders-spring-tutoring-program-april-20-june-8th-2024-57/
LOCATION:MAN 322 Campus: Main Campus\, 230 Park Avenue\, Bridgeport\, CT\, 06604\, United States
CATEGORIES:Community
END:VEVENT
BEGIN:VEVENT
DTSTART;TZID=America/New_York:20240601T080000
DTEND;TZID=America/New_York:20240601T130000
DTSTAMP:20260422T012907
CREATED:20240403T134957Z
LAST-MODIFIED:20240601T161751Z
UID:71610-1717228800-1717246800@events.bridgeport.edu
SUMMARY:Bridgeport Caribe Youth Leaders Spring Tutoring Program: April 20-June 8th 2024
DESCRIPTION:
URL:https://events.bridgeport.edu/event/bridgeport-caribe-youth-leaders-spring-tutoring-program-april-20-june-8th-2024-58/
LOCATION:MAN 321 Campus: Main Campus\, 230 Park Avenue\, Bridgeport\, CT\, 06604\, United States
CATEGORIES:Community
END:VEVENT
BEGIN:VEVENT
DTSTART;TZID=America/New_York:20240601T080000
DTEND;TZID=America/New_York:20240601T130000
DTSTAMP:20260422T012907
CREATED:20240403T134957Z
LAST-MODIFIED:20240419T064932Z
UID:71611-1717228800-1717246800@events.bridgeport.edu
SUMMARY:Bridgeport Caribe Youth Leaders Spring Tutoring Program: April 20-June 8th 2024
DESCRIPTION:
URL:https://events.bridgeport.edu/event/bridgeport-caribe-youth-leaders-spring-tutoring-program-april-20-june-8th-2024-59/
LOCATION:MAN 301 Campus: Main Campus\, 230 Park Avenue\, Bridgeport\, CT\, 06604\, United States
CATEGORIES:Community
END:VEVENT
BEGIN:VEVENT
DTSTART;TZID=America/New_York:20240601T080000
DTEND;TZID=America/New_York:20240601T130000
DTSTAMP:20260422T012907
CREATED:20240403T134957Z
LAST-MODIFIED:20240601T161750Z
UID:71612-1717228800-1717246800@events.bridgeport.edu
SUMMARY:Bridgeport Caribe Youth Leaders Spring Tutoring Program: April 20-June 8th 2024
DESCRIPTION:
URL:https://events.bridgeport.edu/event/bridgeport-caribe-youth-leaders-spring-tutoring-program-april-20-june-8th-2024-60/
LOCATION:MAN 316 Campus: Main Campus\, 230 Park Avenue\, Bridgeport\, CT\, 06604\, United States
CATEGORIES:Community
END:VEVENT
BEGIN:VEVENT
DTSTART;TZID=America/New_York:20240601T080000
DTEND;TZID=America/New_York:20240601T130000
DTSTAMP:20260422T012907
CREATED:20240403T134957Z
LAST-MODIFIED:20240419T064945Z
UID:71613-1717228800-1717246800@events.bridgeport.edu
SUMMARY:Bridgeport Caribe Youth Leaders Spring Tutoring Program: April 20-June 8th 2024
DESCRIPTION:
URL:https://events.bridgeport.edu/event/bridgeport-caribe-youth-leaders-spring-tutoring-program-april-20-june-8th-2024-61/
LOCATION:MAN 303 Campus: Main Campus\, 230 Park Avenue\, Bridgeport\, CT\, 06604\, United States
CATEGORIES:Community
END:VEVENT
BEGIN:VEVENT
DTSTART;TZID=America/New_York:20240601T080000
DTEND;TZID=America/New_York:20240601T130000
DTSTAMP:20260422T012907
CREATED:20240403T134958Z
LAST-MODIFIED:20240601T161751Z
UID:71615-1717228800-1717246800@events.bridgeport.edu
SUMMARY:Bridgeport Caribe Youth Leaders Spring Tutoring Program: April 20-June 8th 2024
DESCRIPTION:
URL:https://events.bridgeport.edu/event/bridgeport-caribe-youth-leaders-spring-tutoring-program-april-20-june-8th-2024-63/
LOCATION:MAN 319 Campus: Main Campus\, 230 Park Avenue\, Bridgeport\, CT\, 06604\, United States
CATEGORIES:Community
END:VEVENT
BEGIN:VEVENT
DTSTART;TZID=America/New_York:20240601T080000
DTEND;TZID=America/New_York:20240601T130000
DTSTAMP:20260422T012907
CREATED:20240403T134958Z
LAST-MODIFIED:20240524T063315Z
UID:71616-1717228800-1717246800@events.bridgeport.edu
SUMMARY:Bridgeport Caribe Youth Leaders Spring Tutoring Program: April 20-June 8th 2024
DESCRIPTION:
URL:https://events.bridgeport.edu/event/bridgeport-caribe-youth-leaders-spring-tutoring-program-april-20-june-8th-2024-64/
LOCATION:MAN 310 Campus: Main Campus\, 230 Park Avenue\, Bridgeport\, CT\, 06604\, United States
CATEGORIES:Community
END:VEVENT
BEGIN:VEVENT
DTSTART;TZID=America/New_York:20240601T080000
DTEND;TZID=America/New_York:20240601T130000
DTSTAMP:20260422T012907
CREATED:20240403T135009Z
LAST-MODIFIED:20240601T161751Z
UID:71617-1717228800-1717246800@events.bridgeport.edu
SUMMARY:Bridgeport Caribe Youth Leaders Spring Tutoring Program: April 20-June 8th 2024
DESCRIPTION:
URL:https://events.bridgeport.edu/event/bridgeport-caribe-youth-leaders-spring-tutoring-program-april-20-june-8th-2024-65/
LOCATION:MAN 311 Campus: Main Campus\, 230 Park Avenue\, Bridgeport\, CT\, 06604\, United States
CATEGORIES:Community
END:VEVENT
BEGIN:VEVENT
DTSTART;TZID=America/New_York:20240601T080000
DTEND;TZID=America/New_York:20240601T130000
DTSTAMP:20260422T012907
CREATED:20240403T135010Z
LAST-MODIFIED:20240601T161751Z
UID:71618-1717228800-1717246800@events.bridgeport.edu
SUMMARY:Bridgeport Caribe Youth Leaders Spring Tutoring Program: April 20-June 8th 2024
DESCRIPTION:
URL:https://events.bridgeport.edu/event/bridgeport-caribe-youth-leaders-spring-tutoring-program-april-20-june-8th-2024-66/
LOCATION:MAN 318 Campus: Main Campus\, 230 Park Avenue\, Bridgeport\, CT\, 06604\, United States
CATEGORIES:Community
END:VEVENT
BEGIN:VEVENT
DTSTART;TZID=America/New_York:20240601T080000
DTEND;TZID=America/New_York:20240601T130000
DTSTAMP:20260422T012907
CREATED:20240419T075025Z
LAST-MODIFIED:20240601T161751Z
UID:73340-1717228800-1717246800@events.bridgeport.edu
SUMMARY:Bridgeport Caribe Youth Leaders Spring Tutoring Program: April 20-June 8th 2024
DESCRIPTION:
URL:https://events.bridgeport.edu/event/bridgeport-caribe-youth-leaders-spring-tutoring-program-april-20-june-8th-2024-83/
LOCATION:MAN 1 Campus: Main Campus\, 230 Park Avenue\, Bridgeport\, CT\, 06604\, United States
CATEGORIES:Community
END:VEVENT
END:VCALENDAR