

BEGIN:VCALENDAR
VERSION:2.0
PRODID:-//Campus Events - ECPv6.15.20//NONSGML v1.0//EN
CALSCALE:GREGORIAN
METHOD:PUBLISH
X-ORIGINAL-URL:https://events.bridgeport.edu
X-WR-CALDESC:Events for Campus Events
REFRESH-INTERVAL;VALUE=DURATION:PT1H
X-Robots-Tag:noindex
X-PUBLISHED-TTL:PT1H
BEGIN:VTIMEZONE
TZID:America/New_York
BEGIN:DAYLIGHT
TZOFFSETFROM:-0500
TZOFFSETTO:-0400
TZNAME:EDT
DTSTART:20240310T070000
END:DAYLIGHT
BEGIN:STANDARD
TZOFFSETFROM:-0400
TZOFFSETTO:-0500
TZNAME:EST
DTSTART:20241103T060000
END:STANDARD
BEGIN:DAYLIGHT
TZOFFSETFROM:-0500
TZOFFSETTO:-0400
TZNAME:EDT
DTSTART:20250309T070000
END:DAYLIGHT
BEGIN:STANDARD
TZOFFSETFROM:-0400
TZOFFSETTO:-0500
TZNAME:EST
DTSTART:20251102T060000
END:STANDARD
BEGIN:DAYLIGHT
TZOFFSETFROM:-0500
TZOFFSETTO:-0400
TZNAME:EDT
DTSTART:20260308T070000
END:DAYLIGHT
BEGIN:STANDARD
TZOFFSETFROM:-0400
TZOFFSETTO:-0500
TZNAME:EST
DTSTART:20261101T060000
END:STANDARD
BEGIN:DAYLIGHT
TZOFFSETFROM:-0500
TZOFFSETTO:-0400
TZNAME:EDT
DTSTART:20270314T070000
END:DAYLIGHT
BEGIN:STANDARD
TZOFFSETFROM:-0400
TZOFFSETTO:-0500
TZNAME:EST
DTSTART:20271107T060000
END:STANDARD
END:VTIMEZONE
BEGIN:VEVENT
DTSTART;TZID=America/New_York:20250812T080000
DTEND;TZID=America/New_York:20250812T150000
DTSTAMP:20260423T064636
CREATED:20250402T165206Z
LAST-MODIFIED:20250812T184607Z
UID:111912-1754985600-1755010800@events.bridgeport.edu
SUMMARY:KEYS: Kids Empowered by Your Support - Music Program
DESCRIPTION:
URL:https://events.bridgeport.edu/event/keys-kids-empowered-by-your-support-music-program-81/
LOCATION:JCSC Knight S7 Campus: Main Campus
CATEGORIES:Community
END:VEVENT
BEGIN:VEVENT
DTSTART;TZID=America/New_York:20250812T080000
DTEND;TZID=America/New_York:20250812T150000
DTSTAMP:20260423T064636
CREATED:20250402T165206Z
LAST-MODIFIED:20250812T184607Z
UID:111913-1754985600-1755010800@events.bridgeport.edu
SUMMARY:KEYS: Kids Empowered by Your Support - Music Program
DESCRIPTION:
URL:https://events.bridgeport.edu/event/keys-kids-empowered-by-your-support-music-program-82/
LOCATION:JCSC 101-107 Campus: Main Campus\, 244 University Avenue\, Bridgeport\, CT\, 06604\, United States
CATEGORIES:Community
END:VEVENT
BEGIN:VEVENT
DTSTART;TZID=America/New_York:20250812T080000
DTEND;TZID=America/New_York:20250812T150000
DTSTAMP:20260423T064636
CREATED:20250402T165220Z
LAST-MODIFIED:20250812T184607Z
UID:111916-1754985600-1755010800@events.bridgeport.edu
SUMMARY:KEYS: Kids Empowered by Your Support - Music Program
DESCRIPTION:
URL:https://events.bridgeport.edu/event/keys-kids-empowered-by-your-support-music-program-85/
LOCATION:JCSC 207-209 Campus: Main Campus\, 244 University Avenue\, Bridgeport\, CT\, 06604\, United States
CATEGORIES:Community
END:VEVENT
BEGIN:VEVENT
DTSTART;TZID=America/New_York:20250813T080000
DTEND;TZID=America/New_York:20250813T150000
DTSTAMP:20260423T064636
CREATED:20250402T165220Z
LAST-MODIFIED:20250813T181607Z
UID:111919-1755072000-1755097200@events.bridgeport.edu
SUMMARY:KEYS: Kids Empowered by Your Support - Music Program
DESCRIPTION:
URL:https://events.bridgeport.edu/event/keys-kids-empowered-by-your-support-music-program-88/
LOCATION:JCSC 205 Campus: Main Campus\, 244 University Avenue\, Bridgeport\, CT\, 06604\, United States
CATEGORIES:Community
END:VEVENT
BEGIN:VEVENT
DTSTART;TZID=America/New_York:20250813T080000
DTEND;TZID=America/New_York:20250813T150000
DTSTAMP:20260423T064636
CREATED:20250402T165220Z
LAST-MODIFIED:20250813T181607Z
UID:111920-1755072000-1755097200@events.bridgeport.edu
SUMMARY:KEYS: Kids Empowered by Your Support - Music Program
DESCRIPTION:
URL:https://events.bridgeport.edu/event/keys-kids-empowered-by-your-support-music-program-89/
LOCATION:JCSC Knight S7 Campus: Main Campus
CATEGORIES:Community
END:VEVENT
BEGIN:VEVENT
DTSTART;TZID=America/New_York:20250813T080000
DTEND;TZID=America/New_York:20250813T150000
DTSTAMP:20260423T064636
CREATED:20250402T165220Z
LAST-MODIFIED:20250813T181607Z
UID:111921-1755072000-1755097200@events.bridgeport.edu
SUMMARY:KEYS: Kids Empowered by Your Support - Music Program
DESCRIPTION:
URL:https://events.bridgeport.edu/event/keys-kids-empowered-by-your-support-music-program-90/
LOCATION:JCSC 213-215 Campus: Main Campus\, 244 University Avenue\, Bridgeport\, CT\, 06604\, United States
CATEGORIES:Community
END:VEVENT
BEGIN:VEVENT
DTSTART;TZID=America/New_York:20250813T080000
DTEND;TZID=America/New_York:20250813T150000
DTSTAMP:20260423T064636
CREATED:20250402T165220Z
LAST-MODIFIED:20250813T181607Z
UID:111917-1755072000-1755097200@events.bridgeport.edu
SUMMARY:KEYS: Kids Empowered by Your Support - Music Program
DESCRIPTION:
URL:https://events.bridgeport.edu/event/keys-kids-empowered-by-your-support-music-program-86/
LOCATION:JCSC 207-209 Campus: Main Campus\, 244 University Avenue\, Bridgeport\, CT\, 06604\, United States
CATEGORIES:Community
END:VEVENT
BEGIN:VEVENT
DTSTART;TZID=America/New_York:20250813T080000
DTEND;TZID=America/New_York:20250813T150000
DTSTAMP:20260423T064636
CREATED:20250402T165220Z
LAST-MODIFIED:20250813T181607Z
UID:111918-1755072000-1755097200@events.bridgeport.edu
SUMMARY:KEYS: Kids Empowered by Your Support - Music Program
DESCRIPTION:
URL:https://events.bridgeport.edu/event/keys-kids-empowered-by-your-support-music-program-87/
LOCATION:JCSC 101-107 Campus: Main Campus\, 244 University Avenue\, Bridgeport\, CT\, 06604\, United States
CATEGORIES:Community
END:VEVENT
BEGIN:VEVENT
DTSTART;TZID=America/New_York:20250814T080000
DTEND;TZID=America/New_York:20250814T150000
DTSTAMP:20260423T064636
CREATED:20250402T165220Z
LAST-MODIFIED:20250814T181607Z
UID:111924-1755158400-1755183600@events.bridgeport.edu
SUMMARY:KEYS: Kids Empowered by Your Support - Music Program
DESCRIPTION:
URL:https://events.bridgeport.edu/event/keys-kids-empowered-by-your-support-music-program-93/
LOCATION:JCSC 101-107 Campus: Main Campus\, 244 University Avenue\, Bridgeport\, CT\, 06604\, United States
CATEGORIES:Community
END:VEVENT
BEGIN:VEVENT
DTSTART;TZID=America/New_York:20250814T080000
DTEND;TZID=America/New_York:20250814T150000
DTSTAMP:20260423T064636
CREATED:20250402T165220Z
LAST-MODIFIED:20250814T181607Z
UID:111925-1755158400-1755183600@events.bridgeport.edu
SUMMARY:KEYS: Kids Empowered by Your Support - Music Program
DESCRIPTION:
URL:https://events.bridgeport.edu/event/keys-kids-empowered-by-your-support-music-program-94/
LOCATION:JCSC 207-209 Campus: Main Campus\, 244 University Avenue\, Bridgeport\, CT\, 06604\, United States
CATEGORIES:Community
END:VEVENT
BEGIN:VEVENT
DTSTART;TZID=America/New_York:20250814T080000
DTEND;TZID=America/New_York:20250814T150000
DTSTAMP:20260423T064636
CREATED:20250402T165220Z
LAST-MODIFIED:20250814T181607Z
UID:111922-1755158400-1755183600@events.bridgeport.edu
SUMMARY:KEYS: Kids Empowered by Your Support - Music Program
DESCRIPTION:
URL:https://events.bridgeport.edu/event/keys-kids-empowered-by-your-support-music-program-91/
LOCATION:JCSC 213-215 Campus: Main Campus\, 244 University Avenue\, Bridgeport\, CT\, 06604\, United States
CATEGORIES:Community
END:VEVENT
BEGIN:VEVENT
DTSTART;TZID=America/New_York:20250814T080000
DTEND;TZID=America/New_York:20250814T150000
DTSTAMP:20260423T064636
CREATED:20250402T165220Z
LAST-MODIFIED:20250814T181607Z
UID:111923-1755158400-1755183600@events.bridgeport.edu
SUMMARY:KEYS: Kids Empowered by Your Support - Music Program
DESCRIPTION:
URL:https://events.bridgeport.edu/event/keys-kids-empowered-by-your-support-music-program-92/
LOCATION:JCSC 205 Campus: Main Campus\, 244 University Avenue\, Bridgeport\, CT\, 06604\, United States
CATEGORIES:Community
END:VEVENT
BEGIN:VEVENT
DTSTART;TZID=America/New_York:20250814T080000
DTEND;TZID=America/New_York:20250814T150000
DTSTAMP:20260423T064636
CREATED:20250402T165231Z
LAST-MODIFIED:20250814T181607Z
UID:111926-1755158400-1755183600@events.bridgeport.edu
SUMMARY:KEYS: Kids Empowered by Your Support - Music Program
DESCRIPTION:
URL:https://events.bridgeport.edu/event/keys-kids-empowered-by-your-support-music-program-95/
LOCATION:JCSC Knight S7 Campus: Main Campus
CATEGORIES:Community
END:VEVENT
BEGIN:VEVENT
DTSTART;TZID=America/New_York:20250814T180000
DTEND;TZID=America/New_York:20250814T210000
DTSTAMP:20260423T064636
CREATED:20250402T165231Z
LAST-MODIFIED:20250815T004608Z
UID:111927-1755194400-1755205200@events.bridgeport.edu
SUMMARY:South End NRZ monthly meeting
DESCRIPTION:
URL:https://events.bridgeport.edu/event/south-end-nrz-monthly-meeting-9/
LOCATION:BAUH 111 Campus: Main Campus\, 82 Marina Park Street\, Bridgeport\, CT\, 06604\, United States
CATEGORIES:Community
END:VEVENT
BEGIN:VEVENT
DTSTART;TZID=America/New_York:20250815T080000
DTEND;TZID=America/New_York:20250815T150000
DTSTAMP:20260423T064636
CREATED:20250402T165231Z
LAST-MODIFIED:20250815T181608Z
UID:111930-1755244800-1755270000@events.bridgeport.edu
SUMMARY:KEYS: Kids Empowered by Your Support - Music Program
DESCRIPTION:
URL:https://events.bridgeport.edu/event/keys-kids-empowered-by-your-support-music-program-98/
LOCATION:JCSC 205 Campus: Main Campus\, 244 University Avenue\, Bridgeport\, CT\, 06604\, United States
CATEGORIES:Community
END:VEVENT
BEGIN:VEVENT
DTSTART;TZID=America/New_York:20250815T080000
DTEND;TZID=America/New_York:20250815T150000
DTSTAMP:20260423T064636
CREATED:20250402T165231Z
LAST-MODIFIED:20250815T181607Z
UID:111931-1755244800-1755270000@events.bridgeport.edu
SUMMARY:KEYS: Kids Empowered by Your Support - Music Program
DESCRIPTION:
URL:https://events.bridgeport.edu/event/keys-kids-empowered-by-your-support-music-program-99/
LOCATION:JCSC 101-107 Campus: Main Campus\, 244 University Avenue\, Bridgeport\, CT\, 06604\, United States
CATEGORIES:Community
END:VEVENT
BEGIN:VEVENT
DTSTART;TZID=America/New_York:20250815T080000
DTEND;TZID=America/New_York:20250815T150000
DTSTAMP:20260423T064636
CREATED:20250402T165231Z
LAST-MODIFIED:20250815T181608Z
UID:111932-1755244800-1755270000@events.bridgeport.edu
SUMMARY:KEYS: Kids Empowered by Your Support - Music Program
DESCRIPTION:
URL:https://events.bridgeport.edu/event/keys-kids-empowered-by-your-support-music-program-100/
LOCATION:JCSC 207-209 Campus: Main Campus\, 244 University Avenue\, Bridgeport\, CT\, 06604\, United States
CATEGORIES:Community
END:VEVENT
BEGIN:VEVENT
DTSTART;TZID=America/New_York:20250815T080000
DTEND;TZID=America/New_York:20250815T150000
DTSTAMP:20260423T064636
CREATED:20250402T165231Z
LAST-MODIFIED:20250815T181608Z
UID:111928-1755244800-1755270000@events.bridgeport.edu
SUMMARY:KEYS: Kids Empowered by Your Support - Music Program
DESCRIPTION:
URL:https://events.bridgeport.edu/event/keys-kids-empowered-by-your-support-music-program-96/
LOCATION:JCSC 213-215 Campus: Main Campus\, 244 University Avenue\, Bridgeport\, CT\, 06604\, United States
CATEGORIES:Community
END:VEVENT
BEGIN:VEVENT
DTSTART;TZID=America/New_York:20250815T080000
DTEND;TZID=America/New_York:20250815T150000
DTSTAMP:20260423T064636
CREATED:20250402T165231Z
LAST-MODIFIED:20250815T181608Z
UID:111929-1755244800-1755270000@events.bridgeport.edu
SUMMARY:KEYS: Kids Empowered by Your Support - Music Program
DESCRIPTION:
URL:https://events.bridgeport.edu/event/keys-kids-empowered-by-your-support-music-program-97/
LOCATION:JCSC Knight S7 Campus: Main Campus
CATEGORIES:Community
END:VEVENT
BEGIN:VEVENT
DTSTART;TZID=America/New_York:20250911T180000
DTEND;TZID=America/New_York:20250911T210000
DTSTAMP:20260423T064636
CREATED:20250402T165231Z
LAST-MODIFIED:20250912T004608Z
UID:111933-1757613600-1757624400@events.bridgeport.edu
SUMMARY:South End NRZ monthly meeting
DESCRIPTION:
URL:https://events.bridgeport.edu/event/south-end-nrz-monthly-meeting-10/
LOCATION:BAUH 111 Campus: Main Campus\, 82 Marina Park Street\, Bridgeport\, CT\, 06604\, United States
CATEGORIES:Community
END:VEVENT
BEGIN:VEVENT
DTSTART;TZID=America/New_York:20251001T180000
DTEND;TZID=America/New_York:20251001T193000
DTSTAMP:20260423T064636
CREATED:20250925T201201Z
LAST-MODIFIED:20250925T201201Z
UID:130378-1759341600-1759347000@events.bridgeport.edu
SUMMARY:Best Hour with Alumni
DESCRIPTION:
URL:https://events.bridgeport.edu/event/best-hour-with-alumni/
LOCATION:WALD 1st Floor Campus: Main Campus
CATEGORIES:Academics,Community
END:VEVENT
BEGIN:VEVENT
DTSTART;TZID=America/New_York:20251002T173000
DTEND;TZID=America/New_York:20251002T173000
DTSTAMP:20260423T064636
CREATED:20250925T193657Z
LAST-MODIFIED:20250925T194245Z
UID:130368-1759426200-1759426200@events.bridgeport.edu
SUMMARY:Peter Schelfhaudt Art Gallery Ribbon Cutting
DESCRIPTION:
URL:https://events.bridgeport.edu/event/peter-schelfhaudt-art-gallery-ribbon-cutting/
LOCATION:ABC Lobby Campus: Main Campus\, 84 Iranistan Avenue\, Bridgeport\, CT\, 06604\, United States
CATEGORIES:Community
END:VEVENT
BEGIN:VEVENT
DTSTART;VALUE=DATE:20251004
DTEND;VALUE=DATE:20251021
DTSTAMP:20260423T064636
CREATED:20250925T204231Z
LAST-MODIFIED:20250925T204235Z
UID:130387-1759536000-1761004799@events.bridgeport.edu
SUMMARY:The Art Show at the Peter Schelfhaudt Art Gallery
DESCRIPTION:
URL:https://events.bridgeport.edu/event/the-art-show-at-the-peter-schelfhaudt-art-gallery/
CATEGORIES:Community,Social
END:VEVENT
BEGIN:VEVENT
DTSTART;TZID=America/New_York:20251004T140000
DTEND;TZID=America/New_York:20251004T160000
DTSTAMP:20260423T064636
CREATED:20250925T200018Z
LAST-MODIFIED:20250927T211530Z
UID:130375-1759586400-1759593600@events.bridgeport.edu
SUMMARY:Industrial/Graphic Design Gathering
DESCRIPTION:
URL:https://events.bridgeport.edu/event/industrial-graphic-design-gathering/
LOCATION:ABC 905 Campus: Main Campus\, ABC's Tower Room - 9th floor\, 84 Iranistan Avenue\, Bridgeport\, CT\, 06604\, United States
CATEGORIES:Community
END:VEVENT
BEGIN:VEVENT
DTSTART;TZID=America/New_York:20251009T180000
DTEND;TZID=America/New_York:20251009T210000
DTSTAMP:20260423T064636
CREATED:20250402T165231Z
LAST-MODIFIED:20251010T004607Z
UID:111934-1760032800-1760043600@events.bridgeport.edu
SUMMARY:South End NRZ monthly meeting
DESCRIPTION:
URL:https://events.bridgeport.edu/event/south-end-nrz-monthly-meeting-11/
LOCATION:BAUH 111 Campus: Main Campus\, 82 Marina Park Street\, Bridgeport\, CT\, 06604\, United States
CATEGORIES:Community
END:VEVENT
BEGIN:VEVENT
DTSTART;TZID=America/New_York:20251113T180000
DTEND;TZID=America/New_York:20251113T210000
DTSTAMP:20260423T064636
CREATED:20250402T165245Z
LAST-MODIFIED:20251102T101607Z
UID:111936-1763056800-1763067600@events.bridgeport.edu
SUMMARY:South End NRZ monthly meeting
DESCRIPTION:
URL:https://events.bridgeport.edu/event/south-end-nrz-monthly-meeting-12/
LOCATION:BAUH 111 Campus: Main Campus\, 82 Marina Park Street\, Bridgeport\, CT\, 06604\, United States
CATEGORIES:Community
END:VEVENT
BEGIN:VEVENT
DTSTART;TZID=America/New_York:20251211T180000
DTEND;TZID=America/New_York:20251211T210000
DTSTAMP:20260423T064636
CREATED:20250402T165245Z
LAST-MODIFIED:20251102T101607Z
UID:111937-1765476000-1765486800@events.bridgeport.edu
SUMMARY:South End NRZ monthly meeting
DESCRIPTION:
URL:https://events.bridgeport.edu/event/south-end-nrz-monthly-meeting-13/
LOCATION:BAUH 111 Campus: Main Campus\, 82 Marina Park Street\, Bridgeport\, CT\, 06604\, United States
CATEGORIES:Community
END:VEVENT
BEGIN:VEVENT
DTSTART;TZID=America/New_York:20260121T170000
DTEND;TZID=America/New_York:20260121T193000
DTSTAMP:20260423T064636
CREATED:20260121T001612Z
LAST-MODIFIED:20260122T001613Z
UID:142198-1769014800-1769023800@events.bridgeport.edu
SUMMARY:Bassick eSports Club - ACCESS for Kidz and School of Business
DESCRIPTION:
URL:https://events.bridgeport.edu/event/bassick-esports-club-access-for-kidz-and-school-of-business/
LOCATION:JCSC JCSC Campus: Main Campus
CATEGORIES:Community
END:VEVENT
BEGIN:VEVENT
DTSTART;TZID=America/New_York:20260122T170000
DTEND;TZID=America/New_York:20260122T200000
DTSTAMP:20260423T064636
CREATED:20260121T001612Z
LAST-MODIFIED:20260123T004614Z
UID:142200-1769101200-1769112000@events.bridgeport.edu
SUMMARY:Police Department Graduation Ceremony
DESCRIPTION:
URL:https://events.bridgeport.edu/event/police-department-graduation-ceremony/
LOCATION:ABC 118 Campus: Main Campus\, 84 Iranistan Avenue\, Bridgeport\, CT\, 06604\, United States
CATEGORIES:Community
END:VEVENT
BEGIN:VEVENT
DTSTART;TZID=America/New_York:20260123T153000
DTEND;TZID=America/New_York:20260123T173000
DTSTAMP:20260423T064636
CREATED:20260121T001612Z
LAST-MODIFIED:20260123T211613Z
UID:142202-1769182200-1769189400@events.bridgeport.edu
SUMMARY:BackCountry Jazz -Friday Music Program
DESCRIPTION:
URL:https://events.bridgeport.edu/event/backcountry-jazz-friday-music-program/
LOCATION:JCSC 207-209 Campus: Main Campus\, 244 University Avenue\, Bridgeport\, CT\, 06604\, United States
CATEGORIES:Community
END:VEVENT
END:VCALENDAR