

BEGIN:VCALENDAR
VERSION:2.0
PRODID:-//Campus Events - ECPv6.15.20//NONSGML v1.0//EN
CALSCALE:GREGORIAN
METHOD:PUBLISH
X-WR-CALNAME:Campus Events
X-ORIGINAL-URL:https://events.bridgeport.edu
X-WR-CALDESC:Events for Campus Events
REFRESH-INTERVAL;VALUE=DURATION:PT1H
X-Robots-Tag:noindex
X-PUBLISHED-TTL:PT1H
BEGIN:VTIMEZONE
TZID:America/New_York
BEGIN:DAYLIGHT
TZOFFSETFROM:-0500
TZOFFSETTO:-0400
TZNAME:EDT
DTSTART:20240310T070000
END:DAYLIGHT
BEGIN:STANDARD
TZOFFSETFROM:-0400
TZOFFSETTO:-0500
TZNAME:EST
DTSTART:20241103T060000
END:STANDARD
BEGIN:DAYLIGHT
TZOFFSETFROM:-0500
TZOFFSETTO:-0400
TZNAME:EDT
DTSTART:20250309T070000
END:DAYLIGHT
BEGIN:STANDARD
TZOFFSETFROM:-0400
TZOFFSETTO:-0500
TZNAME:EST
DTSTART:20251102T060000
END:STANDARD
BEGIN:DAYLIGHT
TZOFFSETFROM:-0500
TZOFFSETTO:-0400
TZNAME:EDT
DTSTART:20260308T070000
END:DAYLIGHT
BEGIN:STANDARD
TZOFFSETFROM:-0400
TZOFFSETTO:-0500
TZNAME:EST
DTSTART:20261101T060000
END:STANDARD
END:VTIMEZONE
BEGIN:VEVENT
DTSTART;TZID=America/New_York:20250731T080000
DTEND;TZID=America/New_York:20250731T150000
DTSTAMP:20260423T032529
CREATED:20250402T165115Z
LAST-MODIFIED:20250731T181607Z
UID:111870-1753948800-1753974000@events.bridgeport.edu
SUMMARY:KEYS: Kids Empowered by Your Support - Music Program
DESCRIPTION:
URL:https://events.bridgeport.edu/event/keys-kids-empowered-by-your-support-music-program-41/
LOCATION:JCSC 207-209 Campus: Main Campus\, 244 University Avenue\, Bridgeport\, CT\, 06604\, United States
CATEGORIES:Community
END:VEVENT
BEGIN:VEVENT
DTSTART;TZID=America/New_York:20250731T080000
DTEND;TZID=America/New_York:20250731T150000
DTSTAMP:20260423T032529
CREATED:20250402T165115Z
LAST-MODIFIED:20250731T181607Z
UID:111871-1753948800-1753974000@events.bridgeport.edu
SUMMARY:KEYS: Kids Empowered by Your Support - Music Program
DESCRIPTION:
URL:https://events.bridgeport.edu/event/keys-kids-empowered-by-your-support-music-program-42/
LOCATION:JCSC Knight S7 Campus: Main Campus
CATEGORIES:Community
END:VEVENT
BEGIN:VEVENT
DTSTART;TZID=America/New_York:20250731T080000
DTEND;TZID=America/New_York:20250731T150000
DTSTAMP:20260423T032529
CREATED:20250402T165127Z
LAST-MODIFIED:20250731T181607Z
UID:111875-1753948800-1753974000@events.bridgeport.edu
SUMMARY:KEYS: Kids Empowered by Your Support - Music Program
DESCRIPTION:
URL:https://events.bridgeport.edu/event/keys-kids-empowered-by-your-support-music-program-45/
LOCATION:JCSC 101-107 Campus: Main Campus\, 244 University Avenue\, Bridgeport\, CT\, 06604\, United States
CATEGORIES:Community
END:VEVENT
BEGIN:VEVENT
DTSTART;TZID=America/New_York:20250801T080000
DTEND;TZID=America/New_York:20250801T150000
DTSTAMP:20260423T032529
CREATED:20250402T165127Z
LAST-MODIFIED:20250801T181608Z
UID:111878-1754035200-1754060400@events.bridgeport.edu
SUMMARY:KEYS: Kids Empowered by Your Support - Music Program
DESCRIPTION:
URL:https://events.bridgeport.edu/event/keys-kids-empowered-by-your-support-music-program-48/
LOCATION:JCSC 213-215 Campus: Main Campus\, 244 University Avenue\, Bridgeport\, CT\, 06604\, United States
CATEGORIES:Community
END:VEVENT
BEGIN:VEVENT
DTSTART;TZID=America/New_York:20250801T080000
DTEND;TZID=America/New_York:20250801T150000
DTSTAMP:20260423T032529
CREATED:20250402T165127Z
LAST-MODIFIED:20250801T181608Z
UID:111879-1754035200-1754060400@events.bridgeport.edu
SUMMARY:KEYS: Kids Empowered by Your Support - Music Program
DESCRIPTION:
URL:https://events.bridgeport.edu/event/keys-kids-empowered-by-your-support-music-program-49/
LOCATION:JCSC 207-209 Campus: Main Campus\, 244 University Avenue\, Bridgeport\, CT\, 06604\, United States
CATEGORIES:Community
END:VEVENT
BEGIN:VEVENT
DTSTART;TZID=America/New_York:20250801T080000
DTEND;TZID=America/New_York:20250801T150000
DTSTAMP:20260423T032529
CREATED:20250402T165127Z
LAST-MODIFIED:20250801T181608Z
UID:111880-1754035200-1754060400@events.bridgeport.edu
SUMMARY:KEYS: Kids Empowered by Your Support - Music Program
DESCRIPTION:
URL:https://events.bridgeport.edu/event/keys-kids-empowered-by-your-support-music-program-50/
LOCATION:JCSC Knight S7 Campus: Main Campus
CATEGORIES:Community
END:VEVENT
BEGIN:VEVENT
DTSTART;TZID=America/New_York:20250801T080000
DTEND;TZID=America/New_York:20250801T150000
DTSTAMP:20260423T032529
CREATED:20250402T165127Z
LAST-MODIFIED:20250801T181608Z
UID:111876-1754035200-1754060400@events.bridgeport.edu
SUMMARY:KEYS: Kids Empowered by Your Support - Music Program
DESCRIPTION:
URL:https://events.bridgeport.edu/event/keys-kids-empowered-by-your-support-music-program-46/
LOCATION:JCSC 101-107 Campus: Main Campus\, 244 University Avenue\, Bridgeport\, CT\, 06604\, United States
CATEGORIES:Community
END:VEVENT
BEGIN:VEVENT
DTSTART;TZID=America/New_York:20250801T080000
DTEND;TZID=America/New_York:20250801T150000
DTSTAMP:20260423T032529
CREATED:20250402T165127Z
LAST-MODIFIED:20250801T181608Z
UID:111877-1754035200-1754060400@events.bridgeport.edu
SUMMARY:KEYS: Kids Empowered by Your Support - Music Program
DESCRIPTION:
URL:https://events.bridgeport.edu/event/keys-kids-empowered-by-your-support-music-program-47/
LOCATION:JCSC 205 Campus: Main Campus\, 244 University Avenue\, Bridgeport\, CT\, 06604\, United States
CATEGORIES:Community
END:VEVENT
BEGIN:VEVENT
DTSTART;TZID=America/New_York:20250804T080000
DTEND;TZID=America/New_York:20250804T150000
DTSTAMP:20260423T032529
CREATED:20250402T165127Z
LAST-MODIFIED:20250804T181606Z
UID:111884-1754294400-1754319600@events.bridgeport.edu
SUMMARY:KEYS: Kids Empowered by Your Support - Music Program
DESCRIPTION:
URL:https://events.bridgeport.edu/event/keys-kids-empowered-by-your-support-music-program-54/
LOCATION:JCSC 101-107 Campus: Main Campus\, 244 University Avenue\, Bridgeport\, CT\, 06604\, United States
CATEGORIES:Community
END:VEVENT
BEGIN:VEVENT
DTSTART;TZID=America/New_York:20250804T080000
DTEND;TZID=America/New_York:20250804T150000
DTSTAMP:20260423T032529
CREATED:20250402T165127Z
LAST-MODIFIED:20250804T181606Z
UID:111881-1754294400-1754319600@events.bridgeport.edu
SUMMARY:KEYS: Kids Empowered by Your Support - Music Program
DESCRIPTION:
URL:https://events.bridgeport.edu/event/keys-kids-empowered-by-your-support-music-program-51/
LOCATION:JCSC 207-209 Campus: Main Campus\, 244 University Avenue\, Bridgeport\, CT\, 06604\, United States
CATEGORIES:Community
END:VEVENT
BEGIN:VEVENT
DTSTART;TZID=America/New_York:20250804T080000
DTEND;TZID=America/New_York:20250804T150000
DTSTAMP:20260423T032529
CREATED:20250402T165127Z
LAST-MODIFIED:20250804T181606Z
UID:111882-1754294400-1754319600@events.bridgeport.edu
SUMMARY:KEYS: Kids Empowered by Your Support - Music Program
DESCRIPTION:
URL:https://events.bridgeport.edu/event/keys-kids-empowered-by-your-support-music-program-52/
LOCATION:JCSC 205 Campus: Main Campus\, 244 University Avenue\, Bridgeport\, CT\, 06604\, United States
CATEGORIES:Community
END:VEVENT
BEGIN:VEVENT
DTSTART;TZID=America/New_York:20250804T080000
DTEND;TZID=America/New_York:20250804T150000
DTSTAMP:20260423T032529
CREATED:20250402T165127Z
LAST-MODIFIED:20250804T181606Z
UID:111883-1754294400-1754319600@events.bridgeport.edu
SUMMARY:KEYS: Kids Empowered by Your Support - Music Program
DESCRIPTION:
URL:https://events.bridgeport.edu/event/keys-kids-empowered-by-your-support-music-program-53/
LOCATION:JCSC Knight S7 Campus: Main Campus
CATEGORIES:Community
END:VEVENT
BEGIN:VEVENT
DTSTART;TZID=America/New_York:20250804T080000
DTEND;TZID=America/New_York:20250804T150000
DTSTAMP:20260423T032529
CREATED:20250402T165138Z
LAST-MODIFIED:20250804T181606Z
UID:111886-1754294400-1754319600@events.bridgeport.edu
SUMMARY:KEYS: Kids Empowered by Your Support - Music Program
DESCRIPTION:
URL:https://events.bridgeport.edu/event/keys-kids-empowered-by-your-support-music-program-55/
LOCATION:JCSC 213-215 Campus: Main Campus\, 244 University Avenue\, Bridgeport\, CT\, 06604\, United States
CATEGORIES:Community
END:VEVENT
BEGIN:VEVENT
DTSTART;TZID=America/New_York:20250805T080000
DTEND;TZID=America/New_York:20250805T150000
DTSTAMP:20260423T032529
CREATED:20250402T165138Z
LAST-MODIFIED:20250805T181607Z
UID:111890-1754380800-1754406000@events.bridgeport.edu
SUMMARY:KEYS: Kids Empowered by Your Support - Music Program
DESCRIPTION:
URL:https://events.bridgeport.edu/event/keys-kids-empowered-by-your-support-music-program-59/
LOCATION:JCSC 213-215 Campus: Main Campus\, 244 University Avenue\, Bridgeport\, CT\, 06604\, United States
CATEGORIES:Community
END:VEVENT
BEGIN:VEVENT
DTSTART;TZID=America/New_York:20250805T080000
DTEND;TZID=America/New_York:20250805T150000
DTSTAMP:20260423T032529
CREATED:20250402T165138Z
LAST-MODIFIED:20250805T181607Z
UID:111891-1754380800-1754406000@events.bridgeport.edu
SUMMARY:KEYS: Kids Empowered by Your Support - Music Program
DESCRIPTION:
URL:https://events.bridgeport.edu/event/keys-kids-empowered-by-your-support-music-program-60/
LOCATION:JCSC 205 Campus: Main Campus\, 244 University Avenue\, Bridgeport\, CT\, 06604\, United States
CATEGORIES:Community
END:VEVENT
BEGIN:VEVENT
DTSTART;TZID=America/New_York:20250805T080000
DTEND;TZID=America/New_York:20250805T150000
DTSTAMP:20260423T032529
CREATED:20250402T165138Z
LAST-MODIFIED:20250805T181607Z
UID:111887-1754380800-1754406000@events.bridgeport.edu
SUMMARY:KEYS: Kids Empowered by Your Support - Music Program
DESCRIPTION:
URL:https://events.bridgeport.edu/event/keys-kids-empowered-by-your-support-music-program-56/
LOCATION:JCSC 207-209 Campus: Main Campus\, 244 University Avenue\, Bridgeport\, CT\, 06604\, United States
CATEGORIES:Community
END:VEVENT
BEGIN:VEVENT
DTSTART;TZID=America/New_York:20250805T080000
DTEND;TZID=America/New_York:20250805T150000
DTSTAMP:20260423T032529
CREATED:20250402T165138Z
LAST-MODIFIED:20250805T181607Z
UID:111888-1754380800-1754406000@events.bridgeport.edu
SUMMARY:KEYS: Kids Empowered by Your Support - Music Program
DESCRIPTION:
URL:https://events.bridgeport.edu/event/keys-kids-empowered-by-your-support-music-program-57/
LOCATION:JCSC Knight S7 Campus: Main Campus
CATEGORIES:Community
END:VEVENT
BEGIN:VEVENT
DTSTART;TZID=America/New_York:20250805T080000
DTEND;TZID=America/New_York:20250805T150000
DTSTAMP:20260423T032529
CREATED:20250402T165138Z
LAST-MODIFIED:20250805T181607Z
UID:111889-1754380800-1754406000@events.bridgeport.edu
SUMMARY:KEYS: Kids Empowered by Your Support - Music Program
DESCRIPTION:
URL:https://events.bridgeport.edu/event/keys-kids-empowered-by-your-support-music-program-58/
LOCATION:JCSC 101-107 Campus: Main Campus\, 244 University Avenue\, Bridgeport\, CT\, 06604\, United States
CATEGORIES:Community
END:VEVENT
BEGIN:VEVENT
DTSTART;TZID=America/New_York:20250806T080000
DTEND;TZID=America/New_York:20250806T150000
DTSTAMP:20260423T032529
CREATED:20250402T165138Z
LAST-MODIFIED:20250806T184606Z
UID:111895-1754467200-1754492400@events.bridgeport.edu
SUMMARY:KEYS: Kids Empowered by Your Support - Music Program
DESCRIPTION:
URL:https://events.bridgeport.edu/event/keys-kids-empowered-by-your-support-music-program-64/
LOCATION:JCSC 207-209 Campus: Main Campus\, 244 University Avenue\, Bridgeport\, CT\, 06604\, United States
CATEGORIES:Community
END:VEVENT
BEGIN:VEVENT
DTSTART;TZID=America/New_York:20250806T080000
DTEND;TZID=America/New_York:20250806T150000
DTSTAMP:20260423T032529
CREATED:20250402T165138Z
LAST-MODIFIED:20250806T184607Z
UID:111892-1754467200-1754492400@events.bridgeport.edu
SUMMARY:KEYS: Kids Empowered by Your Support - Music Program
DESCRIPTION:
URL:https://events.bridgeport.edu/event/keys-kids-empowered-by-your-support-music-program-61/
LOCATION:JCSC Knight S7 Campus: Main Campus
CATEGORIES:Community
END:VEVENT
BEGIN:VEVENT
DTSTART;TZID=America/New_York:20250806T080000
DTEND;TZID=America/New_York:20250806T150000
DTSTAMP:20260423T032529
CREATED:20250402T165138Z
LAST-MODIFIED:20250806T184607Z
UID:111893-1754467200-1754492400@events.bridgeport.edu
SUMMARY:KEYS: Kids Empowered by Your Support - Music Program
DESCRIPTION:
URL:https://events.bridgeport.edu/event/keys-kids-empowered-by-your-support-music-program-62/
LOCATION:JCSC 101-107 Campus: Main Campus\, 244 University Avenue\, Bridgeport\, CT\, 06604\, United States
CATEGORIES:Community
END:VEVENT
BEGIN:VEVENT
DTSTART;TZID=America/New_York:20250806T080000
DTEND;TZID=America/New_York:20250806T150000
DTSTAMP:20260423T032529
CREATED:20250402T165138Z
LAST-MODIFIED:20250806T184606Z
UID:111894-1754467200-1754492400@events.bridgeport.edu
SUMMARY:KEYS: Kids Empowered by Your Support - Music Program
DESCRIPTION:
URL:https://events.bridgeport.edu/event/keys-kids-empowered-by-your-support-music-program-63/
LOCATION:JCSC 213-215 Campus: Main Campus\, 244 University Avenue\, Bridgeport\, CT\, 06604\, United States
CATEGORIES:Community
END:VEVENT
BEGIN:VEVENT
DTSTART;TZID=America/New_York:20250806T080000
DTEND;TZID=America/New_York:20250806T150000
DTSTAMP:20260423T032529
CREATED:20250402T165152Z
LAST-MODIFIED:20250806T184606Z
UID:111896-1754467200-1754492400@events.bridgeport.edu
SUMMARY:KEYS: Kids Empowered by Your Support - Music Program
DESCRIPTION:
URL:https://events.bridgeport.edu/event/keys-kids-empowered-by-your-support-music-program-65/
LOCATION:JCSC 205 Campus: Main Campus\, 244 University Avenue\, Bridgeport\, CT\, 06604\, United States
CATEGORIES:Community
END:VEVENT
BEGIN:VEVENT
DTSTART;TZID=America/New_York:20250807T080000
DTEND;TZID=America/New_York:20250807T150000
DTSTAMP:20260423T032529
CREATED:20250402T165152Z
LAST-MODIFIED:20250807T181607Z
UID:111901-1754553600-1754578800@events.bridgeport.edu
SUMMARY:KEYS: Kids Empowered by Your Support - Music Program
DESCRIPTION:
URL:https://events.bridgeport.edu/event/keys-kids-empowered-by-your-support-music-program-70/
LOCATION:JCSC 213-215 Campus: Main Campus\, 244 University Avenue\, Bridgeport\, CT\, 06604\, United States
CATEGORIES:Community
END:VEVENT
BEGIN:VEVENT
DTSTART;TZID=America/New_York:20250807T080000
DTEND;TZID=America/New_York:20250807T150000
DTSTAMP:20260423T032529
CREATED:20250402T165152Z
LAST-MODIFIED:20250807T181607Z
UID:111897-1754553600-1754578800@events.bridgeport.edu
SUMMARY:KEYS: Kids Empowered by Your Support - Music Program
DESCRIPTION:
URL:https://events.bridgeport.edu/event/keys-kids-empowered-by-your-support-music-program-66/
LOCATION:JCSC 205 Campus: Main Campus\, 244 University Avenue\, Bridgeport\, CT\, 06604\, United States
CATEGORIES:Community
END:VEVENT
BEGIN:VEVENT
DTSTART;TZID=America/New_York:20250807T080000
DTEND;TZID=America/New_York:20250807T150000
DTSTAMP:20260423T032529
CREATED:20250402T165152Z
LAST-MODIFIED:20250807T181607Z
UID:111898-1754553600-1754578800@events.bridgeport.edu
SUMMARY:KEYS: Kids Empowered by Your Support - Music Program
DESCRIPTION:
URL:https://events.bridgeport.edu/event/keys-kids-empowered-by-your-support-music-program-67/
LOCATION:JCSC 101-107 Campus: Main Campus\, 244 University Avenue\, Bridgeport\, CT\, 06604\, United States
CATEGORIES:Community
END:VEVENT
BEGIN:VEVENT
DTSTART;TZID=America/New_York:20250807T080000
DTEND;TZID=America/New_York:20250807T150000
DTSTAMP:20260423T032529
CREATED:20250402T165152Z
LAST-MODIFIED:20250807T181607Z
UID:111899-1754553600-1754578800@events.bridgeport.edu
SUMMARY:KEYS: Kids Empowered by Your Support - Music Program
DESCRIPTION:
URL:https://events.bridgeport.edu/event/keys-kids-empowered-by-your-support-music-program-68/
LOCATION:JCSC Knight S7 Campus: Main Campus
CATEGORIES:Community
END:VEVENT
BEGIN:VEVENT
DTSTART;TZID=America/New_York:20250807T080000
DTEND;TZID=America/New_York:20250807T150000
DTSTAMP:20260423T032529
CREATED:20250402T165152Z
LAST-MODIFIED:20250807T181607Z
UID:111900-1754553600-1754578800@events.bridgeport.edu
SUMMARY:KEYS: Kids Empowered by Your Support - Music Program
DESCRIPTION:
URL:https://events.bridgeport.edu/event/keys-kids-empowered-by-your-support-music-program-69/
LOCATION:JCSC 207-209 Campus: Main Campus\, 244 University Avenue\, Bridgeport\, CT\, 06604\, United States
CATEGORIES:Community
END:VEVENT
BEGIN:VEVENT
DTSTART;TZID=America/New_York:20250808T080000
DTEND;TZID=America/New_York:20250808T150000
DTSTAMP:20260423T032529
CREATED:20250402T165152Z
LAST-MODIFIED:20250808T174607Z
UID:111902-1754640000-1754665200@events.bridgeport.edu
SUMMARY:KEYS: Kids Empowered by Your Support - Music Program
DESCRIPTION:
URL:https://events.bridgeport.edu/event/keys-kids-empowered-by-your-support-music-program-71/
LOCATION:JCSC 205 Campus: Main Campus\, 244 University Avenue\, Bridgeport\, CT\, 06604\, United States
CATEGORIES:Community
END:VEVENT
BEGIN:VEVENT
DTSTART;TZID=America/New_York:20250808T080000
DTEND;TZID=America/New_York:20250808T150000
DTSTAMP:20260423T032529
CREATED:20250402T165152Z
LAST-MODIFIED:20250808T174607Z
UID:111903-1754640000-1754665200@events.bridgeport.edu
SUMMARY:KEYS: Kids Empowered by Your Support - Music Program
DESCRIPTION:
URL:https://events.bridgeport.edu/event/keys-kids-empowered-by-your-support-music-program-72/
LOCATION:JCSC 207-209 Campus: Main Campus\, 244 University Avenue\, Bridgeport\, CT\, 06604\, United States
CATEGORIES:Community
END:VEVENT
END:VCALENDAR