

BEGIN:VCALENDAR
VERSION:2.0
PRODID:-//Campus Events - ECPv6.15.20//NONSGML v1.0//EN
CALSCALE:GREGORIAN
METHOD:PUBLISH
X-WR-CALNAME:Campus Events
X-ORIGINAL-URL:https://events.bridgeport.edu
X-WR-CALDESC:Events for Campus Events
REFRESH-INTERVAL;VALUE=DURATION:PT1H
X-Robots-Tag:noindex
X-PUBLISHED-TTL:PT1H
BEGIN:VTIMEZONE
TZID:America/New_York
BEGIN:DAYLIGHT
TZOFFSETFROM:-0500
TZOFFSETTO:-0400
TZNAME:EDT
DTSTART:20240310T070000
END:DAYLIGHT
BEGIN:STANDARD
TZOFFSETFROM:-0400
TZOFFSETTO:-0500
TZNAME:EST
DTSTART:20241103T060000
END:STANDARD
BEGIN:DAYLIGHT
TZOFFSETFROM:-0500
TZOFFSETTO:-0400
TZNAME:EDT
DTSTART:20250309T070000
END:DAYLIGHT
BEGIN:STANDARD
TZOFFSETFROM:-0400
TZOFFSETTO:-0500
TZNAME:EST
DTSTART:20251102T060000
END:STANDARD
BEGIN:DAYLIGHT
TZOFFSETFROM:-0500
TZOFFSETTO:-0400
TZNAME:EDT
DTSTART:20260308T070000
END:DAYLIGHT
BEGIN:STANDARD
TZOFFSETFROM:-0400
TZOFFSETTO:-0500
TZNAME:EST
DTSTART:20261101T060000
END:STANDARD
END:VTIMEZONE
BEGIN:VEVENT
DTSTART;TZID=America/New_York:20250619T093000
DTEND;TZID=America/New_York:20250619T110000
DTSTAMP:20260423T013810
CREATED:20240912T173645Z
LAST-MODIFIED:20250618T171608Z
UID:89384-1750325400-1750330800@events.bridgeport.edu
SUMMARY:Fairfield Schools
DESCRIPTION:
URL:https://events.bridgeport.edu/event/fairfield-schools-126/
LOCATION:MAN MAN 9 Campus: Main Campus
CATEGORIES:Community
END:VEVENT
BEGIN:VEVENT
DTSTART;TZID=America/New_York:20250620T093000
DTEND;TZID=America/New_York:20250620T110000
DTSTAMP:20260423T013810
CREATED:20240912T173645Z
LAST-MODIFIED:20250620T141611Z
UID:89385-1750411800-1750417200@events.bridgeport.edu
SUMMARY:Fairfield Schools
DESCRIPTION:
URL:https://events.bridgeport.edu/event/fairfield-schools-127/
LOCATION:MAN MAN 9 Campus: Main Campus
CATEGORIES:Community
END:VEVENT
BEGIN:VEVENT
DTSTART;TZID=America/New_York:20250621T083000
DTEND;TZID=America/New_York:20250621T133000
DTSTAMP:20260423T013810
CREATED:20241220T125422Z
LAST-MODIFIED:20250621T164610Z
UID:100742-1750494600-1750512600@events.bridgeport.edu
SUMMARY:32BJ Training Program
DESCRIPTION:
URL:https://events.bridgeport.edu/event/32bj-training-program-27/
LOCATION:MAN 303 Campus: Main Campus\, 230 Park Avenue\, Bridgeport\, CT\, 06604\, United States
CATEGORIES:Community
END:VEVENT
BEGIN:VEVENT
DTSTART;TZID=America/New_York:20250621T083000
DTEND;TZID=America/New_York:20250621T133000
DTSTAMP:20260423T013810
CREATED:20241220T125422Z
LAST-MODIFIED:20250621T164610Z
UID:100743-1750494600-1750512600@events.bridgeport.edu
SUMMARY:32BJ Training Program
DESCRIPTION:
URL:https://events.bridgeport.edu/event/32bj-training-program-28/
LOCATION:MAN 216 Campus: Main Campus\, 230 Park Avenue\, Bridgeport\, CT\, 06604\, United States
CATEGORIES:Community
END:VEVENT
BEGIN:VEVENT
DTSTART;TZID=America/New_York:20250622T140000
DTEND;TZID=America/New_York:20250622T180000
DTSTAMP:20260423T013810
CREATED:20250402T165023Z
LAST-MODIFIED:20250622T204608Z
UID:111828-1750600800-1750615200@events.bridgeport.edu
SUMMARY:Rising Starz Dance Recital
DESCRIPTION:
URL:https://events.bridgeport.edu/event/rising-starz-dance-recital/
LOCATION:ABC 118 Campus: Main Campus\, 84 Iranistan Avenue\, Bridgeport\, CT\, 06604\, United States
CATEGORIES:Community
END:VEVENT
BEGIN:VEVENT
DTSTART;TZID=America/New_York:20250627T180000
DTEND;TZID=America/New_York:20250627T200000
DTSTAMP:20260423T013810
CREATED:20250123T000907Z
LAST-MODIFIED:20250124T175312Z
UID:104354-1751047200-1751054400@events.bridgeport.edu
SUMMARY:ARV-RYSAP Community Conversations
DESCRIPTION:
URL:https://events.bridgeport.edu/event/arv-rysap-community-conversations-6/
LOCATION:WAHL HC Main Area  Campus: Main Campus
CATEGORIES:Community
END:VEVENT
BEGIN:VEVENT
DTSTART;TZID=America/New_York:20250627T180000
DTEND;TZID=America/New_York:20250627T200000
DTSTAMP:20260423T013810
CREATED:20250124T190848Z
LAST-MODIFIED:20250627T191607Z
UID:104584-1751047200-1751054400@events.bridgeport.edu
SUMMARY:ARV-Catalyst CT: Community Conversations
DESCRIPTION:
URL:https://events.bridgeport.edu/event/arv-catalyst-ct-community-conversations-6/
LOCATION:WAHL HC Main Area  Campus: Main Campus
CATEGORIES:Community
END:VEVENT
BEGIN:VEVENT
DTSTART;TZID=America/New_York:20250710T180000
DTEND;TZID=America/New_York:20250710T210000
DTSTAMP:20260423T013810
CREATED:20250402T165023Z
LAST-MODIFIED:20250711T004607Z
UID:111829-1752170400-1752181200@events.bridgeport.edu
SUMMARY:South End NRZ monthly meeting
DESCRIPTION:
URL:https://events.bridgeport.edu/event/south-end-nrz-monthly-meeting-8/
LOCATION:BAUH 111 Campus: Main Campus\, 82 Marina Park Street\, Bridgeport\, CT\, 06604\, United States
CATEGORIES:Community
END:VEVENT
BEGIN:VEVENT
DTSTART;TZID=America/New_York:20250721T080000
DTEND;TZID=America/New_York:20250721T150000
DTSTAMP:20260423T013810
CREATED:20250402T165023Z
LAST-MODIFIED:20250721T174607Z
UID:111830-1753084800-1753110000@events.bridgeport.edu
SUMMARY:KEYS: Kids Empowered by Your Support - Music Program
DESCRIPTION:
URL:https://events.bridgeport.edu/event/keys-kids-empowered-by-your-support-music-program/
LOCATION:JCSC 205 Campus: Main Campus\, 244 University Avenue\, Bridgeport\, CT\, 06604\, United States
CATEGORIES:Community
END:VEVENT
BEGIN:VEVENT
DTSTART;TZID=America/New_York:20250721T080000
DTEND;TZID=America/New_York:20250721T150000
DTSTAMP:20260423T013810
CREATED:20250402T165023Z
LAST-MODIFIED:20250721T174607Z
UID:111831-1753084800-1753110000@events.bridgeport.edu
SUMMARY:KEYS: Kids Empowered by Your Support - Music Program
DESCRIPTION:
URL:https://events.bridgeport.edu/event/keys-kids-empowered-by-your-support-music-program-2/
LOCATION:JCSC 101-107 Campus: Main Campus\, 244 University Avenue\, Bridgeport\, CT\, 06604\, United States
CATEGORIES:Community
END:VEVENT
BEGIN:VEVENT
DTSTART;TZID=America/New_York:20250721T080000
DTEND;TZID=America/New_York:20250721T150000
DTSTAMP:20260423T013810
CREATED:20250402T165023Z
LAST-MODIFIED:20250721T174607Z
UID:111832-1753084800-1753110000@events.bridgeport.edu
SUMMARY:KEYS: Kids Empowered by Your Support - Music Program
DESCRIPTION:
URL:https://events.bridgeport.edu/event/keys-kids-empowered-by-your-support-music-program-3/
LOCATION:JCSC 213-215 Campus: Main Campus\, 244 University Avenue\, Bridgeport\, CT\, 06604\, United States
CATEGORIES:Community
END:VEVENT
BEGIN:VEVENT
DTSTART;TZID=America/New_York:20250721T080000
DTEND;TZID=America/New_York:20250721T150000
DTSTAMP:20260423T013810
CREATED:20250402T165023Z
LAST-MODIFIED:20250721T174607Z
UID:111833-1753084800-1753110000@events.bridgeport.edu
SUMMARY:KEYS: Kids Empowered by Your Support - Music Program
DESCRIPTION:
URL:https://events.bridgeport.edu/event/keys-kids-empowered-by-your-support-music-program-4/
LOCATION:JCSC Knight S7 Campus: Main Campus
CATEGORIES:Community
END:VEVENT
BEGIN:VEVENT
DTSTART;TZID=America/New_York:20250721T080000
DTEND;TZID=America/New_York:20250721T150000
DTSTAMP:20260423T013810
CREATED:20250402T165023Z
LAST-MODIFIED:20250721T174607Z
UID:111834-1753084800-1753110000@events.bridgeport.edu
SUMMARY:KEYS: Kids Empowered by Your Support - Music Program
DESCRIPTION:
URL:https://events.bridgeport.edu/event/keys-kids-empowered-by-your-support-music-program-5/
LOCATION:JCSC 207-209 Campus: Main Campus\, 244 University Avenue\, Bridgeport\, CT\, 06604\, United States
CATEGORIES:Community
END:VEVENT
BEGIN:VEVENT
DTSTART;TZID=America/New_York:20250722T080000
DTEND;TZID=America/New_York:20250722T150000
DTSTAMP:20260423T013810
CREATED:20250402T165023Z
LAST-MODIFIED:20250722T184607Z
UID:111835-1753171200-1753196400@events.bridgeport.edu
SUMMARY:KEYS: Kids Empowered by Your Support - Music Program
DESCRIPTION:
URL:https://events.bridgeport.edu/event/keys-kids-empowered-by-your-support-music-program-6/
LOCATION:JCSC Knight S7 Campus: Main Campus
CATEGORIES:Community
END:VEVENT
BEGIN:VEVENT
DTSTART;TZID=America/New_York:20250722T080000
DTEND;TZID=America/New_York:20250722T150000
DTSTAMP:20260423T013810
CREATED:20250402T165036Z
LAST-MODIFIED:20250722T184607Z
UID:111836-1753171200-1753196400@events.bridgeport.edu
SUMMARY:KEYS: Kids Empowered by Your Support - Music Program
DESCRIPTION:
URL:https://events.bridgeport.edu/event/keys-kids-empowered-by-your-support-music-program-7/
LOCATION:JCSC 205 Campus: Main Campus\, 244 University Avenue\, Bridgeport\, CT\, 06604\, United States
CATEGORIES:Community
END:VEVENT
BEGIN:VEVENT
DTSTART;TZID=America/New_York:20250722T080000
DTEND;TZID=America/New_York:20250722T150000
DTSTAMP:20260423T013810
CREATED:20250402T165036Z
LAST-MODIFIED:20250722T184607Z
UID:111837-1753171200-1753196400@events.bridgeport.edu
SUMMARY:KEYS: Kids Empowered by Your Support - Music Program
DESCRIPTION:
URL:https://events.bridgeport.edu/event/keys-kids-empowered-by-your-support-music-program-8/
LOCATION:JCSC 207-209 Campus: Main Campus\, 244 University Avenue\, Bridgeport\, CT\, 06604\, United States
CATEGORIES:Community
END:VEVENT
BEGIN:VEVENT
DTSTART;TZID=America/New_York:20250722T080000
DTEND;TZID=America/New_York:20250722T150000
DTSTAMP:20260423T013810
CREATED:20250402T165036Z
LAST-MODIFIED:20250722T184607Z
UID:111838-1753171200-1753196400@events.bridgeport.edu
SUMMARY:KEYS: Kids Empowered by Your Support - Music Program
DESCRIPTION:
URL:https://events.bridgeport.edu/event/keys-kids-empowered-by-your-support-music-program-9/
LOCATION:JCSC 101-107 Campus: Main Campus\, 244 University Avenue\, Bridgeport\, CT\, 06604\, United States
CATEGORIES:Community
END:VEVENT
BEGIN:VEVENT
DTSTART;TZID=America/New_York:20250722T080000
DTEND;TZID=America/New_York:20250722T150000
DTSTAMP:20260423T013810
CREATED:20250402T165036Z
LAST-MODIFIED:20250722T184607Z
UID:111839-1753171200-1753196400@events.bridgeport.edu
SUMMARY:KEYS: Kids Empowered by Your Support - Music Program
DESCRIPTION:
URL:https://events.bridgeport.edu/event/keys-kids-empowered-by-your-support-music-program-10/
LOCATION:JCSC 213-215 Campus: Main Campus\, 244 University Avenue\, Bridgeport\, CT\, 06604\, United States
CATEGORIES:Community
END:VEVENT
BEGIN:VEVENT
DTSTART;TZID=America/New_York:20250723T080000
DTEND;TZID=America/New_York:20250723T150000
DTSTAMP:20260423T013810
CREATED:20250402T165036Z
LAST-MODIFIED:20250723T181607Z
UID:111840-1753257600-1753282800@events.bridgeport.edu
SUMMARY:KEYS: Kids Empowered by Your Support - Music Program
DESCRIPTION:
URL:https://events.bridgeport.edu/event/keys-kids-empowered-by-your-support-music-program-11/
LOCATION:JCSC 101-107 Campus: Main Campus\, 244 University Avenue\, Bridgeport\, CT\, 06604\, United States
CATEGORIES:Community
END:VEVENT
BEGIN:VEVENT
DTSTART;TZID=America/New_York:20250723T080000
DTEND;TZID=America/New_York:20250723T150000
DTSTAMP:20260423T013810
CREATED:20250402T165036Z
LAST-MODIFIED:20250723T181607Z
UID:111841-1753257600-1753282800@events.bridgeport.edu
SUMMARY:KEYS: Kids Empowered by Your Support - Music Program
DESCRIPTION:
URL:https://events.bridgeport.edu/event/keys-kids-empowered-by-your-support-music-program-12/
LOCATION:JCSC 213-215 Campus: Main Campus\, 244 University Avenue\, Bridgeport\, CT\, 06604\, United States
CATEGORIES:Community
END:VEVENT
BEGIN:VEVENT
DTSTART;TZID=America/New_York:20250723T080000
DTEND;TZID=America/New_York:20250723T150000
DTSTAMP:20260423T013810
CREATED:20250402T165036Z
LAST-MODIFIED:20250723T181607Z
UID:111842-1753257600-1753282800@events.bridgeport.edu
SUMMARY:KEYS: Kids Empowered by Your Support - Music Program
DESCRIPTION:
URL:https://events.bridgeport.edu/event/keys-kids-empowered-by-your-support-music-program-13/
LOCATION:JCSC 205 Campus: Main Campus\, 244 University Avenue\, Bridgeport\, CT\, 06604\, United States
CATEGORIES:Community
END:VEVENT
BEGIN:VEVENT
DTSTART;TZID=America/New_York:20250723T080000
DTEND;TZID=America/New_York:20250723T150000
DTSTAMP:20260423T013810
CREATED:20250402T165036Z
LAST-MODIFIED:20250723T181607Z
UID:111843-1753257600-1753282800@events.bridgeport.edu
SUMMARY:KEYS: Kids Empowered by Your Support - Music Program
DESCRIPTION:
URL:https://events.bridgeport.edu/event/keys-kids-empowered-by-your-support-music-program-14/
LOCATION:JCSC Knight S7 Campus: Main Campus
CATEGORIES:Community
END:VEVENT
BEGIN:VEVENT
DTSTART;TZID=America/New_York:20250723T080000
DTEND;TZID=America/New_York:20250723T150000
DTSTAMP:20260423T013810
CREATED:20250402T165036Z
LAST-MODIFIED:20250723T181607Z
UID:111844-1753257600-1753282800@events.bridgeport.edu
SUMMARY:KEYS: Kids Empowered by Your Support - Music Program
DESCRIPTION:
URL:https://events.bridgeport.edu/event/keys-kids-empowered-by-your-support-music-program-15/
LOCATION:JCSC 207-209 Campus: Main Campus\, 244 University Avenue\, Bridgeport\, CT\, 06604\, United States
CATEGORIES:Community
END:VEVENT
BEGIN:VEVENT
DTSTART;TZID=America/New_York:20250724T080000
DTEND;TZID=America/New_York:20250724T150000
DTSTAMP:20260423T013810
CREATED:20250402T165049Z
LAST-MODIFIED:20250724T174606Z
UID:111845-1753344000-1753369200@events.bridgeport.edu
SUMMARY:KEYS: Kids Empowered by Your Support - Music Program
DESCRIPTION:
URL:https://events.bridgeport.edu/event/keys-kids-empowered-by-your-support-music-program-16/
LOCATION:JCSC 101-107 Campus: Main Campus\, 244 University Avenue\, Bridgeport\, CT\, 06604\, United States
CATEGORIES:Community
END:VEVENT
BEGIN:VEVENT
DTSTART;TZID=America/New_York:20250724T080000
DTEND;TZID=America/New_York:20250724T150000
DTSTAMP:20260423T013810
CREATED:20250402T165049Z
LAST-MODIFIED:20250724T174606Z
UID:111846-1753344000-1753369200@events.bridgeport.edu
SUMMARY:KEYS: Kids Empowered by Your Support - Music Program
DESCRIPTION:
URL:https://events.bridgeport.edu/event/keys-kids-empowered-by-your-support-music-program-17/
LOCATION:JCSC 207-209 Campus: Main Campus\, 244 University Avenue\, Bridgeport\, CT\, 06604\, United States
CATEGORIES:Community
END:VEVENT
BEGIN:VEVENT
DTSTART;TZID=America/New_York:20250724T080000
DTEND;TZID=America/New_York:20250724T150000
DTSTAMP:20260423T013810
CREATED:20250402T165049Z
LAST-MODIFIED:20250724T174606Z
UID:111847-1753344000-1753369200@events.bridgeport.edu
SUMMARY:KEYS: Kids Empowered by Your Support - Music Program
DESCRIPTION:
URL:https://events.bridgeport.edu/event/keys-kids-empowered-by-your-support-music-program-18/
LOCATION:JCSC 205 Campus: Main Campus\, 244 University Avenue\, Bridgeport\, CT\, 06604\, United States
CATEGORIES:Community
END:VEVENT
BEGIN:VEVENT
DTSTART;TZID=America/New_York:20250724T080000
DTEND;TZID=America/New_York:20250724T150000
DTSTAMP:20260423T013810
CREATED:20250402T165049Z
LAST-MODIFIED:20250724T174606Z
UID:111848-1753344000-1753369200@events.bridgeport.edu
SUMMARY:KEYS: Kids Empowered by Your Support - Music Program
DESCRIPTION:
URL:https://events.bridgeport.edu/event/keys-kids-empowered-by-your-support-music-program-19/
LOCATION:JCSC Knight S7 Campus: Main Campus
CATEGORIES:Community
END:VEVENT
BEGIN:VEVENT
DTSTART;TZID=America/New_York:20250724T080000
DTEND;TZID=America/New_York:20250724T150000
DTSTAMP:20260423T013810
CREATED:20250402T165049Z
LAST-MODIFIED:20250724T174606Z
UID:111849-1753344000-1753369200@events.bridgeport.edu
SUMMARY:KEYS: Kids Empowered by Your Support - Music Program
DESCRIPTION:
URL:https://events.bridgeport.edu/event/keys-kids-empowered-by-your-support-music-program-20/
LOCATION:JCSC 213-215 Campus: Main Campus\, 244 University Avenue\, Bridgeport\, CT\, 06604\, United States
CATEGORIES:Community
END:VEVENT
BEGIN:VEVENT
DTSTART;TZID=America/New_York:20250724T080000
DTEND;TZID=America/New_York:20250724T160000
DTSTAMP:20260423T013810
CREATED:20250206T000740Z
LAST-MODIFIED:20250724T191607Z
UID:105908-1753344000-1753372800@events.bridgeport.edu
SUMMARY:Police Training
DESCRIPTION:
URL:https://events.bridgeport.edu/event/police-training/
LOCATION:JCSC KNIGHT S1 – Social Room Campus: Main Campus
CATEGORIES:Community
END:VEVENT
BEGIN:VEVENT
DTSTART;TZID=America/New_York:20250725T080000
DTEND;TZID=America/New_York:20250725T150000
DTSTAMP:20260423T013810
CREATED:20250402T165049Z
LAST-MODIFIED:20250725T174607Z
UID:111851-1753430400-1753455600@events.bridgeport.edu
SUMMARY:KEYS: Kids Empowered by Your Support - Music Program
DESCRIPTION:
URL:https://events.bridgeport.edu/event/keys-kids-empowered-by-your-support-music-program-22/
LOCATION:JCSC 205 Campus: Main Campus\, 244 University Avenue\, Bridgeport\, CT\, 06604\, United States
CATEGORIES:Community
END:VEVENT
END:VCALENDAR