

BEGIN:VCALENDAR
VERSION:2.0
PRODID:-//Campus Events - ECPv6.15.20//NONSGML v1.0//EN
CALSCALE:GREGORIAN
METHOD:PUBLISH
X-WR-CALNAME:Campus Events
X-ORIGINAL-URL:https://events.bridgeport.edu
X-WR-CALDESC:Events for Campus Events
REFRESH-INTERVAL;VALUE=DURATION:PT1H
X-Robots-Tag:noindex
X-PUBLISHED-TTL:PT1H
BEGIN:VTIMEZONE
TZID:America/New_York
BEGIN:DAYLIGHT
TZOFFSETFROM:-0500
TZOFFSETTO:-0400
TZNAME:EDT
DTSTART:20240310T070000
END:DAYLIGHT
BEGIN:STANDARD
TZOFFSETFROM:-0400
TZOFFSETTO:-0500
TZNAME:EST
DTSTART:20241103T060000
END:STANDARD
BEGIN:DAYLIGHT
TZOFFSETFROM:-0500
TZOFFSETTO:-0400
TZNAME:EDT
DTSTART:20250309T070000
END:DAYLIGHT
BEGIN:STANDARD
TZOFFSETFROM:-0400
TZOFFSETTO:-0500
TZNAME:EST
DTSTART:20251102T060000
END:STANDARD
BEGIN:DAYLIGHT
TZOFFSETFROM:-0500
TZOFFSETTO:-0400
TZNAME:EDT
DTSTART:20260308T070000
END:DAYLIGHT
BEGIN:STANDARD
TZOFFSETFROM:-0400
TZOFFSETTO:-0500
TZNAME:EST
DTSTART:20261101T060000
END:STANDARD
END:VTIMEZONE
BEGIN:VEVENT
DTSTART;TZID=America/New_York:20250215T080000
DTEND;TZID=America/New_York:20250215T140000
DTSTAMP:20260423T075139
CREATED:20241003T040944Z
LAST-MODIFIED:20250215T180248Z
UID:92208-1739606400-1739628000@events.bridgeport.edu
SUMMARY:BCYL
DESCRIPTION:
URL:https://events.bridgeport.edu/event/bcyl-59/
LOCATION:MAN 316 Campus: Main Campus\, 230 Park Avenue\, Bridgeport\, CT\, 06604\, United States
CATEGORIES:Community
END:VEVENT
BEGIN:VEVENT
DTSTART;TZID=America/New_York:20250215T080000
DTEND;TZID=America/New_York:20250215T140000
DTSTAMP:20260423T075139
CREATED:20241003T040944Z
LAST-MODIFIED:20250215T180248Z
UID:92209-1739606400-1739628000@events.bridgeport.edu
SUMMARY:BCYL
DESCRIPTION:
URL:https://events.bridgeport.edu/event/bcyl-60/
LOCATION:MAN 311 Campus: Main Campus\, 230 Park Avenue\, Bridgeport\, CT\, 06604\, United States
CATEGORIES:Community
END:VEVENT
BEGIN:VEVENT
DTSTART;TZID=America/New_York:20250215T080000
DTEND;TZID=America/New_York:20250215T140000
DTSTAMP:20260423T075139
CREATED:20241003T040944Z
LAST-MODIFIED:20250215T180300Z
UID:92206-1739606400-1739628000@events.bridgeport.edu
SUMMARY:BCYL
DESCRIPTION:
URL:https://events.bridgeport.edu/event/bcyl-57/
LOCATION:MAN 321 Campus: Main Campus\, 230 Park Avenue\, Bridgeport\, CT\, 06604\, United States
CATEGORIES:Community
END:VEVENT
BEGIN:VEVENT
DTSTART;TZID=America/New_York:20250215T080000
DTEND;TZID=America/New_York:20250215T140000
DTSTAMP:20260423T075139
CREATED:20241003T040944Z
LAST-MODIFIED:20250215T180249Z
UID:92207-1739606400-1739628000@events.bridgeport.edu
SUMMARY:BCYL
DESCRIPTION:
URL:https://events.bridgeport.edu/event/bcyl-58/
LOCATION:MAN 322 Campus: Main Campus\, 230 Park Avenue\, Bridgeport\, CT\, 06604\, United States
CATEGORIES:Community
END:VEVENT
BEGIN:VEVENT
DTSTART;TZID=America/New_York:20250215T080000
DTEND;TZID=America/New_York:20250215T140000
DTSTAMP:20260423T075139
CREATED:20241003T040945Z
LAST-MODIFIED:20250215T180248Z
UID:92210-1739606400-1739628000@events.bridgeport.edu
SUMMARY:BCYL
DESCRIPTION:
URL:https://events.bridgeport.edu/event/bcyl-61/
LOCATION:MAN 323 Campus: Main Campus\, 230 Park Avenue\, Bridgeport\, CT\, 06604\, United States
CATEGORIES:Community
END:VEVENT
BEGIN:VEVENT
DTSTART;TZID=America/New_York:20250215T080000
DTEND;TZID=America/New_York:20250215T140000
DTSTAMP:20260423T075139
CREATED:20241003T040945Z
LAST-MODIFIED:20250111T090444Z
UID:92211-1739606400-1739628000@events.bridgeport.edu
SUMMARY:BCYL
DESCRIPTION:
URL:https://events.bridgeport.edu/event/bcyl-62/
LOCATION:MAN 319 Campus: Main Campus\, 230 Park Avenue\, Bridgeport\, CT\, 06604\, United States
CATEGORIES:Community
END:VEVENT
BEGIN:VEVENT
DTSTART;TZID=America/New_York:20250215T080000
DTEND;TZID=America/New_York:20250215T140000
DTSTAMP:20260423T075139
CREATED:20241003T040945Z
LAST-MODIFIED:20250215T180248Z
UID:92212-1739606400-1739628000@events.bridgeport.edu
SUMMARY:BCYL
DESCRIPTION:
URL:https://events.bridgeport.edu/event/bcyl-63/
LOCATION:MAN 318 Campus: Main Campus\, 230 Park Avenue\, Bridgeport\, CT\, 06604\, United States
CATEGORIES:Community
END:VEVENT
BEGIN:VEVENT
DTSTART;TZID=America/New_York:20250215T080000
DTEND;TZID=America/New_York:20250215T140000
DTSTAMP:20260423T075139
CREATED:20241003T040957Z
LAST-MODIFIED:20250215T180300Z
UID:92213-1739606400-1739628000@events.bridgeport.edu
SUMMARY:BCYL
DESCRIPTION:
URL:https://events.bridgeport.edu/event/bcyl-64/
LOCATION:MAN 320 Campus: Main Campus\, 230 Park Avenue\, Bridgeport\, CT\, 06604\, United States
CATEGORIES:Community
END:VEVENT
BEGIN:VEVENT
DTSTART;TZID=America/New_York:20250215T080000
DTEND;TZID=America/New_York:20250215T140000
DTSTAMP:20260423T075140
CREATED:20250111T101944Z
LAST-MODIFIED:20250215T180248Z
UID:103098-1739606400-1739628000@events.bridgeport.edu
SUMMARY:BCYL
DESCRIPTION:
URL:https://events.bridgeport.edu/event/bcyl-87/
LOCATION:MAN 222 Campus: Main Campus\, 230 Park Avenue\, Bridgeport\, CT\, 06604\, United States
CATEGORIES:Community
END:VEVENT
BEGIN:VEVENT
DTSTART;TZID=America/New_York:20250215T080000
DTEND;TZID=America/New_York:20250215T140000
DTSTAMP:20260423T075140
CREATED:20250111T101944Z
LAST-MODIFIED:20250215T180248Z
UID:103099-1739606400-1739628000@events.bridgeport.edu
SUMMARY:BCYL
DESCRIPTION:
URL:https://events.bridgeport.edu/event/bcyl-88/
LOCATION:MAN 223 Campus: Main Campus\, 230 Park Avenue\, Bridgeport\, CT\, 06604\, United States
CATEGORIES:Community
END:VEVENT
BEGIN:VEVENT
DTSTART;TZID=America/New_York:20250215T080000
DTEND;TZID=America/New_York:20250215T140000
DTSTAMP:20260423T075140
CREATED:20250207T204828Z
LAST-MODIFIED:20250215T180248Z
UID:106116-1739606400-1739628000@events.bridgeport.edu
SUMMARY:BCYL
DESCRIPTION:
URL:https://events.bridgeport.edu/event/bcyl-100/
LOCATION:MAN 220 Campus: Main Campus\, 230 Park Avenue\, Bridgeport\, CT\, 06604\, United States
CATEGORIES:Community
END:VEVENT
BEGIN:VEVENT
DTSTART;TZID=America/New_York:20250215T083000
DTEND;TZID=America/New_York:20250215T133000
DTSTAMP:20260423T075140
CREATED:20241220T125027Z
LAST-MODIFIED:20250215T180248Z
UID:100720-1739608200-1739626200@events.bridgeport.edu
SUMMARY:32BJ Training Program
DESCRIPTION:
URL:https://events.bridgeport.edu/event/32bj-training-program-5/
LOCATION:MAN 303 Campus: Main Campus\, 230 Park Avenue\, Bridgeport\, CT\, 06604\, United States
CATEGORIES:Community
END:VEVENT
BEGIN:VEVENT
DTSTART;TZID=America/New_York:20250215T083000
DTEND;TZID=America/New_York:20250215T133000
DTSTAMP:20260423T075140
CREATED:20241220T125039Z
LAST-MODIFIED:20250215T180248Z
UID:100721-1739608200-1739626200@events.bridgeport.edu
SUMMARY:32BJ Training Program
DESCRIPTION:
URL:https://events.bridgeport.edu/event/32bj-training-program-6/
LOCATION:MAN 216 Campus: Main Campus\, 230 Park Avenue\, Bridgeport\, CT\, 06604\, United States
CATEGORIES:Community
END:VEVENT
BEGIN:VEVENT
DTSTART;TZID=America/New_York:20250217T080000
DTEND;TZID=America/New_York:20250217T160000
DTSTAMP:20260423T075140
CREATED:20241106T000700Z
LAST-MODIFIED:20250217T154752Z
UID:95900-1739779200-1739808000@events.bridgeport.edu
SUMMARY:Regional In Service Police Training
DESCRIPTION:
URL:https://events.bridgeport.edu/event/regional-in-service-police-training/
LOCATION:JCSC KNIGHT S1 – Social Room Campus: Main Campus
CATEGORIES:Community
END:VEVENT
BEGIN:VEVENT
DTSTART;TZID=America/New_York:20250217T093000
DTEND;TZID=America/New_York:20250217T110000
DTSTAMP:20260423T075140
CREATED:20240912T173544Z
LAST-MODIFIED:20250217T154752Z
UID:89333-1739784600-1739790000@events.bridgeport.edu
SUMMARY:Fairfield Schools
DESCRIPTION:
URL:https://events.bridgeport.edu/event/fairfield-schools-75/
LOCATION:MAN MAN 9 Campus: Main Campus
CATEGORIES:Community
END:VEVENT
BEGIN:VEVENT
DTSTART;TZID=America/New_York:20250218T080000
DTEND;TZID=America/New_York:20250218T160000
DTSTAMP:20260423T075140
CREATED:20241106T000700Z
LAST-MODIFIED:20250217T154752Z
UID:95901-1739865600-1739894400@events.bridgeport.edu
SUMMARY:Regional In Service Police Training
DESCRIPTION:
URL:https://events.bridgeport.edu/event/regional-in-service-police-training-2/
LOCATION:JCSC KNIGHT S1 – Social Room Campus: Main Campus
CATEGORIES:Community
END:VEVENT
BEGIN:VEVENT
DTSTART;TZID=America/New_York:20250218T093000
DTEND;TZID=America/New_York:20250218T110000
DTSTAMP:20260423T075140
CREATED:20240912T173545Z
LAST-MODIFIED:20250217T154752Z
UID:89334-1739871000-1739876400@events.bridgeport.edu
SUMMARY:Fairfield Schools
DESCRIPTION:
URL:https://events.bridgeport.edu/event/fairfield-schools-76/
LOCATION:MAN MAN 9 Campus: Main Campus
CATEGORIES:Community
END:VEVENT
BEGIN:VEVENT
DTSTART;TZID=America/New_York:20250219T080000
DTEND;TZID=America/New_York:20250219T160000
DTSTAMP:20260423T075140
CREATED:20241106T000700Z
LAST-MODIFIED:20250217T154752Z
UID:95902-1739952000-1739980800@events.bridgeport.edu
SUMMARY:Regional In Service Police Training
DESCRIPTION:
URL:https://events.bridgeport.edu/event/regional-in-service-police-training-3/
LOCATION:JCSC KNIGHT S1 – Social Room Campus: Main Campus
CATEGORIES:Community
END:VEVENT
BEGIN:VEVENT
DTSTART;TZID=America/New_York:20250219T093000
DTEND;TZID=America/New_York:20250219T110000
DTSTAMP:20260423T075140
CREATED:20240912T173545Z
LAST-MODIFIED:20250217T154752Z
UID:89335-1739957400-1739962800@events.bridgeport.edu
SUMMARY:Fairfield Schools
DESCRIPTION:
URL:https://events.bridgeport.edu/event/fairfield-schools-77/
LOCATION:MAN MAN 9 Campus: Main Campus
CATEGORIES:Community
END:VEVENT
BEGIN:VEVENT
DTSTART;TZID=America/New_York:20250220T080000
DTEND;TZID=America/New_York:20250220T160000
DTSTAMP:20260423T075140
CREATED:20241106T000700Z
LAST-MODIFIED:20250217T154753Z
UID:95903-1740038400-1740067200@events.bridgeport.edu
SUMMARY:Regional In Service Police Training
DESCRIPTION:
URL:https://events.bridgeport.edu/event/regional-in-service-police-training-4/
LOCATION:JCSC KNIGHT S1 – Social Room Campus: Main Campus
CATEGORIES:Community
END:VEVENT
BEGIN:VEVENT
DTSTART;TZID=America/New_York:20250220T093000
DTEND;TZID=America/New_York:20250220T110000
DTSTAMP:20260423T075140
CREATED:20240913T000703Z
LAST-MODIFIED:20250217T154753Z
UID:89582-1740043800-1740049200@events.bridgeport.edu
SUMMARY:Fairfield Schools
DESCRIPTION:
URL:https://events.bridgeport.edu/event/fairfield-schools-158/
LOCATION:MAN MAN 9 Campus: Main Campus
CATEGORIES:Community
END:VEVENT
BEGIN:VEVENT
DTSTART;TZID=America/New_York:20250221T080000
DTEND;TZID=America/New_York:20250221T160000
DTSTAMP:20260423T075140
CREATED:20241106T000713Z
LAST-MODIFIED:20250217T154753Z
UID:95904-1740124800-1740153600@events.bridgeport.edu
SUMMARY:Regional In Service Police Training
DESCRIPTION:
URL:https://events.bridgeport.edu/event/regional-in-service-police-training-5/
LOCATION:JCSC KNIGHT S1 – Social Room Campus: Main Campus
CATEGORIES:Community
END:VEVENT
BEGIN:VEVENT
DTSTART;TZID=America/New_York:20250221T093000
DTEND;TZID=America/New_York:20250221T110000
DTSTAMP:20260423T075140
CREATED:20240912T173545Z
LAST-MODIFIED:20250217T154753Z
UID:89336-1740130200-1740135600@events.bridgeport.edu
SUMMARY:Fairfield Schools
DESCRIPTION:
URL:https://events.bridgeport.edu/event/fairfield-schools-78/
LOCATION:MAN MAN 9 Campus: Main Campus
CATEGORIES:Community
END:VEVENT
BEGIN:VEVENT
DTSTART;TZID=America/New_York:20250221T153000
DTEND;TZID=America/New_York:20250221T173000
DTSTAMP:20260423T075140
CREATED:20241114T000733Z
LAST-MODIFIED:20250217T154805Z
UID:96807-1740151800-1740159000@events.bridgeport.edu
SUMMARY:BackCountry Jazz Music Program
DESCRIPTION:
URL:https://events.bridgeport.edu/event/backcountry-jazz-music-program-37/
LOCATION:JCSC Knight S7 Campus: Main Campus
CATEGORIES:Community
END:VEVENT
BEGIN:VEVENT
DTSTART;TZID=America/New_York:20250221T153000
DTEND;TZID=America/New_York:20250221T173000
DTSTAMP:20260423T075140
CREATED:20241114T000733Z
LAST-MODIFIED:20250217T154805Z
UID:96808-1740151800-1740159000@events.bridgeport.edu
SUMMARY:BackCountry Jazz Music Program
DESCRIPTION:
URL:https://events.bridgeport.edu/event/backcountry-jazz-music-program-38/
LOCATION:JCSC 213-215 Campus: Main Campus\, 244 University Avenue\, Bridgeport\, CT\, 06604\, United States
CATEGORIES:Community
END:VEVENT
BEGIN:VEVENT
DTSTART;TZID=America/New_York:20250221T153000
DTEND;TZID=America/New_York:20250221T173000
DTSTAMP:20260423T075140
CREATED:20241114T000733Z
LAST-MODIFIED:20250217T154805Z
UID:96809-1740151800-1740159000@events.bridgeport.edu
SUMMARY:BackCountry Jazz Music Program
DESCRIPTION:
URL:https://events.bridgeport.edu/event/backcountry-jazz-music-program-39/
LOCATION:JCSC 207-209 Campus: Main Campus\, 244 University Avenue\, Bridgeport\, CT\, 06604\, United States
CATEGORIES:Community
END:VEVENT
BEGIN:VEVENT
DTSTART;TZID=America/New_York:20250222T080000
DTEND;TZID=America/New_York:20250222T140000
DTSTAMP:20260423T075140
CREATED:20241003T040958Z
LAST-MODIFIED:20250111T090509Z
UID:92214-1740211200-1740232800@events.bridgeport.edu
SUMMARY:BCYL
DESCRIPTION:
URL:https://events.bridgeport.edu/event/bcyl-65/
LOCATION:MAN 319 Campus: Main Campus\, 230 Park Avenue\, Bridgeport\, CT\, 06604\, United States
CATEGORIES:Community
END:VEVENT
BEGIN:VEVENT
DTSTART;TZID=America/New_York:20250222T080000
DTEND;TZID=America/New_York:20250222T140000
DTSTAMP:20260423T075140
CREATED:20241003T040958Z
LAST-MODIFIED:20250217T154805Z
UID:92215-1740211200-1740232800@events.bridgeport.edu
SUMMARY:BCYL
DESCRIPTION:
URL:https://events.bridgeport.edu/event/bcyl-66/
LOCATION:MAN 318 Campus: Main Campus\, 230 Park Avenue\, Bridgeport\, CT\, 06604\, United States
CATEGORIES:Community
END:VEVENT
BEGIN:VEVENT
DTSTART;TZID=America/New_York:20250222T080000
DTEND;TZID=America/New_York:20250222T140000
DTSTAMP:20260423T075140
CREATED:20241003T040959Z
LAST-MODIFIED:20250217T154805Z
UID:92216-1740211200-1740232800@events.bridgeport.edu
SUMMARY:BCYL
DESCRIPTION:
URL:https://events.bridgeport.edu/event/bcyl-67/
LOCATION:MAN 322 Campus: Main Campus\, 230 Park Avenue\, Bridgeport\, CT\, 06604\, United States
CATEGORIES:Community
END:VEVENT
BEGIN:VEVENT
DTSTART;TZID=America/New_York:20250222T080000
DTEND;TZID=America/New_York:20250222T140000
DTSTAMP:20260423T075140
CREATED:20241003T040959Z
LAST-MODIFIED:20250217T154805Z
UID:92217-1740211200-1740232800@events.bridgeport.edu
SUMMARY:BCYL
DESCRIPTION:
URL:https://events.bridgeport.edu/event/bcyl-68/
LOCATION:MAN 311 Campus: Main Campus\, 230 Park Avenue\, Bridgeport\, CT\, 06604\, United States
CATEGORIES:Community
END:VEVENT
END:VCALENDAR