

BEGIN:VCALENDAR
VERSION:2.0
PRODID:-//Campus Events - ECPv6.15.20//NONSGML v1.0//EN
CALSCALE:GREGORIAN
METHOD:PUBLISH
X-WR-CALNAME:Campus Events
X-ORIGINAL-URL:https://events.bridgeport.edu
X-WR-CALDESC:Events for Campus Events
REFRESH-INTERVAL;VALUE=DURATION:PT1H
X-Robots-Tag:noindex
X-PUBLISHED-TTL:PT1H
BEGIN:VTIMEZONE
TZID:America/New_York
BEGIN:DAYLIGHT
TZOFFSETFROM:-0500
TZOFFSETTO:-0400
TZNAME:EDT
DTSTART:20240310T070000
END:DAYLIGHT
BEGIN:STANDARD
TZOFFSETFROM:-0400
TZOFFSETTO:-0500
TZNAME:EST
DTSTART:20241103T060000
END:STANDARD
BEGIN:DAYLIGHT
TZOFFSETFROM:-0500
TZOFFSETTO:-0400
TZNAME:EDT
DTSTART:20250309T070000
END:DAYLIGHT
BEGIN:STANDARD
TZOFFSETFROM:-0400
TZOFFSETTO:-0500
TZNAME:EST
DTSTART:20251102T060000
END:STANDARD
BEGIN:DAYLIGHT
TZOFFSETFROM:-0500
TZOFFSETTO:-0400
TZNAME:EDT
DTSTART:20260308T070000
END:DAYLIGHT
BEGIN:STANDARD
TZOFFSETFROM:-0400
TZOFFSETTO:-0500
TZNAME:EST
DTSTART:20261101T060000
END:STANDARD
END:VTIMEZONE
BEGIN:VEVENT
DTSTART;TZID=America/New_York:20250307T153000
DTEND;TZID=America/New_York:20250307T173000
DTSTAMP:20260423T044252
CREATED:20241114T000824Z
LAST-MODIFIED:20250217T154853Z
UID:96815-1741361400-1741368600@events.bridgeport.edu
SUMMARY:BackCountry Jazz Music Program
DESCRIPTION:
URL:https://events.bridgeport.edu/event/backcountry-jazz-music-program-45/
LOCATION:JCSC 207-209 Campus: Main Campus\, 244 University Avenue\, Bridgeport\, CT\, 06604\, United States
CATEGORIES:Community
END:VEVENT
BEGIN:VEVENT
DTSTART;TZID=America/New_York:20250307T153000
DTEND;TZID=America/New_York:20250307T173000
DTSTAMP:20260423T044252
CREATED:20241114T000824Z
LAST-MODIFIED:20250217T154853Z
UID:96814-1741361400-1741368600@events.bridgeport.edu
SUMMARY:BackCountry Jazz Music Program
DESCRIPTION:
URL:https://events.bridgeport.edu/event/backcountry-jazz-music-program-44/
LOCATION:JCSC 213-215 Campus: Main Campus\, 244 University Avenue\, Bridgeport\, CT\, 06604\, United States
CATEGORIES:Community
END:VEVENT
BEGIN:VEVENT
DTSTART;TZID=America/New_York:20250308T080000
DTEND;TZID=America/New_York:20250308T140000
DTSTAMP:20260423T044252
CREATED:20250111T102058Z
LAST-MODIFIED:20250217T154906Z
UID:103104-1741420800-1741442400@events.bridgeport.edu
SUMMARY:BCYL
DESCRIPTION:
URL:https://events.bridgeport.edu/event/bcyl-93/
LOCATION:MAN 222 Campus: Main Campus\, 230 Park Avenue\, Bridgeport\, CT\, 06604\, United States
CATEGORIES:Community
END:VEVENT
BEGIN:VEVENT
DTSTART;TZID=America/New_York:20250308T080000
DTEND;TZID=America/New_York:20250308T140000
DTSTAMP:20260423T044252
CREATED:20250111T102058Z
LAST-MODIFIED:20250217T154853Z
UID:103105-1741420800-1741442400@events.bridgeport.edu
SUMMARY:BCYL
DESCRIPTION:
URL:https://events.bridgeport.edu/event/bcyl-94/
LOCATION:MAN 223 Campus: Main Campus\, 230 Park Avenue\, Bridgeport\, CT\, 06604\, United States
CATEGORIES:Community
END:VEVENT
BEGIN:VEVENT
DTSTART;TZID=America/New_York:20250308T080000
DTEND;TZID=America/New_York:20250308T140000
DTSTAMP:20260423T044252
CREATED:20250207T204942Z
LAST-MODIFIED:20250217T154853Z
UID:106119-1741420800-1741442400@events.bridgeport.edu
SUMMARY:BCYL
DESCRIPTION:
URL:https://events.bridgeport.edu/event/bcyl-103/
LOCATION:MAN 220 Campus: Main Campus\, 230 Park Avenue\, Bridgeport\, CT\, 06604\, United States
CATEGORIES:Community
END:VEVENT
BEGIN:VEVENT
DTSTART;TZID=America/New_York:20250308T083000
DTEND;TZID=America/New_York:20250308T133000
DTSTAMP:20260423T044252
CREATED:20241220T125143Z
LAST-MODIFIED:20250217T154853Z
UID:100725-1741422600-1741440600@events.bridgeport.edu
SUMMARY:32BJ Training Program
DESCRIPTION:
URL:https://events.bridgeport.edu/event/32bj-training-program-10/
LOCATION:MAN 216 Campus: Main Campus\, 230 Park Avenue\, Bridgeport\, CT\, 06604\, United States
CATEGORIES:Community
END:VEVENT
BEGIN:VEVENT
DTSTART;TZID=America/New_York:20250310T093000
DTEND;TZID=America/New_York:20250310T110000
DTSTAMP:20260423T044252
CREATED:20240913T000717Z
LAST-MODIFIED:20250310T141750Z
UID:89587-1741599000-1741604400@events.bridgeport.edu
SUMMARY:Fairfield Schools
DESCRIPTION:
URL:https://events.bridgeport.edu/event/fairfield-schools-163/
LOCATION:MAN MAN 9 Campus: Main Campus
CATEGORIES:Community
END:VEVENT
BEGIN:VEVENT
DTSTART;TZID=America/New_York:20250311T093000
DTEND;TZID=America/New_York:20250311T110000
DTSTAMP:20260423T044252
CREATED:20240913T000717Z
LAST-MODIFIED:20250311T140249Z
UID:89588-1741685400-1741690800@events.bridgeport.edu
SUMMARY:Fairfield Schools
DESCRIPTION:
URL:https://events.bridgeport.edu/event/fairfield-schools-164/
LOCATION:MAN MAN 9 Campus: Main Campus
CATEGORIES:Community
END:VEVENT
BEGIN:VEVENT
DTSTART;TZID=America/New_York:20250312T093000
DTEND;TZID=America/New_York:20250312T110000
DTSTAMP:20260423T044252
CREATED:20240912T173557Z
LAST-MODIFIED:20250312T140247Z
UID:89343-1741771800-1741777200@events.bridgeport.edu
SUMMARY:Fairfield Schools
DESCRIPTION:
URL:https://events.bridgeport.edu/event/fairfield-schools-85/
LOCATION:MAN MAN 9 Campus: Main Campus
CATEGORIES:Community
END:VEVENT
BEGIN:VEVENT
DTSTART;TZID=America/New_York:20250313T093000
DTEND;TZID=America/New_York:20250313T110000
DTSTAMP:20260423T044252
CREATED:20240912T173557Z
LAST-MODIFIED:20250313T143249Z
UID:89344-1741858200-1741863600@events.bridgeport.edu
SUMMARY:Fairfield Schools
DESCRIPTION:
URL:https://events.bridgeport.edu/event/fairfield-schools-86/
LOCATION:MAN MAN 9 Campus: Main Campus
CATEGORIES:Community
END:VEVENT
BEGIN:VEVENT
DTSTART;TZID=America/New_York:20250314T093000
DTEND;TZID=America/New_York:20250314T110000
DTSTAMP:20260423T044252
CREATED:20240913T000717Z
LAST-MODIFIED:20250314T144750Z
UID:89589-1741944600-1741950000@events.bridgeport.edu
SUMMARY:Fairfield Schools
DESCRIPTION:
URL:https://events.bridgeport.edu/event/fairfield-schools-165/
LOCATION:MAN MAN 9 Campus: Main Campus
CATEGORIES:Community
END:VEVENT
BEGIN:VEVENT
DTSTART;TZID=America/New_York:20250314T153000
DTEND;TZID=America/New_York:20250314T173000
DTSTAMP:20260423T044252
CREATED:20241114T000825Z
LAST-MODIFIED:20250314T193249Z
UID:96816-1741966200-1741973400@events.bridgeport.edu
SUMMARY:BackCountry Jazz Music Program
DESCRIPTION:
URL:https://events.bridgeport.edu/event/backcountry-jazz-music-program-46/
LOCATION:JCSC Knight S7 Campus: Main Campus
CATEGORIES:Community
END:VEVENT
BEGIN:VEVENT
DTSTART;TZID=America/New_York:20250314T153000
DTEND;TZID=America/New_York:20250314T173000
DTSTAMP:20260423T044252
CREATED:20241114T000825Z
LAST-MODIFIED:20250314T193249Z
UID:96817-1741966200-1741973400@events.bridgeport.edu
SUMMARY:BackCountry Jazz Music Program
DESCRIPTION:
URL:https://events.bridgeport.edu/event/backcountry-jazz-music-program-47/
LOCATION:JCSC 213-215 Campus: Main Campus\, 244 University Avenue\, Bridgeport\, CT\, 06604\, United States
CATEGORIES:Community
END:VEVENT
BEGIN:VEVENT
DTSTART;TZID=America/New_York:20250314T153000
DTEND;TZID=America/New_York:20250314T173000
DTSTAMP:20260423T044252
CREATED:20241114T000825Z
LAST-MODIFIED:20250314T193249Z
UID:96818-1741966200-1741973400@events.bridgeport.edu
SUMMARY:BackCountry Jazz Music Program
DESCRIPTION:
URL:https://events.bridgeport.edu/event/backcountry-jazz-music-program-48/
LOCATION:JCSC 207-209 Campus: Main Campus\, 244 University Avenue\, Bridgeport\, CT\, 06604\, United States
CATEGORIES:Community
END:VEVENT
BEGIN:VEVENT
DTSTART;TZID=America/New_York:20250315T080000
DTEND;TZID=America/New_York:20250315T140000
DTSTAMP:20260423T044252
CREATED:20250111T102110Z
LAST-MODIFIED:20250315T173252Z
UID:103106-1742025600-1742047200@events.bridgeport.edu
SUMMARY:BCYL
DESCRIPTION:
URL:https://events.bridgeport.edu/event/bcyl-95/
LOCATION:MAN 223 Campus: Main Campus\, 230 Park Avenue\, Bridgeport\, CT\, 06604\, United States
CATEGORIES:Community
END:VEVENT
BEGIN:VEVENT
DTSTART;TZID=America/New_York:20250315T080000
DTEND;TZID=America/New_York:20250315T140000
DTSTAMP:20260423T044252
CREATED:20250111T102122Z
LAST-MODIFIED:20250315T173252Z
UID:103107-1742025600-1742047200@events.bridgeport.edu
SUMMARY:BCYL
DESCRIPTION:
URL:https://events.bridgeport.edu/event/bcyl-96/
LOCATION:MAN 222 Campus: Main Campus\, 230 Park Avenue\, Bridgeport\, CT\, 06604\, United States
CATEGORIES:Community
END:VEVENT
BEGIN:VEVENT
DTSTART;TZID=America/New_York:20250315T080000
DTEND;TZID=America/New_York:20250315T140000
DTSTAMP:20260423T044252
CREATED:20250207T204954Z
LAST-MODIFIED:20250315T173252Z
UID:106120-1742025600-1742047200@events.bridgeport.edu
SUMMARY:BCYL
DESCRIPTION:
URL:https://events.bridgeport.edu/event/bcyl-104/
LOCATION:MAN 220 Campus: Main Campus\, 230 Park Avenue\, Bridgeport\, CT\, 06604\, United States
CATEGORIES:Community
END:VEVENT
BEGIN:VEVENT
DTSTART;TZID=America/New_York:20250315T083000
DTEND;TZID=America/New_York:20250315T133000
DTSTAMP:20260423T044252
CREATED:20241220T125154Z
LAST-MODIFIED:20250315T161751Z
UID:100726-1742027400-1742045400@events.bridgeport.edu
SUMMARY:32BJ Training Program
DESCRIPTION:
URL:https://events.bridgeport.edu/event/32bj-training-program-11/
LOCATION:MAN 216 Campus: Main Campus\, 230 Park Avenue\, Bridgeport\, CT\, 06604\, United States
CATEGORIES:Community
END:VEVENT
BEGIN:VEVENT
DTSTART;TZID=America/New_York:20250315T083000
DTEND;TZID=America/New_York:20250315T133000
DTSTAMP:20260423T044252
CREATED:20241220T125155Z
LAST-MODIFIED:20250315T161751Z
UID:100727-1742027400-1742045400@events.bridgeport.edu
SUMMARY:32BJ Training Program
DESCRIPTION:
URL:https://events.bridgeport.edu/event/32bj-training-program-12/
LOCATION:MAN 303 Campus: Main Campus\, 230 Park Avenue\, Bridgeport\, CT\, 06604\, United States
CATEGORIES:Community
END:VEVENT
BEGIN:VEVENT
DTSTART;TZID=America/New_York:20250317T093000
DTEND;TZID=America/New_York:20250317T110000
DTSTAMP:20260423T044252
CREATED:20240913T000717Z
LAST-MODIFIED:20250317T143248Z
UID:89590-1742203800-1742209200@events.bridgeport.edu
SUMMARY:Fairfield Schools
DESCRIPTION:
URL:https://events.bridgeport.edu/event/fairfield-schools-166/
LOCATION:MAN MAN 9 Campus: Main Campus
CATEGORIES:Community
END:VEVENT
BEGIN:VEVENT
DTSTART;TZID=America/New_York:20250318T093000
DTEND;TZID=America/New_York:20250318T110000
DTSTAMP:20260423T044252
CREATED:20240913T000717Z
LAST-MODIFIED:20250318T143248Z
UID:89591-1742290200-1742295600@events.bridgeport.edu
SUMMARY:Fairfield Schools
DESCRIPTION:
URL:https://events.bridgeport.edu/event/fairfield-schools-167/
LOCATION:MAN MAN 9 Campus: Main Campus
CATEGORIES:Community
END:VEVENT
BEGIN:VEVENT
DTSTART;TZID=America/New_York:20250319T093000
DTEND;TZID=America/New_York:20250319T110000
DTSTAMP:20260423T044252
CREATED:20240912T173557Z
LAST-MODIFIED:20250319T140249Z
UID:89345-1742376600-1742382000@events.bridgeport.edu
SUMMARY:Fairfield Schools
DESCRIPTION:
URL:https://events.bridgeport.edu/event/fairfield-schools-87/
LOCATION:MAN MAN 9 Campus: Main Campus
CATEGORIES:Community
END:VEVENT
BEGIN:VEVENT
DTSTART;TZID=America/New_York:20250320T093000
DTEND;TZID=America/New_York:20250320T110000
DTSTAMP:20260423T044252
CREATED:20240913T000731Z
LAST-MODIFIED:20250320T141748Z
UID:89592-1742463000-1742468400@events.bridgeport.edu
SUMMARY:Fairfield Schools
DESCRIPTION:
URL:https://events.bridgeport.edu/event/fairfield-schools-168/
LOCATION:MAN MAN 9 Campus: Main Campus
CATEGORIES:Community
END:VEVENT
BEGIN:VEVENT
DTSTART;TZID=America/New_York:20250321T093000
DTEND;TZID=America/New_York:20250321T110000
DTSTAMP:20260423T044252
CREATED:20240912T173557Z
LAST-MODIFIED:20250321T140250Z
UID:89346-1742549400-1742554800@events.bridgeport.edu
SUMMARY:Fairfield Schools
DESCRIPTION:
URL:https://events.bridgeport.edu/event/fairfield-schools-88/
LOCATION:MAN MAN 9 Campus: Main Campus
CATEGORIES:Community
END:VEVENT
BEGIN:VEVENT
DTSTART;TZID=America/New_York:20250321T153000
DTEND;TZID=America/New_York:20250321T173000
DTSTAMP:20260423T044252
CREATED:20241114T000837Z
LAST-MODIFIED:20250321T194748Z
UID:96821-1742571000-1742578200@events.bridgeport.edu
SUMMARY:BackCountry Jazz Music Program
DESCRIPTION:
URL:https://events.bridgeport.edu/event/backcountry-jazz-music-program-51/
LOCATION:JCSC 207-209 Campus: Main Campus\, 244 University Avenue\, Bridgeport\, CT\, 06604\, United States
CATEGORIES:Community
END:VEVENT
BEGIN:VEVENT
DTSTART;TZID=America/New_York:20250321T153000
DTEND;TZID=America/New_York:20250321T173000
DTSTAMP:20260423T044252
CREATED:20241114T000837Z
LAST-MODIFIED:20250321T194748Z
UID:96819-1742571000-1742578200@events.bridgeport.edu
SUMMARY:BackCountry Jazz Music Program
DESCRIPTION:
URL:https://events.bridgeport.edu/event/backcountry-jazz-music-program-49/
LOCATION:JCSC Knight S7 Campus: Main Campus
CATEGORIES:Community
END:VEVENT
BEGIN:VEVENT
DTSTART;TZID=America/New_York:20250321T153000
DTEND;TZID=America/New_York:20250321T173000
DTSTAMP:20260423T044252
CREATED:20241114T000837Z
LAST-MODIFIED:20250321T194748Z
UID:96820-1742571000-1742578200@events.bridgeport.edu
SUMMARY:BackCountry Jazz Music Program
DESCRIPTION:
URL:https://events.bridgeport.edu/event/backcountry-jazz-music-program-50/
LOCATION:JCSC 213-215 Campus: Main Campus\, 244 University Avenue\, Bridgeport\, CT\, 06604\, United States
CATEGORIES:Community
END:VEVENT
BEGIN:VEVENT
DTSTART;TZID=America/New_York:20250322T080000
DTEND;TZID=America/New_York:20250322T140000
DTSTAMP:20260423T044252
CREATED:20250111T102136Z
LAST-MODIFIED:20250322T171754Z
UID:103108-1742630400-1742652000@events.bridgeport.edu
SUMMARY:BCYL
DESCRIPTION:
URL:https://events.bridgeport.edu/event/bcyl-97/
LOCATION:MAN 222 Campus: Main Campus\, 230 Park Avenue\, Bridgeport\, CT\, 06604\, United States
CATEGORIES:Community
END:VEVENT
BEGIN:VEVENT
DTSTART;TZID=America/New_York:20250322T080000
DTEND;TZID=America/New_York:20250322T140000
DTSTAMP:20260423T044252
CREATED:20250111T102136Z
LAST-MODIFIED:20250322T171754Z
UID:103109-1742630400-1742652000@events.bridgeport.edu
SUMMARY:BCYL
DESCRIPTION:
URL:https://events.bridgeport.edu/event/bcyl-98/
LOCATION:MAN 223 Campus: Main Campus\, 230 Park Avenue\, Bridgeport\, CT\, 06604\, United States
CATEGORIES:Community
END:VEVENT
BEGIN:VEVENT
DTSTART;TZID=America/New_York:20250322T080000
DTEND;TZID=America/New_York:20250322T140000
DTSTAMP:20260423T044252
CREATED:20250207T205006Z
LAST-MODIFIED:20250322T171754Z
UID:106121-1742630400-1742652000@events.bridgeport.edu
SUMMARY:BCYL
DESCRIPTION:
URL:https://events.bridgeport.edu/event/bcyl-105/
LOCATION:MAN 220 Campus: Main Campus\, 230 Park Avenue\, Bridgeport\, CT\, 06604\, United States
CATEGORIES:Community
END:VEVENT
END:VCALENDAR