

BEGIN:VCALENDAR
VERSION:2.0
PRODID:-//Campus Events - ECPv6.15.20//NONSGML v1.0//EN
CALSCALE:GREGORIAN
METHOD:PUBLISH
X-WR-CALNAME:Campus Events
X-ORIGINAL-URL:https://events.bridgeport.edu
X-WR-CALDESC:Events for Campus Events
REFRESH-INTERVAL;VALUE=DURATION:PT1H
X-Robots-Tag:noindex
X-PUBLISHED-TTL:PT1H
BEGIN:VTIMEZONE
TZID:America/New_York
BEGIN:DAYLIGHT
TZOFFSETFROM:-0500
TZOFFSETTO:-0400
TZNAME:EDT
DTSTART:20240310T070000
END:DAYLIGHT
BEGIN:STANDARD
TZOFFSETFROM:-0400
TZOFFSETTO:-0500
TZNAME:EST
DTSTART:20241103T060000
END:STANDARD
BEGIN:DAYLIGHT
TZOFFSETFROM:-0500
TZOFFSETTO:-0400
TZNAME:EDT
DTSTART:20250309T070000
END:DAYLIGHT
BEGIN:STANDARD
TZOFFSETFROM:-0400
TZOFFSETTO:-0500
TZNAME:EST
DTSTART:20251102T060000
END:STANDARD
BEGIN:DAYLIGHT
TZOFFSETFROM:-0500
TZOFFSETTO:-0400
TZNAME:EDT
DTSTART:20260308T070000
END:DAYLIGHT
BEGIN:STANDARD
TZOFFSETFROM:-0400
TZOFFSETTO:-0500
TZNAME:EST
DTSTART:20261101T060000
END:STANDARD
END:VTIMEZONE
BEGIN:VEVENT
DTSTART;TZID=America/New_York:20250301T080000
DTEND;TZID=America/New_York:20250301T140000
DTSTAMP:20260423T025648
CREATED:20241003T041014Z
LAST-MODIFIED:20250217T154828Z
UID:92222-1740816000-1740837600@events.bridgeport.edu
SUMMARY:BCYL
DESCRIPTION:
URL:https://events.bridgeport.edu/event/bcyl-73/
LOCATION:MAN 322 Campus: Main Campus\, 230 Park Avenue\, Bridgeport\, CT\, 06604\, United States
CATEGORIES:Community
END:VEVENT
BEGIN:VEVENT
DTSTART;TZID=America/New_York:20250301T080000
DTEND;TZID=America/New_York:20250301T140000
DTSTAMP:20260423T025648
CREATED:20241003T041027Z
LAST-MODIFIED:20250217T154829Z
UID:92224-1740816000-1740837600@events.bridgeport.edu
SUMMARY:BCYL
DESCRIPTION:
URL:https://events.bridgeport.edu/event/bcyl-75/
LOCATION:MAN 316 Campus: Main Campus\, 230 Park Avenue\, Bridgeport\, CT\, 06604\, United States
CATEGORIES:Community
END:VEVENT
BEGIN:VEVENT
DTSTART;TZID=America/New_York:20250301T080000
DTEND;TZID=America/New_York:20250301T140000
DTSTAMP:20260423T025648
CREATED:20241003T041027Z
LAST-MODIFIED:20250111T090546Z
UID:92223-1740816000-1740837600@events.bridgeport.edu
SUMMARY:BCYL
DESCRIPTION:
URL:https://events.bridgeport.edu/event/bcyl-74/
LOCATION:MAN 319 Campus: Main Campus\, 230 Park Avenue\, Bridgeport\, CT\, 06604\, United States
CATEGORIES:Community
END:VEVENT
BEGIN:VEVENT
DTSTART;TZID=America/New_York:20250301T080000
DTEND;TZID=America/New_York:20250301T140000
DTSTAMP:20260423T025648
CREATED:20241003T041028Z
LAST-MODIFIED:20250217T154841Z
UID:92229-1740816000-1740837600@events.bridgeport.edu
SUMMARY:BCYL
DESCRIPTION:
URL:https://events.bridgeport.edu/event/bcyl-80/
LOCATION:MAN 323 Campus: Main Campus\, 230 Park Avenue\, Bridgeport\, CT\, 06604\, United States
CATEGORIES:Community
END:VEVENT
BEGIN:VEVENT
DTSTART;TZID=America/New_York:20250301T080000
DTEND;TZID=America/New_York:20250301T140000
DTSTAMP:20260423T025648
CREATED:20241003T041028Z
LAST-MODIFIED:20250217T154841Z
UID:92225-1740816000-1740837600@events.bridgeport.edu
SUMMARY:BCYL
DESCRIPTION:
URL:https://events.bridgeport.edu/event/bcyl-76/
LOCATION:MAN 311 Campus: Main Campus\, 230 Park Avenue\, Bridgeport\, CT\, 06604\, United States
CATEGORIES:Community
END:VEVENT
BEGIN:VEVENT
DTSTART;TZID=America/New_York:20250301T080000
DTEND;TZID=America/New_York:20250301T140000
DTSTAMP:20260423T025648
CREATED:20241003T041028Z
LAST-MODIFIED:20250217T154841Z
UID:92226-1740816000-1740837600@events.bridgeport.edu
SUMMARY:BCYL
DESCRIPTION:
URL:https://events.bridgeport.edu/event/bcyl-77/
LOCATION:MAN 318 Campus: Main Campus\, 230 Park Avenue\, Bridgeport\, CT\, 06604\, United States
CATEGORIES:Community
END:VEVENT
BEGIN:VEVENT
DTSTART;TZID=America/New_York:20250301T080000
DTEND;TZID=America/New_York:20250301T140000
DTSTAMP:20260423T025648
CREATED:20241003T041028Z
LAST-MODIFIED:20250217T154829Z
UID:92227-1740816000-1740837600@events.bridgeport.edu
SUMMARY:BCYL
DESCRIPTION:
URL:https://events.bridgeport.edu/event/bcyl-78/
LOCATION:MAN 321 Campus: Main Campus\, 230 Park Avenue\, Bridgeport\, CT\, 06604\, United States
CATEGORIES:Community
END:VEVENT
BEGIN:VEVENT
DTSTART;TZID=America/New_York:20250301T080000
DTEND;TZID=America/New_York:20250301T140000
DTSTAMP:20260423T025648
CREATED:20241003T041028Z
LAST-MODIFIED:20250217T154828Z
UID:92228-1740816000-1740837600@events.bridgeport.edu
SUMMARY:BCYL
DESCRIPTION:
URL:https://events.bridgeport.edu/event/bcyl-79/
LOCATION:MAN 320 Campus: Main Campus\, 230 Park Avenue\, Bridgeport\, CT\, 06604\, United States
CATEGORIES:Community
END:VEVENT
BEGIN:VEVENT
DTSTART;TZID=America/New_York:20250301T080000
DTEND;TZID=America/New_York:20250301T140000
DTSTAMP:20260423T025648
CREATED:20250111T102046Z
LAST-MODIFIED:20250217T154841Z
UID:103102-1740816000-1740837600@events.bridgeport.edu
SUMMARY:BCYL
DESCRIPTION:
URL:https://events.bridgeport.edu/event/bcyl-91/
LOCATION:MAN 223 Campus: Main Campus\, 230 Park Avenue\, Bridgeport\, CT\, 06604\, United States
CATEGORIES:Community
END:VEVENT
BEGIN:VEVENT
DTSTART;TZID=America/New_York:20250301T080000
DTEND;TZID=America/New_York:20250301T140000
DTSTAMP:20260423T025648
CREATED:20250111T102046Z
LAST-MODIFIED:20250217T154841Z
UID:103103-1740816000-1740837600@events.bridgeport.edu
SUMMARY:BCYL
DESCRIPTION:
URL:https://events.bridgeport.edu/event/bcyl-92/
LOCATION:MAN 222 Campus: Main Campus\, 230 Park Avenue\, Bridgeport\, CT\, 06604\, United States
CATEGORIES:Community
END:VEVENT
BEGIN:VEVENT
DTSTART;TZID=America/New_York:20250301T080000
DTEND;TZID=America/New_York:20250301T140000
DTSTAMP:20260423T025648
CREATED:20250207T204917Z
LAST-MODIFIED:20250217T154841Z
UID:106118-1740816000-1740837600@events.bridgeport.edu
SUMMARY:BCYL
DESCRIPTION:
URL:https://events.bridgeport.edu/event/bcyl-102/
LOCATION:MAN 220 Campus: Main Campus\, 230 Park Avenue\, Bridgeport\, CT\, 06604\, United States
CATEGORIES:Community
END:VEVENT
BEGIN:VEVENT
DTSTART;TZID=America/New_York:20250301T083000
DTEND;TZID=America/New_York:20250301T133000
DTSTAMP:20260423T025648
CREATED:20241220T125130Z
LAST-MODIFIED:20250217T154841Z
UID:100723-1740817800-1740835800@events.bridgeport.edu
SUMMARY:32BJ Training Program
DESCRIPTION:
URL:https://events.bridgeport.edu/event/32bj-training-program-8/
LOCATION:MAN 303 Campus: Main Campus\, 230 Park Avenue\, Bridgeport\, CT\, 06604\, United States
CATEGORIES:Community
END:VEVENT
BEGIN:VEVENT
DTSTART;TZID=America/New_York:20250301T083000
DTEND;TZID=America/New_York:20250301T133000
DTSTAMP:20260423T025648
CREATED:20241220T125130Z
LAST-MODIFIED:20250217T154841Z
UID:100724-1740817800-1740835800@events.bridgeport.edu
SUMMARY:32BJ Training Program
DESCRIPTION:
URL:https://events.bridgeport.edu/event/32bj-training-program-9/
LOCATION:MAN 216 Campus: Main Campus\, 230 Park Avenue\, Bridgeport\, CT\, 06604\, United States
CATEGORIES:Community
END:VEVENT
BEGIN:VEVENT
DTSTART;TZID=America/New_York:20250301T100000
DTEND;TZID=America/New_York:20250301T160000
DTSTAMP:20260423T025648
CREATED:20250114T140555Z
LAST-MODIFIED:20250217T154841Z
UID:103442-1740823200-1740844800@events.bridgeport.edu
SUMMARY:Full Circle -
DESCRIPTION:
URL:https://events.bridgeport.edu/event/full-circle/
LOCATION:JCSC KNIGHT S1 – Social Room Campus: Main Campus
CATEGORIES:Community
END:VEVENT
BEGIN:VEVENT
DTSTART;TZID=America/New_York:20250303T093000
DTEND;TZID=America/New_York:20250303T110000
DTSTAMP:20260423T025648
CREATED:20240912T173545Z
LAST-MODIFIED:20250217T154841Z
UID:89340-1740994200-1740999600@events.bridgeport.edu
SUMMARY:Fairfield Schools
DESCRIPTION:
URL:https://events.bridgeport.edu/event/fairfield-schools-82/
LOCATION:MAN MAN 9 Campus: Main Campus
CATEGORIES:Community
END:VEVENT
BEGIN:VEVENT
DTSTART;TZID=America/New_York:20250304T093000
DTEND;TZID=America/New_York:20250304T110000
DTSTAMP:20260423T025648
CREATED:20240912T173545Z
LAST-MODIFIED:20250217T154853Z
UID:89341-1741080600-1741086000@events.bridgeport.edu
SUMMARY:Fairfield Schools
DESCRIPTION:
URL:https://events.bridgeport.edu/event/fairfield-schools-83/
LOCATION:MAN MAN 9 Campus: Main Campus
CATEGORIES:Community
END:VEVENT
BEGIN:VEVENT
DTSTART;TZID=America/New_York:20250305T093000
DTEND;TZID=America/New_York:20250305T110000
DTSTAMP:20260423T025648
CREATED:20240913T000717Z
LAST-MODIFIED:20250217T154853Z
UID:89585-1741167000-1741172400@events.bridgeport.edu
SUMMARY:Fairfield Schools
DESCRIPTION:
URL:https://events.bridgeport.edu/event/fairfield-schools-161/
LOCATION:MAN MAN 9 Campus: Main Campus
CATEGORIES:Community
END:VEVENT
BEGIN:VEVENT
DTSTART;TZID=America/New_York:20250306T093000
DTEND;TZID=America/New_York:20250306T110000
DTSTAMP:20260423T025648
CREATED:20240913T000717Z
LAST-MODIFIED:20250217T154853Z
UID:89586-1741253400-1741258800@events.bridgeport.edu
SUMMARY:Fairfield Schools
DESCRIPTION:
URL:https://events.bridgeport.edu/event/fairfield-schools-162/
LOCATION:MAN MAN 9 Campus: Main Campus
CATEGORIES:Community
END:VEVENT
BEGIN:VEVENT
DTSTART;TZID=America/New_York:20250307T093000
DTEND;TZID=America/New_York:20250307T110000
DTSTAMP:20260423T025648
CREATED:20240912T173545Z
LAST-MODIFIED:20250217T154853Z
UID:89342-1741339800-1741345200@events.bridgeport.edu
SUMMARY:Fairfield Schools
DESCRIPTION:
URL:https://events.bridgeport.edu/event/fairfield-schools-84/
LOCATION:MAN MAN 9 Campus: Main Campus
CATEGORIES:Community
END:VEVENT
BEGIN:VEVENT
DTSTART;TZID=America/New_York:20250307T153000
DTEND;TZID=America/New_York:20250307T173000
DTSTAMP:20260423T025648
CREATED:20241114T000811Z
LAST-MODIFIED:20250217T154853Z
UID:96813-1741361400-1741368600@events.bridgeport.edu
SUMMARY:BackCountry Jazz Music Program
DESCRIPTION:
URL:https://events.bridgeport.edu/event/backcountry-jazz-music-program-43/
LOCATION:JCSC Knight S7 Campus: Main Campus
CATEGORIES:Community
END:VEVENT
BEGIN:VEVENT
DTSTART;TZID=America/New_York:20250307T153000
DTEND;TZID=America/New_York:20250307T173000
DTSTAMP:20260423T025648
CREATED:20241114T000824Z
LAST-MODIFIED:20250217T154853Z
UID:96814-1741361400-1741368600@events.bridgeport.edu
SUMMARY:BackCountry Jazz Music Program
DESCRIPTION:
URL:https://events.bridgeport.edu/event/backcountry-jazz-music-program-44/
LOCATION:JCSC 213-215 Campus: Main Campus\, 244 University Avenue\, Bridgeport\, CT\, 06604\, United States
CATEGORIES:Community
END:VEVENT
BEGIN:VEVENT
DTSTART;TZID=America/New_York:20250307T153000
DTEND;TZID=America/New_York:20250307T173000
DTSTAMP:20260423T025648
CREATED:20241114T000824Z
LAST-MODIFIED:20250217T154853Z
UID:96815-1741361400-1741368600@events.bridgeport.edu
SUMMARY:BackCountry Jazz Music Program
DESCRIPTION:
URL:https://events.bridgeport.edu/event/backcountry-jazz-music-program-45/
LOCATION:JCSC 207-209 Campus: Main Campus\, 244 University Avenue\, Bridgeport\, CT\, 06604\, United States
CATEGORIES:Community
END:VEVENT
BEGIN:VEVENT
DTSTART;TZID=America/New_York:20250308T080000
DTEND;TZID=America/New_York:20250308T140000
DTSTAMP:20260423T025648
CREATED:20250111T102058Z
LAST-MODIFIED:20250217T154906Z
UID:103104-1741420800-1741442400@events.bridgeport.edu
SUMMARY:BCYL
DESCRIPTION:
URL:https://events.bridgeport.edu/event/bcyl-93/
LOCATION:MAN 222 Campus: Main Campus\, 230 Park Avenue\, Bridgeport\, CT\, 06604\, United States
CATEGORIES:Community
END:VEVENT
BEGIN:VEVENT
DTSTART;TZID=America/New_York:20250308T080000
DTEND;TZID=America/New_York:20250308T140000
DTSTAMP:20260423T025648
CREATED:20250111T102058Z
LAST-MODIFIED:20250217T154853Z
UID:103105-1741420800-1741442400@events.bridgeport.edu
SUMMARY:BCYL
DESCRIPTION:
URL:https://events.bridgeport.edu/event/bcyl-94/
LOCATION:MAN 223 Campus: Main Campus\, 230 Park Avenue\, Bridgeport\, CT\, 06604\, United States
CATEGORIES:Community
END:VEVENT
BEGIN:VEVENT
DTSTART;TZID=America/New_York:20250308T080000
DTEND;TZID=America/New_York:20250308T140000
DTSTAMP:20260423T025648
CREATED:20250207T204942Z
LAST-MODIFIED:20250217T154853Z
UID:106119-1741420800-1741442400@events.bridgeport.edu
SUMMARY:BCYL
DESCRIPTION:
URL:https://events.bridgeport.edu/event/bcyl-103/
LOCATION:MAN 220 Campus: Main Campus\, 230 Park Avenue\, Bridgeport\, CT\, 06604\, United States
CATEGORIES:Community
END:VEVENT
BEGIN:VEVENT
DTSTART;TZID=America/New_York:20250308T083000
DTEND;TZID=America/New_York:20250308T133000
DTSTAMP:20260423T025648
CREATED:20241220T125143Z
LAST-MODIFIED:20250217T154853Z
UID:100725-1741422600-1741440600@events.bridgeport.edu
SUMMARY:32BJ Training Program
DESCRIPTION:
URL:https://events.bridgeport.edu/event/32bj-training-program-10/
LOCATION:MAN 216 Campus: Main Campus\, 230 Park Avenue\, Bridgeport\, CT\, 06604\, United States
CATEGORIES:Community
END:VEVENT
BEGIN:VEVENT
DTSTART;TZID=America/New_York:20250310T093000
DTEND;TZID=America/New_York:20250310T110000
DTSTAMP:20260423T025648
CREATED:20240913T000717Z
LAST-MODIFIED:20250310T141750Z
UID:89587-1741599000-1741604400@events.bridgeport.edu
SUMMARY:Fairfield Schools
DESCRIPTION:
URL:https://events.bridgeport.edu/event/fairfield-schools-163/
LOCATION:MAN MAN 9 Campus: Main Campus
CATEGORIES:Community
END:VEVENT
BEGIN:VEVENT
DTSTART;TZID=America/New_York:20250311T093000
DTEND;TZID=America/New_York:20250311T110000
DTSTAMP:20260423T025648
CREATED:20240913T000717Z
LAST-MODIFIED:20250311T140249Z
UID:89588-1741685400-1741690800@events.bridgeport.edu
SUMMARY:Fairfield Schools
DESCRIPTION:
URL:https://events.bridgeport.edu/event/fairfield-schools-164/
LOCATION:MAN MAN 9 Campus: Main Campus
CATEGORIES:Community
END:VEVENT
BEGIN:VEVENT
DTSTART;TZID=America/New_York:20250312T093000
DTEND;TZID=America/New_York:20250312T110000
DTSTAMP:20260423T025648
CREATED:20240912T173557Z
LAST-MODIFIED:20250312T140247Z
UID:89343-1741771800-1741777200@events.bridgeport.edu
SUMMARY:Fairfield Schools
DESCRIPTION:
URL:https://events.bridgeport.edu/event/fairfield-schools-85/
LOCATION:MAN MAN 9 Campus: Main Campus
CATEGORIES:Community
END:VEVENT
BEGIN:VEVENT
DTSTART;TZID=America/New_York:20250313T093000
DTEND;TZID=America/New_York:20250313T110000
DTSTAMP:20260423T025648
CREATED:20240912T173557Z
LAST-MODIFIED:20250313T143249Z
UID:89344-1741858200-1741863600@events.bridgeport.edu
SUMMARY:Fairfield Schools
DESCRIPTION:
URL:https://events.bridgeport.edu/event/fairfield-schools-86/
LOCATION:MAN MAN 9 Campus: Main Campus
CATEGORIES:Community
END:VEVENT
END:VCALENDAR