

BEGIN:VCALENDAR
VERSION:2.0
PRODID:-//Campus Events - ECPv6.15.20//NONSGML v1.0//EN
CALSCALE:GREGORIAN
METHOD:PUBLISH
X-WR-CALNAME:Campus Events
X-ORIGINAL-URL:https://events.bridgeport.edu
X-WR-CALDESC:Events for Campus Events
REFRESH-INTERVAL;VALUE=DURATION:PT1H
X-Robots-Tag:noindex
X-PUBLISHED-TTL:PT1H
BEGIN:VTIMEZONE
TZID:America/New_York
BEGIN:DAYLIGHT
TZOFFSETFROM:-0500
TZOFFSETTO:-0400
TZNAME:EDT
DTSTART:20240310T070000
END:DAYLIGHT
BEGIN:STANDARD
TZOFFSETFROM:-0400
TZOFFSETTO:-0500
TZNAME:EST
DTSTART:20241103T060000
END:STANDARD
BEGIN:DAYLIGHT
TZOFFSETFROM:-0500
TZOFFSETTO:-0400
TZNAME:EDT
DTSTART:20250309T070000
END:DAYLIGHT
BEGIN:STANDARD
TZOFFSETFROM:-0400
TZOFFSETTO:-0500
TZNAME:EST
DTSTART:20251102T060000
END:STANDARD
BEGIN:DAYLIGHT
TZOFFSETFROM:-0500
TZOFFSETTO:-0400
TZNAME:EDT
DTSTART:20260308T070000
END:DAYLIGHT
BEGIN:STANDARD
TZOFFSETFROM:-0400
TZOFFSETTO:-0500
TZNAME:EST
DTSTART:20261101T060000
END:STANDARD
END:VTIMEZONE
BEGIN:VEVENT
DTSTART;TZID=America/New_York:20250501T093000
DTEND;TZID=America/New_York:20250501T110000
DTSTAMP:20260422T194416
CREATED:20240913T000810Z
LAST-MODIFIED:20250501T134610Z
UID:89603-1746091800-1746097200@events.bridgeport.edu
SUMMARY:Fairfield Schools
DESCRIPTION:
URL:https://events.bridgeport.edu/event/fairfield-schools-179/
LOCATION:MAN MAN 9 Campus: Main Campus
CATEGORIES:Community
END:VEVENT
BEGIN:VEVENT
DTSTART;TZID=America/New_York:20250501T110000
DTEND;TZID=America/New_York:20250501T140000
DTSTAMP:20260422T194416
CREATED:20250402T164834Z
LAST-MODIFIED:20250501T174611Z
UID:111794-1746097200-1746108000@events.bridgeport.edu
SUMMARY:Cooking Class Special Instruction - Fairfield Education Schools
DESCRIPTION:
URL:https://events.bridgeport.edu/event/cooking-class-special-instruction-fairfield-education-schools-7/
LOCATION:JCSC Service  Campus: Main Campus
CATEGORIES:Community
END:VEVENT
BEGIN:VEVENT
DTSTART;TZID=America/New_York:20250502T093000
DTEND;TZID=America/New_York:20250502T110000
DTSTAMP:20260422T194416
CREATED:20240912T173620Z
LAST-MODIFIED:20250502T134607Z
UID:89365-1746178200-1746183600@events.bridgeport.edu
SUMMARY:Fairfield Schools
DESCRIPTION:
URL:https://events.bridgeport.edu/event/fairfield-schools-107/
LOCATION:MAN MAN 9 Campus: Main Campus
CATEGORIES:Community
END:VEVENT
BEGIN:VEVENT
DTSTART;TZID=America/New_York:20250502T153000
DTEND;TZID=America/New_York:20250502T173000
DTSTAMP:20260422T194416
CREATED:20241114T000945Z
LAST-MODIFIED:20250502T201609Z
UID:96839-1746199800-1746207000@events.bridgeport.edu
SUMMARY:BackCountry Jazz Music Program
DESCRIPTION:
URL:https://events.bridgeport.edu/event/backcountry-jazz-music-program-69/
LOCATION:JCSC Knight S7 Campus: Main Campus
CATEGORIES:Community
END:VEVENT
BEGIN:VEVENT
DTSTART;TZID=America/New_York:20250502T153000
DTEND;TZID=America/New_York:20250502T173000
DTSTAMP:20260422T194416
CREATED:20241114T000945Z
LAST-MODIFIED:20250502T201609Z
UID:96837-1746199800-1746207000@events.bridgeport.edu
SUMMARY:BackCountry Jazz Music Program
DESCRIPTION:
URL:https://events.bridgeport.edu/event/backcountry-jazz-music-program-67/
LOCATION:JCSC 207-209 Campus: Main Campus\, 244 University Avenue\, Bridgeport\, CT\, 06604\, United States
CATEGORIES:Community
END:VEVENT
BEGIN:VEVENT
DTSTART;TZID=America/New_York:20250502T153000
DTEND;TZID=America/New_York:20250502T173000
DTSTAMP:20260422T194416
CREATED:20241114T000945Z
LAST-MODIFIED:20250502T201609Z
UID:96838-1746199800-1746207000@events.bridgeport.edu
SUMMARY:BackCountry Jazz Music Program
DESCRIPTION:
URL:https://events.bridgeport.edu/event/backcountry-jazz-music-program-68/
LOCATION:JCSC 213-215 Campus: Main Campus\, 244 University Avenue\, Bridgeport\, CT\, 06604\, United States
CATEGORIES:Community
END:VEVENT
BEGIN:VEVENT
DTSTART;TZID=America/New_York:20250505T093000
DTEND;TZID=America/New_York:20250505T110000
DTSTAMP:20260422T194416
CREATED:20240913T000810Z
LAST-MODIFIED:20250505T141608Z
UID:89604-1746437400-1746442800@events.bridgeport.edu
SUMMARY:Fairfield Schools
DESCRIPTION:
URL:https://events.bridgeport.edu/event/fairfield-schools-180/
LOCATION:MAN MAN 9 Campus: Main Campus
CATEGORIES:Community
END:VEVENT
BEGIN:VEVENT
DTSTART;TZID=America/New_York:20250506T080000
DTEND;TZID=America/New_York:20250506T160000
DTSTAMP:20260422T194416
CREATED:20250402T164846Z
LAST-MODIFIED:20250506T191609Z
UID:111796-1746518400-1746547200@events.bridgeport.edu
SUMMARY:Police Statewide Peer Support Training - BGPT Police
DESCRIPTION:
URL:https://events.bridgeport.edu/event/police-statewide-peer-support-training-bgpt-police/
LOCATION:JCSC KNIGHT S1 – Social Room Campus: Main Campus
CATEGORIES:Community
END:VEVENT
BEGIN:VEVENT
DTSTART;TZID=America/New_York:20250506T093000
DTEND;TZID=America/New_York:20250506T110000
DTSTAMP:20260422T194416
CREATED:20240912T173620Z
LAST-MODIFIED:20250506T134608Z
UID:89366-1746523800-1746529200@events.bridgeport.edu
SUMMARY:Fairfield Schools
DESCRIPTION:
URL:https://events.bridgeport.edu/event/fairfield-schools-108/
LOCATION:MAN MAN 9 Campus: Main Campus
CATEGORIES:Community
END:VEVENT
BEGIN:VEVENT
DTSTART;TZID=America/New_York:20250506T110000
DTEND;TZID=America/New_York:20250506T140000
DTSTAMP:20260422T194416
CREATED:20250402T164846Z
LAST-MODIFIED:20250506T164609Z
UID:111795-1746529200-1746540000@events.bridgeport.edu
SUMMARY:Cooking Class Special Instruction - Fairfield Education Schools
DESCRIPTION:
URL:https://events.bridgeport.edu/event/cooking-class-special-instruction-fairfield-education-schools-8/
LOCATION:JCSC Service  Campus: Main Campus
CATEGORIES:Community
END:VEVENT
BEGIN:VEVENT
DTSTART;TZID=America/New_York:20250507T093000
DTEND;TZID=America/New_York:20250507T110000
DTSTAMP:20260422T194416
CREATED:20240913T000810Z
LAST-MODIFIED:20250507T141610Z
UID:89605-1746610200-1746615600@events.bridgeport.edu
SUMMARY:Fairfield Schools
DESCRIPTION:
URL:https://events.bridgeport.edu/event/fairfield-schools-181/
LOCATION:MAN MAN 9 Campus: Main Campus
CATEGORIES:Community
END:VEVENT
BEGIN:VEVENT
DTSTART;TZID=America/New_York:20250508T093000
DTEND;TZID=America/New_York:20250508T110000
DTSTAMP:20260422T194416
CREATED:20240912T173620Z
LAST-MODIFIED:20250508T134610Z
UID:89367-1746696600-1746702000@events.bridgeport.edu
SUMMARY:Fairfield Schools
DESCRIPTION:
URL:https://events.bridgeport.edu/event/fairfield-schools-109/
LOCATION:MAN MAN 9 Campus: Main Campus
CATEGORIES:Community
END:VEVENT
BEGIN:VEVENT
DTSTART;TZID=America/New_York:20250508T110000
DTEND;TZID=America/New_York:20250508T140000
DTSTAMP:20260422T194416
CREATED:20250402T164846Z
LAST-MODIFIED:20250508T164607Z
UID:111797-1746702000-1746712800@events.bridgeport.edu
SUMMARY:Cooking Class Special Instruction - Fairfield Education Schools
DESCRIPTION:
URL:https://events.bridgeport.edu/event/cooking-class-special-instruction-fairfield-education-schools-9/
LOCATION:JCSC Service  Campus: Main Campus
CATEGORIES:Community
END:VEVENT
BEGIN:VEVENT
DTSTART;TZID=America/New_York:20250508T180000
DTEND;TZID=America/New_York:20250508T210000
DTSTAMP:20260422T194416
CREATED:20250402T164859Z
LAST-MODIFIED:20250509T004609Z
UID:111803-1746727200-1746738000@events.bridgeport.edu
SUMMARY:South End NRZ monthly meeting
DESCRIPTION:
URL:https://events.bridgeport.edu/event/south-end-nrz-monthly-meeting-6/
LOCATION:BAUH 111 Campus: Main Campus\, 82 Marina Park Street\, Bridgeport\, CT\, 06604\, United States
CATEGORIES:Community
END:VEVENT
BEGIN:VEVENT
DTSTART;TZID=America/New_York:20250509T093000
DTEND;TZID=America/New_York:20250509T110000
DTSTAMP:20260422T194416
CREATED:20240912T173620Z
LAST-MODIFIED:20250509T144610Z
UID:89368-1746783000-1746788400@events.bridgeport.edu
SUMMARY:Fairfield Schools
DESCRIPTION:
URL:https://events.bridgeport.edu/event/fairfield-schools-110/
LOCATION:MAN MAN 9 Campus: Main Campus
CATEGORIES:Community
END:VEVENT
BEGIN:VEVENT
DTSTART;TZID=America/New_York:20250509T153000
DTEND;TZID=America/New_York:20250509T173000
DTSTAMP:20260422T194416
CREATED:20241114T000959Z
LAST-MODIFIED:20250509T211609Z
UID:96840-1746804600-1746811800@events.bridgeport.edu
SUMMARY:BackCountry Jazz Music Program
DESCRIPTION:
URL:https://events.bridgeport.edu/event/backcountry-jazz-music-program-70/
LOCATION:JCSC 207-209 Campus: Main Campus\, 244 University Avenue\, Bridgeport\, CT\, 06604\, United States
CATEGORIES:Community
END:VEVENT
BEGIN:VEVENT
DTSTART;TZID=America/New_York:20250509T153000
DTEND;TZID=America/New_York:20250509T173000
DTSTAMP:20260422T194416
CREATED:20241114T001000Z
LAST-MODIFIED:20250509T211609Z
UID:96841-1746804600-1746811800@events.bridgeport.edu
SUMMARY:BackCountry Jazz Music Program
DESCRIPTION:
URL:https://events.bridgeport.edu/event/backcountry-jazz-music-program-71/
LOCATION:JCSC Knight S7 Campus: Main Campus
CATEGORIES:Community
END:VEVENT
BEGIN:VEVENT
DTSTART;TZID=America/New_York:20250509T153000
DTEND;TZID=America/New_York:20250509T173000
DTSTAMP:20260422T194416
CREATED:20241114T001000Z
LAST-MODIFIED:20250509T211609Z
UID:96842-1746804600-1746811800@events.bridgeport.edu
SUMMARY:BackCountry Jazz Music Program
DESCRIPTION:
URL:https://events.bridgeport.edu/event/backcountry-jazz-music-program-72/
LOCATION:JCSC 213-215 Campus: Main Campus\, 244 University Avenue\, Bridgeport\, CT\, 06604\, United States
CATEGORIES:Community
END:VEVENT
BEGIN:VEVENT
DTSTART;TZID=America/New_York:20250510T083000
DTEND;TZID=America/New_York:20250510T133000
DTSTAMP:20260422T194416
CREATED:20241220T125323Z
LAST-MODIFIED:20250510T164611Z
UID:100735-1746865800-1746883800@events.bridgeport.edu
SUMMARY:32BJ Training Program
DESCRIPTION:
URL:https://events.bridgeport.edu/event/32bj-training-program-20/
LOCATION:MAN 303 Campus: Main Campus\, 230 Park Avenue\, Bridgeport\, CT\, 06604\, United States
CATEGORIES:Community
END:VEVENT
BEGIN:VEVENT
DTSTART;TZID=America/New_York:20250510T083000
DTEND;TZID=America/New_York:20250510T133000
DTSTAMP:20260422T194416
CREATED:20241220T125323Z
LAST-MODIFIED:20250510T164610Z
UID:100736-1746865800-1746883800@events.bridgeport.edu
SUMMARY:32BJ Training Program
DESCRIPTION:
URL:https://events.bridgeport.edu/event/32bj-training-program-21/
LOCATION:MAN 216 Campus: Main Campus\, 230 Park Avenue\, Bridgeport\, CT\, 06604\, United States
CATEGORIES:Community
END:VEVENT
BEGIN:VEVENT
DTSTART;TZID=America/New_York:20250512T093000
DTEND;TZID=America/New_York:20250512T110000
DTSTAMP:20260422T194416
CREATED:20240912T173621Z
LAST-MODIFIED:20250512T141607Z
UID:89369-1747042200-1747047600@events.bridgeport.edu
SUMMARY:Fairfield Schools
DESCRIPTION:
URL:https://events.bridgeport.edu/event/fairfield-schools-111/
LOCATION:MAN MAN 9 Campus: Main Campus
CATEGORIES:Community
END:VEVENT
BEGIN:VEVENT
DTSTART;TZID=America/New_York:20250513T093000
DTEND;TZID=America/New_York:20250513T110000
DTSTAMP:20260422T194416
CREATED:20240912T173621Z
LAST-MODIFIED:20250513T144609Z
UID:89370-1747128600-1747134000@events.bridgeport.edu
SUMMARY:Fairfield Schools
DESCRIPTION:
URL:https://events.bridgeport.edu/event/fairfield-schools-112/
LOCATION:MAN MAN 9 Campus: Main Campus
CATEGORIES:Community
END:VEVENT
BEGIN:VEVENT
DTSTART;TZID=America/New_York:20250513T110000
DTEND;TZID=America/New_York:20250513T140000
DTSTAMP:20260422T194416
CREATED:20250402T164859Z
LAST-MODIFIED:20250513T171608Z
UID:111804-1747134000-1747144800@events.bridgeport.edu
SUMMARY:Cooking Class Special Instruction - Fairfield Education Schools
DESCRIPTION:
URL:https://events.bridgeport.edu/event/cooking-class-special-instruction-fairfield-education-schools-10/
LOCATION:JCSC Service  Campus: Main Campus
CATEGORIES:Community
END:VEVENT
BEGIN:VEVENT
DTSTART;TZID=America/New_York:20250514T093000
DTEND;TZID=America/New_York:20250514T110000
DTSTAMP:20260422T194416
CREATED:20240912T173621Z
LAST-MODIFIED:20250514T144610Z
UID:89371-1747215000-1747220400@events.bridgeport.edu
SUMMARY:Fairfield Schools
DESCRIPTION:
URL:https://events.bridgeport.edu/event/fairfield-schools-113/
LOCATION:MAN MAN 9 Campus: Main Campus
CATEGORIES:Community
END:VEVENT
BEGIN:VEVENT
DTSTART;TZID=America/New_York:20250515T093000
DTEND;TZID=America/New_York:20250515T110000
DTSTAMP:20260422T194416
CREATED:20240912T173621Z
LAST-MODIFIED:20250515T134612Z
UID:89372-1747301400-1747306800@events.bridgeport.edu
SUMMARY:Fairfield Schools
DESCRIPTION:
URL:https://events.bridgeport.edu/event/fairfield-schools-114/
LOCATION:MAN MAN 9 Campus: Main Campus
CATEGORIES:Community
END:VEVENT
BEGIN:VEVENT
DTSTART;TZID=America/New_York:20250515T110000
DTEND;TZID=America/New_York:20250515T140000
DTSTAMP:20260422T194416
CREATED:20250402T164912Z
LAST-MODIFIED:20250515T174608Z
UID:111806-1747306800-1747317600@events.bridgeport.edu
SUMMARY:Cooking Class Special Instruction - Fairfield Education Schools
DESCRIPTION:
URL:https://events.bridgeport.edu/event/cooking-class-special-instruction-fairfield-education-schools-11/
LOCATION:JCSC Service  Campus: Main Campus
CATEGORIES:Community
END:VEVENT
BEGIN:VEVENT
DTSTART;TZID=America/New_York:20250516T093000
DTEND;TZID=America/New_York:20250516T110000
DTSTAMP:20260422T194416
CREATED:20240913T000822Z
LAST-MODIFIED:20250516T144607Z
UID:89606-1747387800-1747393200@events.bridgeport.edu
SUMMARY:Fairfield Schools
DESCRIPTION:
URL:https://events.bridgeport.edu/event/fairfield-schools-182/
LOCATION:MAN MAN 9 Campus: Main Campus
CATEGORIES:Community
END:VEVENT
BEGIN:VEVENT
DTSTART;TZID=America/New_York:20250516T153000
DTEND;TZID=America/New_York:20250516T173000
DTSTAMP:20260422T194416
CREATED:20241114T001000Z
LAST-MODIFIED:20250516T204610Z
UID:96843-1747409400-1747416600@events.bridgeport.edu
SUMMARY:BackCountry Jazz Music Program
DESCRIPTION:
URL:https://events.bridgeport.edu/event/backcountry-jazz-music-program-73/
LOCATION:JCSC 213-215 Campus: Main Campus\, 244 University Avenue\, Bridgeport\, CT\, 06604\, United States
CATEGORIES:Community
END:VEVENT
BEGIN:VEVENT
DTSTART;TZID=America/New_York:20250516T153000
DTEND;TZID=America/New_York:20250516T173000
DTSTAMP:20260422T194416
CREATED:20241114T001013Z
LAST-MODIFIED:20250516T204610Z
UID:96844-1747409400-1747416600@events.bridgeport.edu
SUMMARY:BackCountry Jazz Music Program
DESCRIPTION:
URL:https://events.bridgeport.edu/event/backcountry-jazz-music-program-74/
LOCATION:JCSC Knight S7 Campus: Main Campus
CATEGORIES:Community
END:VEVENT
BEGIN:VEVENT
DTSTART;TZID=America/New_York:20250516T153000
DTEND;TZID=America/New_York:20250516T173000
DTSTAMP:20260422T194416
CREATED:20241114T001014Z
LAST-MODIFIED:20250516T204610Z
UID:96845-1747409400-1747416600@events.bridgeport.edu
SUMMARY:BackCountry Jazz Music Program
DESCRIPTION:
URL:https://events.bridgeport.edu/event/backcountry-jazz-music-program-75/
LOCATION:JCSC 207-209 Campus: Main Campus\, 244 University Avenue\, Bridgeport\, CT\, 06604\, United States
CATEGORIES:Community
END:VEVENT
END:VCALENDAR