

BEGIN:VCALENDAR
VERSION:2.0
PRODID:-//Campus Events - ECPv6.15.20//NONSGML v1.0//EN
CALSCALE:GREGORIAN
METHOD:PUBLISH
X-ORIGINAL-URL:https://events.bridgeport.edu
X-WR-CALDESC:Events for Campus Events
REFRESH-INTERVAL;VALUE=DURATION:PT1H
X-Robots-Tag:noindex
X-PUBLISHED-TTL:PT1H
BEGIN:VTIMEZONE
TZID:America/New_York
BEGIN:DAYLIGHT
TZOFFSETFROM:-0500
TZOFFSETTO:-0400
TZNAME:EDT
DTSTART:20250309T070000
END:DAYLIGHT
BEGIN:STANDARD
TZOFFSETFROM:-0400
TZOFFSETTO:-0500
TZNAME:EST
DTSTART:20251102T060000
END:STANDARD
BEGIN:DAYLIGHT
TZOFFSETFROM:-0500
TZOFFSETTO:-0400
TZNAME:EDT
DTSTART:20260308T070000
END:DAYLIGHT
BEGIN:STANDARD
TZOFFSETFROM:-0400
TZOFFSETTO:-0500
TZNAME:EST
DTSTART:20261101T060000
END:STANDARD
BEGIN:DAYLIGHT
TZOFFSETFROM:-0500
TZOFFSETTO:-0400
TZNAME:EDT
DTSTART:20270314T070000
END:DAYLIGHT
BEGIN:STANDARD
TZOFFSETFROM:-0400
TZOFFSETTO:-0500
TZNAME:EST
DTSTART:20271107T060000
END:STANDARD
END:VTIMEZONE
BEGIN:VEVENT
DTSTART;TZID=America/New_York:20260606T080000
DTEND;TZID=America/New_York:20260606T160000
DTSTAMP:20260420T130540
CREATED:20260121T001932Z
LAST-MODIFIED:20260223T054909Z
UID:142574-1780732800-1780761600@events.bridgeport.edu
SUMMARY:32BJ Training and ESL Citizenship Courses
DESCRIPTION:
URL:https://events.bridgeport.edu/event/32bj-training-and-esl-citizenship-courses-34/
LOCATION:MAN 303 Campus: Main Campus\, 230 Park Avenue\, Bridgeport\, CT\, 06604\, United States
CATEGORIES:Community
END:VEVENT
BEGIN:VEVENT
DTSTART;TZID=America/New_York:20260606T080000
DTEND;TZID=America/New_York:20260606T160000
DTSTAMP:20260420T130540
CREATED:20260121T001932Z
LAST-MODIFIED:20260223T054909Z
UID:142573-1780732800-1780761600@events.bridgeport.edu
SUMMARY:32BJ Training and ESL Citizenship Courses
DESCRIPTION:
URL:https://events.bridgeport.edu/event/32bj-training-and-esl-citizenship-courses-33/
LOCATION:MAN 216 Campus: Main Campus\, 230 Park Avenue\, Bridgeport\, CT\, 06604\, United States
CATEGORIES:Community
END:VEVENT
BEGIN:VEVENT
DTSTART;TZID=America/New_York:20260607T100000
DTEND;TZID=America/New_York:20260607T200000
DTSTAMP:20260420T130540
CREATED:20260121T001932Z
LAST-MODIFIED:20260223T054909Z
UID:142575-1780826400-1780862400@events.bridgeport.edu
SUMMARY:Thrive: Essence of Dance Spring Recital
DESCRIPTION:
URL:https://events.bridgeport.edu/event/thrive-essence-of-dance-spring-recital-3/
LOCATION:ABC 118 Campus: Main Campus\, 84 Iranistan Avenue\, Bridgeport\, CT\, 06604\, United States
CATEGORIES:Community
END:VEVENT
BEGIN:VEVENT
DTSTART;TZID=America/New_York:20260611T180000
DTEND;TZID=America/New_York:20260611T210000
DTSTAMP:20260420T130540
CREATED:20260202T181951Z
LAST-MODIFIED:20260223T054909Z
UID:144547-1781200800-1781211600@events.bridgeport.edu
SUMMARY:South End: NRZ Meetings
DESCRIPTION:
URL:https://events.bridgeport.edu/event/south-end-nrz-meetings-10/
LOCATION:BAUH 111 Campus: Main Campus\, 82 Marina Park Street\, Bridgeport\, CT\, 06604\, United States
CATEGORIES:Community
END:VEVENT
BEGIN:VEVENT
DTSTART;TZID=America/New_York:20260613T080000
DTEND;TZID=America/New_York:20260613T160000
DTSTAMP:20260420T130540
CREATED:20260121T001933Z
LAST-MODIFIED:20260223T054909Z
UID:142577-1781337600-1781366400@events.bridgeport.edu
SUMMARY:32BJ Training and ESL Citizenship Courses
DESCRIPTION:
URL:https://events.bridgeport.edu/event/32bj-training-and-esl-citizenship-courses-35/
LOCATION:MAN 303 Campus: Main Campus\, 230 Park Avenue\, Bridgeport\, CT\, 06604\, United States
CATEGORIES:Community
END:VEVENT
BEGIN:VEVENT
DTSTART;TZID=America/New_York:20260613T080000
DTEND;TZID=America/New_York:20260613T160000
DTSTAMP:20260420T130540
CREATED:20260121T001933Z
LAST-MODIFIED:20260223T054909Z
UID:142578-1781337600-1781366400@events.bridgeport.edu
SUMMARY:32BJ Training and ESL Citizenship Courses
DESCRIPTION:
URL:https://events.bridgeport.edu/event/32bj-training-and-esl-citizenship-courses-36/
LOCATION:MAN 216 Campus: Main Campus\, 230 Park Avenue\, Bridgeport\, CT\, 06604\, United States
CATEGORIES:Community
END:VEVENT
BEGIN:VEVENT
DTSTART;TZID=America/New_York:20260613T150000
DTEND;TZID=America/New_York:20260613T170000
DTSTAMP:20260420T130540
CREATED:20260121T001933Z
LAST-MODIFIED:20260223T054909Z
UID:142576-1781362800-1781370000@events.bridgeport.edu
SUMMARY:TPDA Spring Dance Recital
DESCRIPTION:
URL:https://events.bridgeport.edu/event/tpda-spring-dance-recital/
LOCATION:ABC 118 Campus: Main Campus\, 84 Iranistan Avenue\, Bridgeport\, CT\, 06604\, United States
CATEGORIES:Community
END:VEVENT
BEGIN:VEVENT
DTSTART;TZID=America/New_York:20260620T080000
DTEND;TZID=America/New_York:20260620T160000
DTSTAMP:20260420T130540
CREATED:20260121T001945Z
LAST-MODIFIED:20260223T054922Z
UID:142589-1781942400-1781971200@events.bridgeport.edu
SUMMARY:32BJ Training and ESL Citizenship Courses
DESCRIPTION:
URL:https://events.bridgeport.edu/event/32bj-training-and-esl-citizenship-courses-37/
LOCATION:MAN 303 Campus: Main Campus\, 230 Park Avenue\, Bridgeport\, CT\, 06604\, United States
CATEGORIES:Community
END:VEVENT
BEGIN:VEVENT
DTSTART;TZID=America/New_York:20260620T080000
DTEND;TZID=America/New_York:20260620T160000
DTSTAMP:20260420T130540
CREATED:20260121T001945Z
LAST-MODIFIED:20260223T054922Z
UID:142590-1781942400-1781971200@events.bridgeport.edu
SUMMARY:32BJ Training and ESL Citizenship Courses
DESCRIPTION:
URL:https://events.bridgeport.edu/event/32bj-training-and-esl-citizenship-courses-38/
LOCATION:MAN 216 Campus: Main Campus\, 230 Park Avenue\, Bridgeport\, CT\, 06604\, United States
CATEGORIES:Community
END:VEVENT
BEGIN:VEVENT
DTSTART;TZID=America/New_York:20260620T100000
DTEND;TZID=America/New_York:20260620T130000
DTSTAMP:20260420T130540
CREATED:20260124T002055Z
LAST-MODIFIED:20260223T054922Z
UID:143471-1781949600-1781960400@events.bridgeport.edu
SUMMARY:Full Circle
DESCRIPTION:
URL:https://events.bridgeport.edu/event/full-circle-3/
LOCATION:MAN 3 Campus: Main Campus\, 230 Park Avenue\, Bridgeport\, CT\, 06604\, United States
CATEGORIES:Community
END:VEVENT
BEGIN:VEVENT
DTSTART;TZID=America/New_York:20260620T100000
DTEND;TZID=America/New_York:20260620T130000
DTSTAMP:20260420T130540
CREATED:20260124T002055Z
LAST-MODIFIED:20260223T054922Z
UID:143472-1781949600-1781960400@events.bridgeport.edu
SUMMARY:Full Circle
DESCRIPTION:
URL:https://events.bridgeport.edu/event/full-circle-4/
LOCATION:MAN 107 Campus: Main Campus\, 230 Park Avenue\, Bridgeport\, CT\, 06604\, United States
CATEGORIES:Community
END:VEVENT
BEGIN:VEVENT
DTSTART;TZID=America/New_York:20260620T100000
DTEND;TZID=America/New_York:20260620T130000
DTSTAMP:20260420T130540
CREATED:20260124T002055Z
LAST-MODIFIED:20260223T054922Z
UID:143470-1781949600-1781960400@events.bridgeport.edu
SUMMARY:Full Circle
DESCRIPTION:
URL:https://events.bridgeport.edu/event/full-circle-2/
LOCATION:MAN 1 Campus: Main Campus\, 230 Park Avenue\, Bridgeport\, CT\, 06604\, United States
CATEGORIES:Community
END:VEVENT
BEGIN:VEVENT
DTSTART;TZID=America/New_York:20260621T140000
DTEND;TZID=America/New_York:20260621T180000
DTSTAMP:20260420T130540
CREATED:20260121T001945Z
LAST-MODIFIED:20260223T054922Z
UID:142591-1782050400-1782064800@events.bridgeport.edu
SUMMARY:Rising Starz Spring Recital
DESCRIPTION:
URL:https://events.bridgeport.edu/event/rising-starz-spring-recital/
LOCATION:ABC 118 Campus: Main Campus\, 84 Iranistan Avenue\, Bridgeport\, CT\, 06604\, United States
CATEGORIES:Community
END:VEVENT
BEGIN:VEVENT
DTSTART;TZID=America/New_York:20260709T180000
DTEND;TZID=America/New_York:20260709T210000
DTSTAMP:20260420T130540
CREATED:20260202T182002Z
LAST-MODIFIED:20260223T054922Z
UID:144548-1783620000-1783630800@events.bridgeport.edu
SUMMARY:South End: NRZ Meetings
DESCRIPTION:
URL:https://events.bridgeport.edu/event/south-end-nrz-meetings-11/
LOCATION:BAUH 111 Campus: Main Campus\, 82 Marina Park Street\, Bridgeport\, CT\, 06604\, United States
CATEGORIES:Community
END:VEVENT
BEGIN:VEVENT
DTSTART;TZID=America/New_York:20260807T170000
DTEND;TZID=America/New_York:20260807T203000
DTSTAMP:20260420T130540
CREATED:20260121T001945Z
LAST-MODIFIED:20260223T054922Z
UID:142592-1786122000-1786134600@events.bridgeport.edu
SUMMARY:SEAT Community Symposium
DESCRIPTION:
URL:https://events.bridgeport.edu/event/seat-community-symposium/
LOCATION:MAN 104 Campus: Main Campus\, 230 Park Avenue\, Bridgeport\, CT\, 06604\, United States
CATEGORIES:Community
END:VEVENT
BEGIN:VEVENT
DTSTART;TZID=America/New_York:20260813T180000
DTEND;TZID=America/New_York:20260813T210000
DTSTAMP:20260420T130540
CREATED:20260202T182002Z
LAST-MODIFIED:20260223T054922Z
UID:144549-1786644000-1786654800@events.bridgeport.edu
SUMMARY:South End: NRZ Meetings
DESCRIPTION:
URL:https://events.bridgeport.edu/event/south-end-nrz-meetings-12/
LOCATION:BAUH 111 Campus: Main Campus\, 82 Marina Park Street\, Bridgeport\, CT\, 06604\, United States
CATEGORIES:Community
END:VEVENT
BEGIN:VEVENT
DTSTART;TZID=America/New_York:20260910T180000
DTEND;TZID=America/New_York:20260910T210000
DTSTAMP:20260420T130540
CREATED:20260202T182002Z
LAST-MODIFIED:20260223T054922Z
UID:144550-1789063200-1789074000@events.bridgeport.edu
SUMMARY:South End: NRZ Meetings
DESCRIPTION:
URL:https://events.bridgeport.edu/event/south-end-nrz-meetings-13/
LOCATION:BAUH 111 Campus: Main Campus\, 82 Marina Park Street\, Bridgeport\, CT\, 06604\, United States
CATEGORIES:Community
END:VEVENT
BEGIN:VEVENT
DTSTART;TZID=America/New_York:20261008T180000
DTEND;TZID=America/New_York:20261008T210000
DTSTAMP:20260420T130540
CREATED:20260202T182002Z
LAST-MODIFIED:20260223T054933Z
UID:144551-1791482400-1791493200@events.bridgeport.edu
SUMMARY:South End: NRZ Meetings
DESCRIPTION:
URL:https://events.bridgeport.edu/event/south-end-nrz-meetings-14/
LOCATION:BAUH 111 Campus: Main Campus\, 82 Marina Park Street\, Bridgeport\, CT\, 06604\, United States
CATEGORIES:Community
END:VEVENT
BEGIN:VEVENT
DTSTART;TZID=America/New_York:20261112T180000
DTEND;TZID=America/New_York:20261112T210000
DTSTAMP:20260420T130540
CREATED:20260202T182014Z
LAST-MODIFIED:20260223T054933Z
UID:144552-1794506400-1794517200@events.bridgeport.edu
SUMMARY:South End: NRZ Meetings
DESCRIPTION:
URL:https://events.bridgeport.edu/event/south-end-nrz-meetings-15/
LOCATION:BAUH 111 Campus: Main Campus\, 82 Marina Park Street\, Bridgeport\, CT\, 06604\, United States
CATEGORIES:Community
END:VEVENT
BEGIN:VEVENT
DTSTART;TZID=America/New_York:20261114T100000
DTEND;TZID=America/New_York:20261114T130000
DTSTAMP:20260420T130540
CREATED:20260124T002055Z
LAST-MODIFIED:20260223T054933Z
UID:143473-1794650400-1794661200@events.bridgeport.edu
SUMMARY:Full Circle
DESCRIPTION:
URL:https://events.bridgeport.edu/event/full-circle-5/
LOCATION:MAN 3 Campus: Main Campus\, 230 Park Avenue\, Bridgeport\, CT\, 06604\, United States
CATEGORIES:Community
END:VEVENT
BEGIN:VEVENT
DTSTART;TZID=America/New_York:20261114T100000
DTEND;TZID=America/New_York:20261114T130000
DTSTAMP:20260420T130540
CREATED:20260124T002055Z
LAST-MODIFIED:20260223T054933Z
UID:143474-1794650400-1794661200@events.bridgeport.edu
SUMMARY:Full Circle
DESCRIPTION:
URL:https://events.bridgeport.edu/event/full-circle-6/
LOCATION:MAN 107 Campus: Main Campus\, 230 Park Avenue\, Bridgeport\, CT\, 06604\, United States
CATEGORIES:Community
END:VEVENT
BEGIN:VEVENT
DTSTART;TZID=America/New_York:20261114T100000
DTEND;TZID=America/New_York:20261114T130000
DTSTAMP:20260420T130540
CREATED:20260124T002055Z
LAST-MODIFIED:20260223T054933Z
UID:143475-1794650400-1794661200@events.bridgeport.edu
SUMMARY:Full Circle
DESCRIPTION:
URL:https://events.bridgeport.edu/event/full-circle-7/
LOCATION:MAN 1 Campus: Main Campus\, 230 Park Avenue\, Bridgeport\, CT\, 06604\, United States
CATEGORIES:Community
END:VEVENT
BEGIN:VEVENT
DTSTART;TZID=America/New_York:20261210T180000
DTEND;TZID=America/New_York:20261210T210000
DTSTAMP:20260420T130540
CREATED:20260202T182014Z
LAST-MODIFIED:20260223T054933Z
UID:144553-1796925600-1796936400@events.bridgeport.edu
SUMMARY:South End: NRZ Meetings
DESCRIPTION:
URL:https://events.bridgeport.edu/event/south-end-nrz-meetings-16/
LOCATION:BAUH 111 Campus: Main Campus\, 82 Marina Park Street\, Bridgeport\, CT\, 06604\, United States
CATEGORIES:Community
END:VEVENT
END:VCALENDAR