

BEGIN:VCALENDAR
VERSION:2.0
PRODID:-//Campus Events - ECPv6.15.20//NONSGML v1.0//EN
CALSCALE:GREGORIAN
METHOD:PUBLISH
X-ORIGINAL-URL:https://events.bridgeport.edu
X-WR-CALDESC:Events for Campus Events
REFRESH-INTERVAL;VALUE=DURATION:PT1H
X-Robots-Tag:noindex
X-PUBLISHED-TTL:PT1H
BEGIN:VTIMEZONE
TZID:America/New_York
BEGIN:DAYLIGHT
TZOFFSETFROM:-0500
TZOFFSETTO:-0400
TZNAME:EDT
DTSTART:20230312T070000
END:DAYLIGHT
BEGIN:STANDARD
TZOFFSETFROM:-0400
TZOFFSETTO:-0500
TZNAME:EST
DTSTART:20231105T060000
END:STANDARD
BEGIN:DAYLIGHT
TZOFFSETFROM:-0500
TZOFFSETTO:-0400
TZNAME:EDT
DTSTART:20240310T070000
END:DAYLIGHT
BEGIN:STANDARD
TZOFFSETFROM:-0400
TZOFFSETTO:-0500
TZNAME:EST
DTSTART:20241103T060000
END:STANDARD
BEGIN:DAYLIGHT
TZOFFSETFROM:-0500
TZOFFSETTO:-0400
TZNAME:EDT
DTSTART:20250309T070000
END:DAYLIGHT
BEGIN:STANDARD
TZOFFSETFROM:-0400
TZOFFSETTO:-0500
TZNAME:EST
DTSTART:20251102T060000
END:STANDARD
END:VTIMEZONE
BEGIN:VEVENT
DTSTART;TZID=America/New_York:20240531T190000
DTEND;TZID=America/New_York:20240531T210000
DTSTAMP:20260421T235401
CREATED:20240515T080327Z
LAST-MODIFIED:20240601T001750Z
UID:76346-1717182000-1717189200@events.bridgeport.edu
SUMMARY:BIA Graduation Ceremony
DESCRIPTION:
URL:https://events.bridgeport.edu/event/bia-graduation-ceremony-7/
LOCATION:JCSC KNIGHT S1 – Social Room Campus: Main Campus
CATEGORIES:Community
END:VEVENT
BEGIN:VEVENT
DTSTART;TZID=America/New_York:20240601T080000
DTEND;TZID=America/New_York:20240601T130000
DTSTAMP:20260421T235401
CREATED:20240403T134956Z
LAST-MODIFIED:20240601T161751Z
UID:71608-1717228800-1717246800@events.bridgeport.edu
SUMMARY:Bridgeport Caribe Youth Leaders Spring Tutoring Program: April 20-June 8th 2024
DESCRIPTION:
URL:https://events.bridgeport.edu/event/bridgeport-caribe-youth-leaders-spring-tutoring-program-april-20-june-8th-2024-56/
LOCATION:MAN 320 Campus: Main Campus\, 230 Park Avenue\, Bridgeport\, CT\, 06604\, United States
CATEGORIES:Community
END:VEVENT
BEGIN:VEVENT
DTSTART;TZID=America/New_York:20240601T080000
DTEND;TZID=America/New_York:20240601T130000
DTSTAMP:20260421T235401
CREATED:20240403T134957Z
LAST-MODIFIED:20240601T161751Z
UID:71610-1717228800-1717246800@events.bridgeport.edu
SUMMARY:Bridgeport Caribe Youth Leaders Spring Tutoring Program: April 20-June 8th 2024
DESCRIPTION:
URL:https://events.bridgeport.edu/event/bridgeport-caribe-youth-leaders-spring-tutoring-program-april-20-june-8th-2024-58/
LOCATION:MAN 321 Campus: Main Campus\, 230 Park Avenue\, Bridgeport\, CT\, 06604\, United States
CATEGORIES:Community
END:VEVENT
BEGIN:VEVENT
DTSTART;TZID=America/New_York:20240601T080000
DTEND;TZID=America/New_York:20240601T130000
DTSTAMP:20260421T235401
CREATED:20240403T134957Z
LAST-MODIFIED:20240419T064932Z
UID:71611-1717228800-1717246800@events.bridgeport.edu
SUMMARY:Bridgeport Caribe Youth Leaders Spring Tutoring Program: April 20-June 8th 2024
DESCRIPTION:
URL:https://events.bridgeport.edu/event/bridgeport-caribe-youth-leaders-spring-tutoring-program-april-20-june-8th-2024-59/
LOCATION:MAN 301 Campus: Main Campus\, 230 Park Avenue\, Bridgeport\, CT\, 06604\, United States
CATEGORIES:Community
END:VEVENT
BEGIN:VEVENT
DTSTART;TZID=America/New_York:20240601T080000
DTEND;TZID=America/New_York:20240601T130000
DTSTAMP:20260421T235401
CREATED:20240403T134957Z
LAST-MODIFIED:20240601T161750Z
UID:71612-1717228800-1717246800@events.bridgeport.edu
SUMMARY:Bridgeport Caribe Youth Leaders Spring Tutoring Program: April 20-June 8th 2024
DESCRIPTION:
URL:https://events.bridgeport.edu/event/bridgeport-caribe-youth-leaders-spring-tutoring-program-april-20-june-8th-2024-60/
LOCATION:MAN 316 Campus: Main Campus\, 230 Park Avenue\, Bridgeport\, CT\, 06604\, United States
CATEGORIES:Community
END:VEVENT
BEGIN:VEVENT
DTSTART;TZID=America/New_York:20240601T080000
DTEND;TZID=America/New_York:20240601T130000
DTSTAMP:20260421T235401
CREATED:20240403T134957Z
LAST-MODIFIED:20240419T064945Z
UID:71613-1717228800-1717246800@events.bridgeport.edu
SUMMARY:Bridgeport Caribe Youth Leaders Spring Tutoring Program: April 20-June 8th 2024
DESCRIPTION:
URL:https://events.bridgeport.edu/event/bridgeport-caribe-youth-leaders-spring-tutoring-program-april-20-june-8th-2024-61/
LOCATION:MAN 303 Campus: Main Campus\, 230 Park Avenue\, Bridgeport\, CT\, 06604\, United States
CATEGORIES:Community
END:VEVENT
BEGIN:VEVENT
DTSTART;TZID=America/New_York:20240601T080000
DTEND;TZID=America/New_York:20240601T130000
DTSTAMP:20260421T235401
CREATED:20240403T134957Z
LAST-MODIFIED:20240601T161750Z
UID:71614-1717228800-1717246800@events.bridgeport.edu
SUMMARY:Bridgeport Caribe Youth Leaders Spring Tutoring Program: April 20-June 8th 2024
DESCRIPTION:
URL:https://events.bridgeport.edu/event/bridgeport-caribe-youth-leaders-spring-tutoring-program-april-20-june-8th-2024-62/
LOCATION:MAN 323 Campus: Main Campus\, 230 Park Avenue\, Bridgeport\, CT\, 06604\, United States
CATEGORIES:Community
END:VEVENT
BEGIN:VEVENT
DTSTART;TZID=America/New_York:20240601T080000
DTEND;TZID=America/New_York:20240601T130000
DTSTAMP:20260421T235401
CREATED:20240403T134957Z
LAST-MODIFIED:20240601T161751Z
UID:71609-1717228800-1717246800@events.bridgeport.edu
SUMMARY:Bridgeport Caribe Youth Leaders Spring Tutoring Program: April 20-June 8th 2024
DESCRIPTION:
URL:https://events.bridgeport.edu/event/bridgeport-caribe-youth-leaders-spring-tutoring-program-april-20-june-8th-2024-57/
LOCATION:MAN 322 Campus: Main Campus\, 230 Park Avenue\, Bridgeport\, CT\, 06604\, United States
CATEGORIES:Community
END:VEVENT
BEGIN:VEVENT
DTSTART;TZID=America/New_York:20240601T080000
DTEND;TZID=America/New_York:20240601T130000
DTSTAMP:20260421T235401
CREATED:20240403T134958Z
LAST-MODIFIED:20240601T161751Z
UID:71615-1717228800-1717246800@events.bridgeport.edu
SUMMARY:Bridgeport Caribe Youth Leaders Spring Tutoring Program: April 20-June 8th 2024
DESCRIPTION:
URL:https://events.bridgeport.edu/event/bridgeport-caribe-youth-leaders-spring-tutoring-program-april-20-june-8th-2024-63/
LOCATION:MAN 319 Campus: Main Campus\, 230 Park Avenue\, Bridgeport\, CT\, 06604\, United States
CATEGORIES:Community
END:VEVENT
BEGIN:VEVENT
DTSTART;TZID=America/New_York:20240601T080000
DTEND;TZID=America/New_York:20240601T130000
DTSTAMP:20260421T235401
CREATED:20240403T134958Z
LAST-MODIFIED:20240524T063315Z
UID:71616-1717228800-1717246800@events.bridgeport.edu
SUMMARY:Bridgeport Caribe Youth Leaders Spring Tutoring Program: April 20-June 8th 2024
DESCRIPTION:
URL:https://events.bridgeport.edu/event/bridgeport-caribe-youth-leaders-spring-tutoring-program-april-20-june-8th-2024-64/
LOCATION:MAN 310 Campus: Main Campus\, 230 Park Avenue\, Bridgeport\, CT\, 06604\, United States
CATEGORIES:Community
END:VEVENT
BEGIN:VEVENT
DTSTART;TZID=America/New_York:20240601T080000
DTEND;TZID=America/New_York:20240601T130000
DTSTAMP:20260421T235401
CREATED:20240403T135009Z
LAST-MODIFIED:20240601T161751Z
UID:71617-1717228800-1717246800@events.bridgeport.edu
SUMMARY:Bridgeport Caribe Youth Leaders Spring Tutoring Program: April 20-June 8th 2024
DESCRIPTION:
URL:https://events.bridgeport.edu/event/bridgeport-caribe-youth-leaders-spring-tutoring-program-april-20-june-8th-2024-65/
LOCATION:MAN 311 Campus: Main Campus\, 230 Park Avenue\, Bridgeport\, CT\, 06604\, United States
CATEGORIES:Community
END:VEVENT
BEGIN:VEVENT
DTSTART;TZID=America/New_York:20240601T080000
DTEND;TZID=America/New_York:20240601T130000
DTSTAMP:20260421T235401
CREATED:20240403T135010Z
LAST-MODIFIED:20240601T161751Z
UID:71618-1717228800-1717246800@events.bridgeport.edu
SUMMARY:Bridgeport Caribe Youth Leaders Spring Tutoring Program: April 20-June 8th 2024
DESCRIPTION:
URL:https://events.bridgeport.edu/event/bridgeport-caribe-youth-leaders-spring-tutoring-program-april-20-june-8th-2024-66/
LOCATION:MAN 318 Campus: Main Campus\, 230 Park Avenue\, Bridgeport\, CT\, 06604\, United States
CATEGORIES:Community
END:VEVENT
BEGIN:VEVENT
DTSTART;TZID=America/New_York:20240601T080000
DTEND;TZID=America/New_York:20240601T130000
DTSTAMP:20260421T235401
CREATED:20240419T075025Z
LAST-MODIFIED:20240601T161751Z
UID:73340-1717228800-1717246800@events.bridgeport.edu
SUMMARY:Bridgeport Caribe Youth Leaders Spring Tutoring Program: April 20-June 8th 2024
DESCRIPTION:
URL:https://events.bridgeport.edu/event/bridgeport-caribe-youth-leaders-spring-tutoring-program-april-20-june-8th-2024-83/
LOCATION:MAN 1 Campus: Main Campus\, 230 Park Avenue\, Bridgeport\, CT\, 06604\, United States
CATEGORIES:Community
END:VEVENT
BEGIN:VEVENT
DTSTART;TZID=America/New_York:20240601T083000
DTEND;TZID=America/New_York:20240601T160000
DTSTAMP:20260421T235401
CREATED:20240105T124856Z
LAST-MODIFIED:20240601T194748Z
UID:60960-1717230600-1717257600@events.bridgeport.edu
SUMMARY:32BJ Benefits Saturday Training Courses
DESCRIPTION:
URL:https://events.bridgeport.edu/event/32bj-benefits-saturday-training-courses-15/
LOCATION:MAN 220 Campus: Main Campus\, 230 Park Avenue\, Bridgeport\, CT\, 06604\, United States
CATEGORIES:Community
END:VEVENT
BEGIN:VEVENT
DTSTART;TZID=America/New_York:20240604T113000
DTEND;TZID=America/New_York:20240604T133000
DTSTAMP:20260421T235401
CREATED:20240603T201752Z
LAST-MODIFIED:20240604T163248Z
UID:78676-1717500600-1717507800@events.bridgeport.edu
SUMMARY:Fairfield Bowling
DESCRIPTION:
URL:https://events.bridgeport.edu/event/fairfield-bowling-15/
LOCATION:JCSC UBowl Campus: Main Campus
CATEGORIES:Community
END:VEVENT
BEGIN:VEVENT
DTSTART;TZID=America/New_York:20240605T083000
DTEND;TZID=America/New_York:20240605T140000
DTSTAMP:20260421T235401
CREATED:20240523T074816Z
LAST-MODIFIED:20240605T171749Z
UID:77490-1717576200-1717596000@events.bridgeport.edu
SUMMARY:J.Harris Academy of Police Training
DESCRIPTION:
URL:https://events.bridgeport.edu/event/j-harris-academy-of-police-training-3/
LOCATION:MAN 220 Campus: Main Campus\, 230 Park Avenue\, Bridgeport\, CT\, 06604\, United States
CATEGORIES:Community
END:VEVENT
BEGIN:VEVENT
DTSTART;TZID=America/New_York:20240606T113000
DTEND;TZID=America/New_York:20240606T133000
DTSTAMP:20260421T235401
CREATED:20240124T175108Z
LAST-MODIFIED:20240603T190253Z
UID:63249-1717673400-1717680600@events.bridgeport.edu
SUMMARY:Fairfield Bowling
DESCRIPTION:
URL:https://events.bridgeport.edu/event/fairfield-bowling-13/
LOCATION:JCSC UBowl Campus: Main Campus
CATEGORIES:Community
END:VEVENT
BEGIN:VEVENT
DTSTART;TZID=America/New_York:20240606T160000
DTEND;TZID=America/New_York:20240606T203000
DTSTAMP:20260421T235401
CREATED:20240426T024920Z
LAST-MODIFIED:20240607T001748Z
UID:74036-1717689600-1717705800@events.bridgeport.edu
SUMMARY:BCYL - Student Pitch
DESCRIPTION:
URL:https://events.bridgeport.edu/event/bcyl-student-pitch/
LOCATION:CARH 153 Campus: Main Campus\, 303 University Avenue\, Bridgeport\, CT\, 06604\, United States
CATEGORIES:Community
END:VEVENT
BEGIN:VEVENT
DTSTART;TZID=America/New_York:20240607T083000
DTEND;TZID=America/New_York:20240607T140000
DTSTAMP:20260421T235401
CREATED:20240522T083317Z
LAST-MODIFIED:20240523T063319Z
UID:77386-1717749000-1717768800@events.bridgeport.edu
SUMMARY:J. Harris Academy of Police Training
DESCRIPTION:
URL:https://events.bridgeport.edu/event/j-harris-academy-of-police-training/
LOCATION:CARH 153 Campus: Main Campus\, 303 University Avenue\, Bridgeport\, CT\, 06604\, United States
CATEGORIES:Community
END:VEVENT
BEGIN:VEVENT
DTSTART;TZID=America/New_York:20240607T083000
DTEND;TZID=America/New_York:20240607T140000
DTSTAMP:20260421T235401
CREATED:20240523T074827Z
LAST-MODIFIED:20240605T193249Z
UID:77491-1717749000-1717768800@events.bridgeport.edu
SUMMARY:J.Harris Academy of Police Training
DESCRIPTION:
URL:https://events.bridgeport.edu/event/j-harris-academy-of-police-training-4/
LOCATION:MAN 220 Campus: Main Campus\, 230 Park Avenue\, Bridgeport\, CT\, 06604\, United States
CATEGORIES:Community
END:VEVENT
BEGIN:VEVENT
DTSTART;TZID=America/New_York:20240607T083000
DTEND;TZID=America/New_York:20240607T140000
DTSTAMP:20260421T235401
CREATED:20240606T000248Z
LAST-MODIFIED:20240607T170249Z
UID:78908-1717749000-1717768800@events.bridgeport.edu
SUMMARY:J.Harris Academy of Police Training
DESCRIPTION:
URL:https://events.bridgeport.edu/event/j-harris-academy-of-police-training-6/
LOCATION:CARH 252 Campus: Main Campus\, 303 University Avenue\, Bridgeport\, CT\, 06604\, United States
CATEGORIES:Community
END:VEVENT
BEGIN:VEVENT
DTSTART;TZID=America/New_York:20240607T100000
DTEND;TZID=America/New_York:20240607T123000
DTSTAMP:20260421T235401
CREATED:20231207T013339Z
LAST-MODIFIED:20240528T190303Z
UID:57712-1717754400-1717763400@events.bridgeport.edu
SUMMARY:Adam J Lewis Academy Set Up Ceremony
DESCRIPTION:
URL:https://events.bridgeport.edu/event/adam-j-lewis-academy-set-up-ceremony/
LOCATION:JCSC KNIGHT S1 – Social Room Campus: Main Campus
CATEGORIES:Community
END:VEVENT
BEGIN:VEVENT
DTSTART;TZID=America/New_York:20240607T100000
DTEND;TZID=America/New_York:20240607T123000
DTSTAMP:20260421T235401
CREATED:20240528T201806Z
LAST-MODIFIED:20240607T160250Z
UID:78074-1717754400-1717763400@events.bridgeport.edu
SUMMARY:Adam J Lewis Academy Step Up Ceremony
DESCRIPTION:
URL:https://events.bridgeport.edu/event/adam-j-lewis-academy-step-up-ceremony/
LOCATION:JCSC KNIGHT S1 – Social Room Campus: Main Campus
CATEGORIES:Community
END:VEVENT
BEGIN:VEVENT
DTSTART;TZID=America/New_York:20240608T080000
DTEND;TZID=America/New_York:20240608T130000
DTSTAMP:20260421T235401
CREATED:20240403T135010Z
LAST-MODIFIED:20240608T154749Z
UID:71620-1717833600-1717851600@events.bridgeport.edu
SUMMARY:Bridgeport Caribe Youth Leaders Spring Tutoring Program: April 20-June 8th 2024
DESCRIPTION:
URL:https://events.bridgeport.edu/event/bridgeport-caribe-youth-leaders-spring-tutoring-program-april-20-june-8th-2024-68/
LOCATION:MAN 322 Campus: Main Campus\, 230 Park Avenue\, Bridgeport\, CT\, 06604\, United States
CATEGORIES:Community
END:VEVENT
BEGIN:VEVENT
DTSTART;TZID=America/New_York:20240608T080000
DTEND;TZID=America/New_York:20240608T130000
DTSTAMP:20260421T235401
CREATED:20240403T135010Z
LAST-MODIFIED:20240524T063326Z
UID:71621-1717833600-1717851600@events.bridgeport.edu
SUMMARY:Bridgeport Caribe Youth Leaders Spring Tutoring Program: April 20-June 8th 2024
DESCRIPTION:
URL:https://events.bridgeport.edu/event/bridgeport-caribe-youth-leaders-spring-tutoring-program-april-20-june-8th-2024-69/
LOCATION:MAN 310 Campus: Main Campus\, 230 Park Avenue\, Bridgeport\, CT\, 06604\, United States
CATEGORIES:Community
END:VEVENT
BEGIN:VEVENT
DTSTART;TZID=America/New_York:20240608T080000
DTEND;TZID=America/New_York:20240608T130000
DTSTAMP:20260421T235401
CREATED:20240403T135010Z
LAST-MODIFIED:20240419T064958Z
UID:71622-1717833600-1717851600@events.bridgeport.edu
SUMMARY:Bridgeport Caribe Youth Leaders Spring Tutoring Program: April 20-June 8th 2024
DESCRIPTION:
URL:https://events.bridgeport.edu/event/bridgeport-caribe-youth-leaders-spring-tutoring-program-april-20-june-8th-2024-70/
LOCATION:MAN 303 Campus: Main Campus\, 230 Park Avenue\, Bridgeport\, CT\, 06604\, United States
CATEGORIES:Community
END:VEVENT
BEGIN:VEVENT
DTSTART;TZID=America/New_York:20240608T080000
DTEND;TZID=America/New_York:20240608T130000
DTSTAMP:20260421T235401
CREATED:20240403T135010Z
LAST-MODIFIED:20240608T154750Z
UID:71619-1717833600-1717851600@events.bridgeport.edu
SUMMARY:Bridgeport Caribe Youth Leaders Spring Tutoring Program: April 20-June 8th 2024
DESCRIPTION:
URL:https://events.bridgeport.edu/event/bridgeport-caribe-youth-leaders-spring-tutoring-program-april-20-june-8th-2024-67/
LOCATION:MAN 318 Campus: Main Campus\, 230 Park Avenue\, Bridgeport\, CT\, 06604\, United States
CATEGORIES:Community
END:VEVENT
BEGIN:VEVENT
DTSTART;TZID=America/New_York:20240608T080000
DTEND;TZID=America/New_York:20240608T130000
DTSTAMP:20260421T235401
CREATED:20240403T135011Z
LAST-MODIFIED:20240608T154750Z
UID:71623-1717833600-1717851600@events.bridgeport.edu
SUMMARY:Bridgeport Caribe Youth Leaders Spring Tutoring Program: April 20-June 8th 2024
DESCRIPTION:
URL:https://events.bridgeport.edu/event/bridgeport-caribe-youth-leaders-spring-tutoring-program-april-20-june-8th-2024-71/
LOCATION:MAN 323 Campus: Main Campus\, 230 Park Avenue\, Bridgeport\, CT\, 06604\, United States
CATEGORIES:Community
END:VEVENT
BEGIN:VEVENT
DTSTART;TZID=America/New_York:20240608T080000
DTEND;TZID=America/New_York:20240608T130000
DTSTAMP:20260421T235401
CREATED:20240403T135022Z
LAST-MODIFIED:20240608T154749Z
UID:71626-1717833600-1717851600@events.bridgeport.edu
SUMMARY:Bridgeport Caribe Youth Leaders Spring Tutoring Program: April 20-June 8th 2024
DESCRIPTION:
URL:https://events.bridgeport.edu/event/bridgeport-caribe-youth-leaders-spring-tutoring-program-april-20-june-8th-2024-74/
LOCATION:MAN 311 Campus: Main Campus\, 230 Park Avenue\, Bridgeport\, CT\, 06604\, United States
CATEGORIES:Community
END:VEVENT
BEGIN:VEVENT
DTSTART;TZID=America/New_York:20240608T080000
DTEND;TZID=America/New_York:20240608T130000
DTSTAMP:20260421T235401
CREATED:20240403T135022Z
LAST-MODIFIED:20240608T154749Z
UID:71624-1717833600-1717851600@events.bridgeport.edu
SUMMARY:Bridgeport Caribe Youth Leaders Spring Tutoring Program: April 20-June 8th 2024
DESCRIPTION:
URL:https://events.bridgeport.edu/event/bridgeport-caribe-youth-leaders-spring-tutoring-program-april-20-june-8th-2024-72/
LOCATION:MAN 316 Campus: Main Campus\, 230 Park Avenue\, Bridgeport\, CT\, 06604\, United States
CATEGORIES:Community
END:VEVENT
END:VCALENDAR