

BEGIN:VCALENDAR
VERSION:2.0
PRODID:-//Campus Events - ECPv6.15.20//NONSGML v1.0//EN
CALSCALE:GREGORIAN
METHOD:PUBLISH
X-ORIGINAL-URL:https://events.bridgeport.edu
X-WR-CALDESC:Events for Campus Events
REFRESH-INTERVAL;VALUE=DURATION:PT1H
X-Robots-Tag:noindex
X-PUBLISHED-TTL:PT1H
BEGIN:VTIMEZONE
TZID:America/New_York
BEGIN:DAYLIGHT
TZOFFSETFROM:-0500
TZOFFSETTO:-0400
TZNAME:EDT
DTSTART:20230312T070000
END:DAYLIGHT
BEGIN:STANDARD
TZOFFSETFROM:-0400
TZOFFSETTO:-0500
TZNAME:EST
DTSTART:20231105T060000
END:STANDARD
BEGIN:DAYLIGHT
TZOFFSETFROM:-0500
TZOFFSETTO:-0400
TZNAME:EDT
DTSTART:20240310T070000
END:DAYLIGHT
BEGIN:STANDARD
TZOFFSETFROM:-0400
TZOFFSETTO:-0500
TZNAME:EST
DTSTART:20241103T060000
END:STANDARD
BEGIN:DAYLIGHT
TZOFFSETFROM:-0500
TZOFFSETTO:-0400
TZNAME:EDT
DTSTART:20250309T070000
END:DAYLIGHT
BEGIN:STANDARD
TZOFFSETFROM:-0400
TZOFFSETTO:-0500
TZNAME:EST
DTSTART:20251102T060000
END:STANDARD
END:VTIMEZONE
BEGIN:VEVENT
DTSTART;TZID=America/New_York:20241016T090000
DTEND;TZID=America/New_York:20241016T110000
DTSTAMP:20260423T014009
CREATED:20241015T200250Z
LAST-MODIFIED:20241016T140251Z
UID:93661-1729069200-1729076400@events.bridgeport.edu
SUMMARY:BIA Class/Senior Picture Day: Green Room
DESCRIPTION:
URL:https://events.bridgeport.edu/event/bia-class-senior-picture-day-green-room/
LOCATION:JCSC 100 Campus: Main Campus\, 244 University Avenue\, Bridgeport\, CT\, 06604\, United States
CATEGORIES:Community
END:VEVENT
BEGIN:VEVENT
DTSTART;TZID=America/New_York:20241016T093000
DTEND;TZID=America/New_York:20241016T110000
DTSTAMP:20260423T014009
CREATED:20240913T000349Z
LAST-MODIFIED:20241016T140251Z
UID:89558-1729071000-1729076400@events.bridgeport.edu
SUMMARY:Fairfield Schools
DESCRIPTION:
URL:https://events.bridgeport.edu/event/fairfield-schools-135/
LOCATION:MAN MAN 9 Campus: Main Campus
CATEGORIES:Community
END:VEVENT
BEGIN:VEVENT
DTSTART;TZID=America/New_York:20241016T150000
DTEND;TZID=America/New_York:20241016T163000
DTSTAMP:20260423T014009
CREATED:20241012T013344Z
LAST-MODIFIED:20241016T201819Z
UID:93269-1729090800-1729096200@events.bridgeport.edu
SUMMARY:CBIA Manufacturing Bus Tour
DESCRIPTION:
URL:https://events.bridgeport.edu/event/cbia-manufacturing-bus-tour/
LOCATION:MAN Weld Wing  Campus: Main Campus
CATEGORIES:Community
END:VEVENT
BEGIN:VEVENT
DTSTART;TZID=America/New_York:20241017T093000
DTEND;TZID=America/New_York:20241017T110000
DTSTAMP:20260423T014009
CREATED:20240912T173340Z
LAST-MODIFIED:20241017T140330Z
UID:89274-1729157400-1729162800@events.bridgeport.edu
SUMMARY:Fairfield Schools
DESCRIPTION:
URL:https://events.bridgeport.edu/event/fairfield-schools-16/
LOCATION:MAN MAN 9 Campus: Main Campus
CATEGORIES:Community
END:VEVENT
BEGIN:VEVENT
DTSTART;TZID=America/New_York:20241017T100000
DTEND;TZID=America/New_York:20241017T130000
DTSTAMP:20260423T014009
CREATED:20241002T024837Z
LAST-MODIFIED:20241017T163249Z
UID:92035-1729159200-1729170000@events.bridgeport.edu
SUMMARY:Flu Clinic: Free flu clinic for UB students\, faculty\, and staff - hosted by Student Affairs
DESCRIPTION:
URL:https://events.bridgeport.edu/event/flu-clinic-free-flu-clinic-for-ub-students-faculty-and-staff-hosted-by-student-affairs/
LOCATION:JCSC 100 Campus: Main Campus\, 244 University Avenue\, Bridgeport\, CT\, 06604\, United States
CATEGORIES:Community
END:VEVENT
BEGIN:VEVENT
DTSTART;TZID=America/New_York:20241017T160000
DTEND;TZID=America/New_York:20241017T180000
DTSTAMP:20260423T014009
CREATED:20240815T013314Z
LAST-MODIFIED:20241017T201749Z
UID:86098-1729180800-1729188000@events.bridgeport.edu
SUMMARY:Turner School of Construction Management 8 Week Program
DESCRIPTION:
URL:https://events.bridgeport.edu/event/turner-school-of-construction-management-8-week-program-5/
LOCATION:MAN 1 Campus: Main Campus\, 230 Park Avenue\, Bridgeport\, CT\, 06604\, United States
CATEGORIES:Community
END:VEVENT
BEGIN:VEVENT
DTSTART;TZID=America/New_York:20241018T093000
DTEND;TZID=America/New_York:20241018T110000
DTSTAMP:20260423T014009
CREATED:20240912T173340Z
LAST-MODIFIED:20241018T140253Z
UID:89275-1729243800-1729249200@events.bridgeport.edu
SUMMARY:Fairfield Schools
DESCRIPTION:
URL:https://events.bridgeport.edu/event/fairfield-schools-17/
LOCATION:MAN MAN 9 Campus: Main Campus
CATEGORIES:Community
END:VEVENT
BEGIN:VEVENT
DTSTART;TZID=America/New_York:20241018T093000
DTEND;TZID=America/New_York:20241018T113000
DTSTAMP:20260423T014009
CREATED:20240918T000339Z
LAST-MODIFIED:20241018T151751Z
UID:90206-1729243800-1729251000@events.bridgeport.edu
SUMMARY:Fairfield Edu Job Skills Training
DESCRIPTION:
URL:https://events.bridgeport.edu/event/fairfield-edu-job-skills-training-4/
LOCATION:MAN 16 Campus: Main Campus\, 230 Park Avenue\, Bridgeport\, CT\, 06604\, United States
CATEGORIES:Community
END:VEVENT
BEGIN:VEVENT
DTSTART;TZID=America/New_York:20241019T080000
DTEND;TZID=America/New_York:20241019T140000
DTSTAMP:20260423T014009
CREATED:20240920T000455Z
LAST-MODIFIED:20241019T171833Z
UID:90495-1729324800-1729346400@events.bridgeport.edu
SUMMARY:BCYL Tutoring
DESCRIPTION:
URL:https://events.bridgeport.edu/event/bcyl-tutoring-115/
LOCATION:MAN 311 Campus: Main Campus\, 230 Park Avenue\, Bridgeport\, CT\, 06604\, United States
CATEGORIES:Community
END:VEVENT
BEGIN:VEVENT
DTSTART;TZID=America/New_York:20241019T080000
DTEND;TZID=America/New_York:20241019T140000
DTSTAMP:20260423T014009
CREATED:20240920T000455Z
LAST-MODIFIED:20241019T171833Z
UID:90491-1729324800-1729346400@events.bridgeport.edu
SUMMARY:BCYL Tutoring
DESCRIPTION:
URL:https://events.bridgeport.edu/event/bcyl-tutoring-111/
LOCATION:MAN 316 Campus: Main Campus\, 230 Park Avenue\, Bridgeport\, CT\, 06604\, United States
CATEGORIES:Community
END:VEVENT
BEGIN:VEVENT
DTSTART;TZID=America/New_York:20241019T080000
DTEND;TZID=America/New_York:20241019T140000
DTSTAMP:20260423T014009
CREATED:20240920T000455Z
LAST-MODIFIED:20241019T171833Z
UID:90492-1729324800-1729346400@events.bridgeport.edu
SUMMARY:BCYL Tutoring
DESCRIPTION:
URL:https://events.bridgeport.edu/event/bcyl-tutoring-112/
LOCATION:MAN 323 Campus: Main Campus\, 230 Park Avenue\, Bridgeport\, CT\, 06604\, United States
CATEGORIES:Community
END:VEVENT
BEGIN:VEVENT
DTSTART;TZID=America/New_York:20241019T080000
DTEND;TZID=America/New_York:20241019T140000
DTSTAMP:20260423T014009
CREATED:20240920T000455Z
LAST-MODIFIED:20241019T171833Z
UID:90493-1729324800-1729346400@events.bridgeport.edu
SUMMARY:BCYL Tutoring
DESCRIPTION:
URL:https://events.bridgeport.edu/event/bcyl-tutoring-113/
LOCATION:MAN 320 Campus: Main Campus\, 230 Park Avenue\, Bridgeport\, CT\, 06604\, United States
CATEGORIES:Community
END:VEVENT
BEGIN:VEVENT
DTSTART;TZID=America/New_York:20241019T080000
DTEND;TZID=America/New_York:20241019T140000
DTSTAMP:20260423T014009
CREATED:20240920T000455Z
LAST-MODIFIED:20241019T171832Z
UID:90494-1729324800-1729346400@events.bridgeport.edu
SUMMARY:BCYL Tutoring
DESCRIPTION:
URL:https://events.bridgeport.edu/event/bcyl-tutoring-114/
LOCATION:MAN 318 Campus: Main Campus\, 230 Park Avenue\, Bridgeport\, CT\, 06604\, United States
CATEGORIES:Community
END:VEVENT
BEGIN:VEVENT
DTSTART;TZID=America/New_York:20241019T080000
DTEND;TZID=America/New_York:20241019T140000
DTSTAMP:20260423T014009
CREATED:20240920T000507Z
LAST-MODIFIED:20241019T171832Z
UID:90496-1729324800-1729346400@events.bridgeport.edu
SUMMARY:BCYL Tutoring
DESCRIPTION:
URL:https://events.bridgeport.edu/event/bcyl-tutoring-116/
LOCATION:MAN 321 Campus: Main Campus\, 230 Park Avenue\, Bridgeport\, CT\, 06604\, United States
CATEGORIES:Community
END:VEVENT
BEGIN:VEVENT
DTSTART;TZID=America/New_York:20241019T080000
DTEND;TZID=America/New_York:20241019T140000
DTSTAMP:20260423T014009
CREATED:20240920T000507Z
LAST-MODIFIED:20241019T171833Z
UID:90497-1729324800-1729346400@events.bridgeport.edu
SUMMARY:BCYL Tutoring
DESCRIPTION:
URL:https://events.bridgeport.edu/event/bcyl-tutoring-117/
LOCATION:MAN 322 Campus: Main Campus\, 230 Park Avenue\, Bridgeport\, CT\, 06604\, United States
CATEGORIES:Community
END:VEVENT
BEGIN:VEVENT
DTSTART;TZID=America/New_York:20241019T080000
DTEND;TZID=America/New_York:20241019T140000
DTSTAMP:20260423T014009
CREATED:20240920T000507Z
LAST-MODIFIED:20240926T013501Z
UID:90498-1729324800-1729346400@events.bridgeport.edu
SUMMARY:BCYL Tutoring
DESCRIPTION:
URL:https://events.bridgeport.edu/event/bcyl-tutoring-118/
LOCATION:MAN 216 Campus: Main Campus\, 230 Park Avenue\, Bridgeport\, CT\, 06604\, United States
CATEGORIES:Community
END:VEVENT
BEGIN:VEVENT
DTSTART;TZID=America/New_York:20241019T080000
DTEND;TZID=America/New_York:20241019T140000
DTSTAMP:20260423T014009
CREATED:20240920T000508Z
LAST-MODIFIED:20241019T171833Z
UID:90500-1729324800-1729346400@events.bridgeport.edu
SUMMARY:BCYL Tutoring
DESCRIPTION:
URL:https://events.bridgeport.edu/event/bcyl-tutoring-120/
LOCATION:MAN 319 Campus: Main Campus\, 230 Park Avenue\, Bridgeport\, CT\, 06604\, United States
CATEGORIES:Community
END:VEVENT
BEGIN:VEVENT
DTSTART;TZID=America/New_York:20241019T080000
DTEND;TZID=America/New_York:20241019T140000
DTSTAMP:20260423T014009
CREATED:20240920T000508Z
LAST-MODIFIED:20241019T171833Z
UID:90499-1729324800-1729346400@events.bridgeport.edu
SUMMARY:BCYL Tutoring
DESCRIPTION:
URL:https://events.bridgeport.edu/event/bcyl-tutoring-119/
LOCATION:MAN 210 Campus: Main Campus\, 230 Park Avenue\, Bridgeport\, CT\, 06604\, United States
CATEGORIES:Community
END:VEVENT
BEGIN:VEVENT
DTSTART;TZID=America/New_York:20241019T083000
DTEND;TZID=America/New_York:20241019T150000
DTSTAMP:20260423T014009
CREATED:20240830T011804Z
LAST-MODIFIED:20240926T013515Z
UID:87702-1729326600-1729350000@events.bridgeport.edu
SUMMARY:B2BJ Training Course
DESCRIPTION:
URL:https://events.bridgeport.edu/event/b2bj-training-course-5/
LOCATION:MAN 220 Campus: Main Campus\, 230 Park Avenue\, Bridgeport\, CT\, 06604\, United States
CATEGORIES:Community
END:VEVENT
BEGIN:VEVENT
DTSTART;TZID=America/New_York:20241019T083000
DTEND;TZID=America/New_York:20241019T150000
DTSTAMP:20260423T014009
CREATED:20240926T024919Z
LAST-MODIFIED:20241019T183251Z
UID:91386-1729326600-1729350000@events.bridgeport.edu
SUMMARY:B2BJ Training Course
DESCRIPTION:
URL:https://events.bridgeport.edu/event/b2bj-training-course-14/
LOCATION:MAN 216 Campus: Main Campus\, 230 Park Avenue\, Bridgeport\, CT\, 06604\, United States
CATEGORIES:Community
END:VEVENT
BEGIN:VEVENT
DTSTART;TZID=America/New_York:20241019T100000
DTEND;TZID=America/New_York:20241019T130000
DTSTAMP:20260423T014009
CREATED:20241008T174926Z
LAST-MODIFIED:20241012T001902Z
UID:92913-1729332000-1729342800@events.bridgeport.edu
SUMMARY:Full Circle Training
DESCRIPTION:
URL:https://events.bridgeport.edu/event/full-circle-training-2/
LOCATION:MAN 107 Campus: Main Campus\, 230 Park Avenue\, Bridgeport\, CT\, 06604\, United States
CATEGORIES:Community
END:VEVENT
BEGIN:VEVENT
DTSTART;TZID=America/New_York:20241019T100000
DTEND;TZID=America/New_York:20241019T150000
DTSTAMP:20260423T014009
CREATED:20241008T063325Z
LAST-MODIFIED:20241008T163329Z
UID:92854-1729332000-1729350000@events.bridgeport.edu
SUMMARY:Full Circle Training
DESCRIPTION:
URL:https://events.bridgeport.edu/event/full-circle-training/
LOCATION:MAN 107 Campus: Main Campus\, 230 Park Avenue\, Bridgeport\, CT\, 06604\, United States
CATEGORIES:Community
END:VEVENT
BEGIN:VEVENT
DTSTART;TZID=America/New_York:20241021T003000
DTEND;TZID=America/New_York:20241021T013000
DTSTAMP:20260423T014009
CREATED:20240930T201857Z
LAST-MODIFIED:20241021T051753Z
UID:91891-1729470600-1729474200@events.bridgeport.edu
SUMMARY:Fairfield Bowling
DESCRIPTION:
URL:https://events.bridgeport.edu/event/fairfield-bowling-32/
LOCATION:JCSC UBowl Campus: Main Campus
CATEGORIES:Community
END:VEVENT
BEGIN:VEVENT
DTSTART;TZID=America/New_York:20241021T093000
DTEND;TZID=America/New_York:20241021T110000
DTSTAMP:20260423T014009
CREATED:20240913T000421Z
LAST-MODIFIED:20241021T140249Z
UID:89559-1729503000-1729508400@events.bridgeport.edu
SUMMARY:Fairfield Schools
DESCRIPTION:
URL:https://events.bridgeport.edu/event/fairfield-schools-136/
LOCATION:MAN MAN 9 Campus: Main Campus
CATEGORIES:Community
END:VEVENT
BEGIN:VEVENT
DTSTART;TZID=America/New_York:20241021T120000
DTEND;TZID=America/New_York:20241021T133000
DTSTAMP:20260423T014009
CREATED:20240830T191813Z
LAST-MODIFIED:20240930T190356Z
UID:87848-1729512000-1729517400@events.bridgeport.edu
SUMMARY:Fairfield Bowling
DESCRIPTION:
URL:https://events.bridgeport.edu/event/fairfield-bowling-21/
LOCATION:JCSC UBowl Campus: Main Campus
CATEGORIES:Community
END:VEVENT
BEGIN:VEVENT
DTSTART;TZID=America/New_York:20241022T093000
DTEND;TZID=America/New_York:20241022T110000
DTSTAMP:20260423T014009
CREATED:20240912T173341Z
LAST-MODIFIED:20241022T134749Z
UID:89276-1729589400-1729594800@events.bridgeport.edu
SUMMARY:Fairfield Schools
DESCRIPTION:
URL:https://events.bridgeport.edu/event/fairfield-schools-18/
LOCATION:MAN MAN 9 Campus: Main Campus
CATEGORIES:Community
END:VEVENT
BEGIN:VEVENT
DTSTART;TZID=America/New_York:20241023T093000
DTEND;TZID=America/New_York:20241023T110000
DTSTAMP:20260423T014009
CREATED:20240913T000421Z
LAST-MODIFIED:20241023T140248Z
UID:89560-1729675800-1729681200@events.bridgeport.edu
SUMMARY:Fairfield Schools
DESCRIPTION:
URL:https://events.bridgeport.edu/event/fairfield-schools-137/
LOCATION:MAN MAN 9 Campus: Main Campus
CATEGORIES:Community
END:VEVENT
BEGIN:VEVENT
DTSTART;TZID=America/New_York:20241024T093000
DTEND;TZID=America/New_York:20241024T110000
DTSTAMP:20260423T014009
CREATED:20240912T173341Z
LAST-MODIFIED:20241024T140303Z
UID:89277-1729762200-1729767600@events.bridgeport.edu
SUMMARY:Fairfield Schools
DESCRIPTION:
URL:https://events.bridgeport.edu/event/fairfield-schools-19/
LOCATION:MAN MAN 9 Campus: Main Campus
CATEGORIES:Community
END:VEVENT
BEGIN:VEVENT
DTSTART;TZID=America/New_York:20241024T113000
DTEND;TZID=America/New_York:20241024T133000
DTSTAMP:20260423T014009
CREATED:20241012T013409Z
LAST-MODIFIED:20241024T163311Z
UID:93270-1729769400-1729776600@events.bridgeport.edu
SUMMARY:Fairfield Schools
DESCRIPTION:
URL:https://events.bridgeport.edu/event/fairfield-schools-195/
LOCATION:WAHL HC – LC2 Campus: Main Campus
CATEGORIES:Community
END:VEVENT
BEGIN:VEVENT
DTSTART;TZID=America/New_York:20241024T160000
DTEND;TZID=America/New_York:20241024T180000
DTSTAMP:20260423T014009
CREATED:20240815T013314Z
LAST-MODIFIED:20241024T201751Z
UID:86099-1729785600-1729792800@events.bridgeport.edu
SUMMARY:Turner School of Construction Management 8 Week Program
DESCRIPTION:
URL:https://events.bridgeport.edu/event/turner-school-of-construction-management-8-week-program-6/
LOCATION:MAN 1 Campus: Main Campus\, 230 Park Avenue\, Bridgeport\, CT\, 06604\, United States
CATEGORIES:Community
END:VEVENT
END:VCALENDAR