

BEGIN:VCALENDAR
VERSION:2.0
PRODID:-//Campus Events - ECPv6.15.20//NONSGML v1.0//EN
CALSCALE:GREGORIAN
METHOD:PUBLISH
X-WR-CALNAME:Campus Events
X-ORIGINAL-URL:https://events.bridgeport.edu
X-WR-CALDESC:Events for Campus Events
REFRESH-INTERVAL;VALUE=DURATION:PT1H
X-Robots-Tag:noindex
X-PUBLISHED-TTL:PT1H
BEGIN:VTIMEZONE
TZID:America/New_York
BEGIN:DAYLIGHT
TZOFFSETFROM:-0500
TZOFFSETTO:-0400
TZNAME:EDT
DTSTART:20240310T070000
END:DAYLIGHT
BEGIN:STANDARD
TZOFFSETFROM:-0400
TZOFFSETTO:-0500
TZNAME:EST
DTSTART:20241103T060000
END:STANDARD
BEGIN:DAYLIGHT
TZOFFSETFROM:-0500
TZOFFSETTO:-0400
TZNAME:EDT
DTSTART:20250309T070000
END:DAYLIGHT
BEGIN:STANDARD
TZOFFSETFROM:-0400
TZOFFSETTO:-0500
TZNAME:EST
DTSTART:20251102T060000
END:STANDARD
BEGIN:DAYLIGHT
TZOFFSETFROM:-0500
TZOFFSETTO:-0400
TZNAME:EDT
DTSTART:20260308T070000
END:DAYLIGHT
BEGIN:STANDARD
TZOFFSETFROM:-0400
TZOFFSETTO:-0500
TZNAME:EST
DTSTART:20261101T060000
END:STANDARD
END:VTIMEZONE
BEGIN:VEVENT
DTSTART;TZID=America/New_York:20250407T093000
DTEND;TZID=America/New_York:20250407T110000
DTSTAMP:20260422T163509
CREATED:20240913T000745Z
LAST-MODIFIED:20250407T134609Z
UID:89597-1744018200-1744023600@events.bridgeport.edu
SUMMARY:Fairfield Schools
DESCRIPTION:
URL:https://events.bridgeport.edu/event/fairfield-schools-173/
LOCATION:MAN MAN 9 Campus: Main Campus
CATEGORIES:Community
END:VEVENT
BEGIN:VEVENT
DTSTART;TZID=America/New_York:20250408T093000
DTEND;TZID=America/New_York:20250408T110000
DTSTAMP:20260422T163509
CREATED:20240912T173608Z
LAST-MODIFIED:20250408T141608Z
UID:89353-1744104600-1744110000@events.bridgeport.edu
SUMMARY:Fairfield Schools
DESCRIPTION:
URL:https://events.bridgeport.edu/event/fairfield-schools-95/
LOCATION:MAN MAN 9 Campus: Main Campus
CATEGORIES:Community
END:VEVENT
BEGIN:VEVENT
DTSTART;TZID=America/New_York:20250408T110000
DTEND;TZID=America/New_York:20250408T140000
DTSTAMP:20260422T163509
CREATED:20250402T164758Z
LAST-MODIFIED:20250408T171608Z
UID:111769-1744110000-1744120800@events.bridgeport.edu
SUMMARY:Cooking Class Special Instruction - Fairfield Education Schools
DESCRIPTION:
URL:https://events.bridgeport.edu/event/cooking-class-special-instruction-fairfield-education-schools-2/
LOCATION:JCSC Service  Campus: Main Campus
CATEGORIES:Community
END:VEVENT
BEGIN:VEVENT
DTSTART;TZID=America/New_York:20250409T093000
DTEND;TZID=America/New_York:20250409T110000
DTSTAMP:20260422T163509
CREATED:20240913T000745Z
LAST-MODIFIED:20250409T144607Z
UID:89598-1744191000-1744196400@events.bridgeport.edu
SUMMARY:Fairfield Schools
DESCRIPTION:
URL:https://events.bridgeport.edu/event/fairfield-schools-174/
LOCATION:MAN MAN 9 Campus: Main Campus
CATEGORIES:Community
END:VEVENT
BEGIN:VEVENT
DTSTART;TZID=America/New_York:20250410T093000
DTEND;TZID=America/New_York:20250410T110000
DTSTAMP:20260422T163509
CREATED:20240912T173609Z
LAST-MODIFIED:20250410T141610Z
UID:89354-1744277400-1744282800@events.bridgeport.edu
SUMMARY:Fairfield Schools
DESCRIPTION:
URL:https://events.bridgeport.edu/event/fairfield-schools-96/
LOCATION:MAN MAN 9 Campus: Main Campus
CATEGORIES:Community
END:VEVENT
BEGIN:VEVENT
DTSTART;TZID=America/New_York:20250410T110000
DTEND;TZID=America/New_York:20250410T140000
DTSTAMP:20260422T163509
CREATED:20250402T164758Z
LAST-MODIFIED:20250410T164608Z
UID:111770-1744282800-1744293600@events.bridgeport.edu
SUMMARY:Cooking Class Special Instruction - Fairfield Education Schools
DESCRIPTION:
URL:https://events.bridgeport.edu/event/cooking-class-special-instruction-fairfield-education-schools-3/
LOCATION:JCSC Service  Campus: Main Campus
CATEGORIES:Community
END:VEVENT
BEGIN:VEVENT
DTSTART;TZID=America/New_York:20250410T180000
DTEND;TZID=America/New_York:20250410T210000
DTSTAMP:20260422T163509
CREATED:20250402T164758Z
LAST-MODIFIED:20250411T004608Z
UID:111772-1744308000-1744318800@events.bridgeport.edu
SUMMARY:South End NRZ monthly meeting
DESCRIPTION:
URL:https://events.bridgeport.edu/event/south-end-nrz-monthly-meeting-5/
LOCATION:BAUH 111 Campus: Main Campus\, 82 Marina Park Street\, Bridgeport\, CT\, 06604\, United States
CATEGORIES:Community
END:VEVENT
BEGIN:VEVENT
DTSTART;TZID=America/New_York:20250411T093000
DTEND;TZID=America/New_York:20250411T110000
DTSTAMP:20260422T163509
CREATED:20240912T173609Z
LAST-MODIFIED:20250411T134609Z
UID:89355-1744363800-1744369200@events.bridgeport.edu
SUMMARY:Fairfield Schools
DESCRIPTION:
URL:https://events.bridgeport.edu/event/fairfield-schools-97/
LOCATION:MAN MAN 9 Campus: Main Campus
CATEGORIES:Community
END:VEVENT
BEGIN:VEVENT
DTSTART;TZID=America/New_York:20250411T153000
DTEND;TZID=America/New_York:20250411T173000
DTSTAMP:20260422T163509
CREATED:20241114T000904Z
LAST-MODIFIED:20250411T204609Z
UID:96828-1744385400-1744392600@events.bridgeport.edu
SUMMARY:BackCountry Jazz Music Program
DESCRIPTION:
URL:https://events.bridgeport.edu/event/backcountry-jazz-music-program-58/
LOCATION:JCSC Knight S7 Campus: Main Campus
CATEGORIES:Community
END:VEVENT
BEGIN:VEVENT
DTSTART;TZID=America/New_York:20250411T153000
DTEND;TZID=America/New_York:20250411T173000
DTSTAMP:20260422T163509
CREATED:20241114T000916Z
LAST-MODIFIED:20250411T204609Z
UID:96829-1744385400-1744392600@events.bridgeport.edu
SUMMARY:BackCountry Jazz Music Program
DESCRIPTION:
URL:https://events.bridgeport.edu/event/backcountry-jazz-music-program-59/
LOCATION:JCSC 213-215 Campus: Main Campus\, 244 University Avenue\, Bridgeport\, CT\, 06604\, United States
CATEGORIES:Community
END:VEVENT
BEGIN:VEVENT
DTSTART;TZID=America/New_York:20250411T153000
DTEND;TZID=America/New_York:20250411T173000
DTSTAMP:20260422T163509
CREATED:20241114T000916Z
LAST-MODIFIED:20250411T204609Z
UID:96830-1744385400-1744392600@events.bridgeport.edu
SUMMARY:BackCountry Jazz Music Program
DESCRIPTION:
URL:https://events.bridgeport.edu/event/backcountry-jazz-music-program-60/
LOCATION:JCSC 207-209 Campus: Main Campus\, 244 University Avenue\, Bridgeport\, CT\, 06604\, United States
CATEGORIES:Community
END:VEVENT
BEGIN:VEVENT
DTSTART;TZID=America/New_York:20250412T083000
DTEND;TZID=America/New_York:20250412T133000
DTSTAMP:20260422T163509
CREATED:20241220T125244Z
LAST-MODIFIED:20250412T164608Z
UID:100732-1744446600-1744464600@events.bridgeport.edu
SUMMARY:32BJ Training Program
DESCRIPTION:
URL:https://events.bridgeport.edu/event/32bj-training-program-17/
LOCATION:MAN 303 Campus: Main Campus\, 230 Park Avenue\, Bridgeport\, CT\, 06604\, United States
CATEGORIES:Community
END:VEVENT
BEGIN:VEVENT
DTSTART;TZID=America/New_York:20250412T083000
DTEND;TZID=America/New_York:20250412T133000
DTSTAMP:20260422T163509
CREATED:20241220T125244Z
LAST-MODIFIED:20250412T164608Z
UID:100731-1744446600-1744464600@events.bridgeport.edu
SUMMARY:32BJ Training Program
DESCRIPTION:
URL:https://events.bridgeport.edu/event/32bj-training-program-16/
LOCATION:MAN 216 Campus: Main Campus\, 230 Park Avenue\, Bridgeport\, CT\, 06604\, United States
CATEGORIES:Community
END:VEVENT
BEGIN:VEVENT
DTSTART;TZID=America/New_York:20250414T093000
DTEND;TZID=America/New_York:20250414T110000
DTSTAMP:20260422T163509
CREATED:20240913T000745Z
LAST-MODIFIED:20250414T144610Z
UID:89599-1744623000-1744628400@events.bridgeport.edu
SUMMARY:Fairfield Schools
DESCRIPTION:
URL:https://events.bridgeport.edu/event/fairfield-schools-175/
LOCATION:MAN MAN 9 Campus: Main Campus
CATEGORIES:Community
END:VEVENT
BEGIN:VEVENT
DTSTART;TZID=America/New_York:20250415T093000
DTEND;TZID=America/New_York:20250415T110000
DTSTAMP:20260422T163509
CREATED:20240912T173609Z
LAST-MODIFIED:20250415T134608Z
UID:89356-1744709400-1744714800@events.bridgeport.edu
SUMMARY:Fairfield Schools
DESCRIPTION:
URL:https://events.bridgeport.edu/event/fairfield-schools-98/
LOCATION:MAN MAN 9 Campus: Main Campus
CATEGORIES:Community
END:VEVENT
BEGIN:VEVENT
DTSTART;TZID=America/New_York:20250416T093000
DTEND;TZID=America/New_York:20250416T110000
DTSTAMP:20260422T163509
CREATED:20240913T000758Z
LAST-MODIFIED:20250416T144609Z
UID:89600-1744795800-1744801200@events.bridgeport.edu
SUMMARY:Fairfield Schools
DESCRIPTION:
URL:https://events.bridgeport.edu/event/fairfield-schools-176/
LOCATION:MAN MAN 9 Campus: Main Campus
CATEGORIES:Community
END:VEVENT
BEGIN:VEVENT
DTSTART;TZID=America/New_York:20250417T093000
DTEND;TZID=America/New_York:20250417T110000
DTSTAMP:20260422T163509
CREATED:20240912T173609Z
LAST-MODIFIED:20250417T141610Z
UID:89357-1744882200-1744887600@events.bridgeport.edu
SUMMARY:Fairfield Schools
DESCRIPTION:
URL:https://events.bridgeport.edu/event/fairfield-schools-99/
LOCATION:MAN MAN 9 Campus: Main Campus
CATEGORIES:Community
END:VEVENT
BEGIN:VEVENT
DTSTART;TZID=America/New_York:20250418T093000
DTEND;TZID=America/New_York:20250418T110000
DTSTAMP:20260422T163509
CREATED:20240912T173609Z
LAST-MODIFIED:20250418T134607Z
UID:89358-1744968600-1744974000@events.bridgeport.edu
SUMMARY:Fairfield Schools
DESCRIPTION:
URL:https://events.bridgeport.edu/event/fairfield-schools-100/
LOCATION:MAN MAN 9 Campus: Main Campus
CATEGORIES:Community
END:VEVENT
BEGIN:VEVENT
DTSTART;TZID=America/New_York:20250418T153000
DTEND;TZID=America/New_York:20250418T173000
DTSTAMP:20260422T163509
CREATED:20241114T000916Z
LAST-MODIFIED:20250418T204607Z
UID:96832-1744990200-1744997400@events.bridgeport.edu
SUMMARY:BackCountry Jazz Music Program
DESCRIPTION:
URL:https://events.bridgeport.edu/event/backcountry-jazz-music-program-62/
LOCATION:JCSC Knight S7 Campus: Main Campus
CATEGORIES:Community
END:VEVENT
BEGIN:VEVENT
DTSTART;TZID=America/New_York:20250418T153000
DTEND;TZID=America/New_York:20250418T173000
DTSTAMP:20260422T163509
CREATED:20241114T000916Z
LAST-MODIFIED:20250418T204607Z
UID:96833-1744990200-1744997400@events.bridgeport.edu
SUMMARY:BackCountry Jazz Music Program
DESCRIPTION:
URL:https://events.bridgeport.edu/event/backcountry-jazz-music-program-63/
LOCATION:JCSC 207-209 Campus: Main Campus\, 244 University Avenue\, Bridgeport\, CT\, 06604\, United States
CATEGORIES:Community
END:VEVENT
BEGIN:VEVENT
DTSTART;TZID=America/New_York:20250418T153000
DTEND;TZID=America/New_York:20250418T173000
DTSTAMP:20260422T163509
CREATED:20241114T000916Z
LAST-MODIFIED:20250418T204607Z
UID:96831-1744990200-1744997400@events.bridgeport.edu
SUMMARY:BackCountry Jazz Music Program
DESCRIPTION:
URL:https://events.bridgeport.edu/event/backcountry-jazz-music-program-61/
LOCATION:JCSC 213-215 Campus: Main Campus\, 244 University Avenue\, Bridgeport\, CT\, 06604\, United States
CATEGORIES:Community
END:VEVENT
BEGIN:VEVENT
DTSTART;TZID=America/New_York:20250421T093000
DTEND;TZID=America/New_York:20250421T110000
DTSTAMP:20260422T163509
CREATED:20240912T173609Z
LAST-MODIFIED:20250421T144608Z
UID:89359-1745227800-1745233200@events.bridgeport.edu
SUMMARY:Fairfield Schools
DESCRIPTION:
URL:https://events.bridgeport.edu/event/fairfield-schools-101/
LOCATION:MAN MAN 9 Campus: Main Campus
CATEGORIES:Community
END:VEVENT
BEGIN:VEVENT
DTSTART;TZID=America/New_York:20250422T093000
DTEND;TZID=America/New_York:20250422T110000
DTSTAMP:20260422T163509
CREATED:20240913T000758Z
LAST-MODIFIED:20250422T134607Z
UID:89601-1745314200-1745319600@events.bridgeport.edu
SUMMARY:Fairfield Schools
DESCRIPTION:
URL:https://events.bridgeport.edu/event/fairfield-schools-177/
LOCATION:MAN MAN 9 Campus: Main Campus
CATEGORIES:Community
END:VEVENT
BEGIN:VEVENT
DTSTART;TZID=America/New_York:20250422T110000
DTEND;TZID=America/New_York:20250422T140000
DTSTAMP:20260422T163509
CREATED:20250402T164822Z
LAST-MODIFIED:20250422T164609Z
UID:111783-1745319600-1745330400@events.bridgeport.edu
SUMMARY:Cooking Class Special Instruction - Fairfield Education Schools
DESCRIPTION:
URL:https://events.bridgeport.edu/event/cooking-class-special-instruction-fairfield-education-schools-4/
LOCATION:JCSC Service  Campus: Main Campus
CATEGORIES:Community
END:VEVENT
BEGIN:VEVENT
DTSTART;TZID=America/New_York:20250423T093000
DTEND;TZID=America/New_York:20250423T110000
DTSTAMP:20260422T163509
CREATED:20240912T173609Z
LAST-MODIFIED:20250423T141609Z
UID:89360-1745400600-1745406000@events.bridgeport.edu
SUMMARY:Fairfield Schools
DESCRIPTION:
URL:https://events.bridgeport.edu/event/fairfield-schools-102/
LOCATION:MAN MAN 9 Campus: Main Campus
CATEGORIES:Community
END:VEVENT
BEGIN:VEVENT
DTSTART;TZID=America/New_York:20250424T093000
DTEND;TZID=America/New_York:20250424T110000
DTSTAMP:20260422T163509
CREATED:20240912T173609Z
LAST-MODIFIED:20250424T134610Z
UID:89361-1745487000-1745492400@events.bridgeport.edu
SUMMARY:Fairfield Schools
DESCRIPTION:
URL:https://events.bridgeport.edu/event/fairfield-schools-103/
LOCATION:MAN MAN 9 Campus: Main Campus
CATEGORIES:Community
END:VEVENT
BEGIN:VEVENT
DTSTART;TZID=America/New_York:20250424T110000
DTEND;TZID=America/New_York:20250424T140000
DTSTAMP:20260422T163509
CREATED:20250402T164822Z
LAST-MODIFIED:20250424T164608Z
UID:111786-1745492400-1745503200@events.bridgeport.edu
SUMMARY:Cooking Class Special Instruction - Fairfield Education Schools
DESCRIPTION:
URL:https://events.bridgeport.edu/event/cooking-class-special-instruction-fairfield-education-schools-5/
LOCATION:JCSC Service  Campus: Main Campus
CATEGORIES:Community
END:VEVENT
BEGIN:VEVENT
DTSTART;TZID=America/New_York:20250425T093000
DTEND;TZID=America/New_York:20250425T110000
DTSTAMP:20260422T163509
CREATED:20240912T173609Z
LAST-MODIFIED:20250425T134607Z
UID:89362-1745573400-1745578800@events.bridgeport.edu
SUMMARY:Fairfield Schools
DESCRIPTION:
URL:https://events.bridgeport.edu/event/fairfield-schools-104/
LOCATION:MAN MAN 9 Campus: Main Campus
CATEGORIES:Community
END:VEVENT
BEGIN:VEVENT
DTSTART;TZID=America/New_York:20250425T153000
DTEND;TZID=America/New_York:20250425T173000
DTSTAMP:20260422T163509
CREATED:20241114T000931Z
LAST-MODIFIED:20250425T204607Z
UID:96834-1745595000-1745602200@events.bridgeport.edu
SUMMARY:BackCountry Jazz Music Program
DESCRIPTION:
URL:https://events.bridgeport.edu/event/backcountry-jazz-music-program-64/
LOCATION:JCSC 207-209 Campus: Main Campus\, 244 University Avenue\, Bridgeport\, CT\, 06604\, United States
CATEGORIES:Community
END:VEVENT
BEGIN:VEVENT
DTSTART;TZID=America/New_York:20250425T153000
DTEND;TZID=America/New_York:20250425T173000
DTSTAMP:20260422T163509
CREATED:20241114T000931Z
LAST-MODIFIED:20250425T204607Z
UID:96835-1745595000-1745602200@events.bridgeport.edu
SUMMARY:BackCountry Jazz Music Program
DESCRIPTION:
URL:https://events.bridgeport.edu/event/backcountry-jazz-music-program-65/
LOCATION:JCSC 213-215 Campus: Main Campus\, 244 University Avenue\, Bridgeport\, CT\, 06604\, United States
CATEGORIES:Community
END:VEVENT
END:VCALENDAR