

BEGIN:VCALENDAR
VERSION:2.0
PRODID:-//Campus Events - ECPv6.15.20//NONSGML v1.0//EN
CALSCALE:GREGORIAN
METHOD:PUBLISH
X-ORIGINAL-URL:https://events.bridgeport.edu
X-WR-CALDESC:Events for Campus Events
REFRESH-INTERVAL;VALUE=DURATION:PT1H
X-Robots-Tag:noindex
X-PUBLISHED-TTL:PT1H
BEGIN:VTIMEZONE
TZID:America/New_York
BEGIN:DAYLIGHT
TZOFFSETFROM:-0500
TZOFFSETTO:-0400
TZNAME:EDT
DTSTART:20230312T070000
END:DAYLIGHT
BEGIN:STANDARD
TZOFFSETFROM:-0400
TZOFFSETTO:-0500
TZNAME:EST
DTSTART:20231105T060000
END:STANDARD
BEGIN:DAYLIGHT
TZOFFSETFROM:-0500
TZOFFSETTO:-0400
TZNAME:EDT
DTSTART:20240310T070000
END:DAYLIGHT
BEGIN:STANDARD
TZOFFSETFROM:-0400
TZOFFSETTO:-0500
TZNAME:EST
DTSTART:20241103T060000
END:STANDARD
BEGIN:DAYLIGHT
TZOFFSETFROM:-0500
TZOFFSETTO:-0400
TZNAME:EDT
DTSTART:20250309T070000
END:DAYLIGHT
BEGIN:STANDARD
TZOFFSETFROM:-0400
TZOFFSETTO:-0500
TZNAME:EST
DTSTART:20251102T060000
END:STANDARD
END:VTIMEZONE
BEGIN:VEVENT
DTSTART;TZID=America/New_York:20241011T093000
DTEND;TZID=America/New_York:20241011T110000
DTSTAMP:20260423T000416
CREATED:20240912T173328Z
LAST-MODIFIED:20241011T140247Z
UID:89271-1728639000-1728644400@events.bridgeport.edu
SUMMARY:Fairfield Schools
DESCRIPTION:
URL:https://events.bridgeport.edu/event/fairfield-schools-13/
LOCATION:MAN MAN 9 Campus: Main Campus
CATEGORIES:Community
END:VEVENT
BEGIN:VEVENT
DTSTART;TZID=America/New_York:20241011T093000
DTEND;TZID=America/New_York:20241011T113000
DTSTAMP:20260423T000416
CREATED:20240918T000327Z
LAST-MODIFIED:20241011T151818Z
UID:90205-1728639000-1728646200@events.bridgeport.edu
SUMMARY:Fairfield Edu Job Skills Training
DESCRIPTION:
URL:https://events.bridgeport.edu/event/fairfield-edu-job-skills-training-3/
LOCATION:MAN 16 Campus: Main Campus\, 230 Park Avenue\, Bridgeport\, CT\, 06604\, United States
CATEGORIES:Community
END:VEVENT
BEGIN:VEVENT
DTSTART;TZID=America/New_York:20241012T080000
DTEND;TZID=America/New_York:20241012T140000
DTSTAMP:20260423T000416
CREATED:20240920T000428Z
LAST-MODIFIED:20241012T173303Z
UID:90481-1728720000-1728741600@events.bridgeport.edu
SUMMARY:BCYL Tutoring
DESCRIPTION:
URL:https://events.bridgeport.edu/event/bcyl-tutoring-101/
LOCATION:MAN 316 Campus: Main Campus\, 230 Park Avenue\, Bridgeport\, CT\, 06604\, United States
CATEGORIES:Community
END:VEVENT
BEGIN:VEVENT
DTSTART;TZID=America/New_York:20241012T080000
DTEND;TZID=America/New_York:20241012T140000
DTSTAMP:20260423T000416
CREATED:20240920T000428Z
LAST-MODIFIED:20241012T173252Z
UID:90482-1728720000-1728741600@events.bridgeport.edu
SUMMARY:BCYL Tutoring
DESCRIPTION:
URL:https://events.bridgeport.edu/event/bcyl-tutoring-102/
LOCATION:MAN 210 Campus: Main Campus\, 230 Park Avenue\, Bridgeport\, CT\, 06604\, United States
CATEGORIES:Community
END:VEVENT
BEGIN:VEVENT
DTSTART;TZID=America/New_York:20241012T080000
DTEND;TZID=America/New_York:20241012T140000
DTSTAMP:20260423T000416
CREATED:20240920T000429Z
LAST-MODIFIED:20241012T173251Z
UID:90484-1728720000-1728741600@events.bridgeport.edu
SUMMARY:BCYL Tutoring
DESCRIPTION:
URL:https://events.bridgeport.edu/event/bcyl-tutoring-104/
LOCATION:MAN 311 Campus: Main Campus\, 230 Park Avenue\, Bridgeport\, CT\, 06604\, United States
CATEGORIES:Community
END:VEVENT
BEGIN:VEVENT
DTSTART;TZID=America/New_York:20241012T080000
DTEND;TZID=America/New_York:20241012T140000
DTSTAMP:20260423T000416
CREATED:20240920T000429Z
LAST-MODIFIED:20240926T013443Z
UID:90483-1728720000-1728741600@events.bridgeport.edu
SUMMARY:BCYL Tutoring
DESCRIPTION:
URL:https://events.bridgeport.edu/event/bcyl-tutoring-103/
LOCATION:MAN 216 Campus: Main Campus\, 230 Park Avenue\, Bridgeport\, CT\, 06604\, United States
CATEGORIES:Community
END:VEVENT
BEGIN:VEVENT
DTSTART;TZID=America/New_York:20241012T080000
DTEND;TZID=America/New_York:20241012T140000
DTSTAMP:20260423T000416
CREATED:20240920T000441Z
LAST-MODIFIED:20241012T173252Z
UID:90485-1728720000-1728741600@events.bridgeport.edu
SUMMARY:BCYL Tutoring
DESCRIPTION:
URL:https://events.bridgeport.edu/event/bcyl-tutoring-105/
LOCATION:MAN 322 Campus: Main Campus\, 230 Park Avenue\, Bridgeport\, CT\, 06604\, United States
CATEGORIES:Community
END:VEVENT
BEGIN:VEVENT
DTSTART;TZID=America/New_York:20241012T080000
DTEND;TZID=America/New_York:20241012T140000
DTSTAMP:20260423T000416
CREATED:20240920T000441Z
LAST-MODIFIED:20241012T173252Z
UID:90486-1728720000-1728741600@events.bridgeport.edu
SUMMARY:BCYL Tutoring
DESCRIPTION:
URL:https://events.bridgeport.edu/event/bcyl-tutoring-106/
LOCATION:MAN 319 Campus: Main Campus\, 230 Park Avenue\, Bridgeport\, CT\, 06604\, United States
CATEGORIES:Community
END:VEVENT
BEGIN:VEVENT
DTSTART;TZID=America/New_York:20241012T080000
DTEND;TZID=America/New_York:20241012T140000
DTSTAMP:20260423T000416
CREATED:20240920T000442Z
LAST-MODIFIED:20241012T173251Z
UID:90489-1728720000-1728741600@events.bridgeport.edu
SUMMARY:BCYL Tutoring
DESCRIPTION:
URL:https://events.bridgeport.edu/event/bcyl-tutoring-109/
LOCATION:MAN 320 Campus: Main Campus\, 230 Park Avenue\, Bridgeport\, CT\, 06604\, United States
CATEGORIES:Community
END:VEVENT
BEGIN:VEVENT
DTSTART;TZID=America/New_York:20241012T080000
DTEND;TZID=America/New_York:20241012T140000
DTSTAMP:20260423T000416
CREATED:20240920T000442Z
LAST-MODIFIED:20241012T173251Z
UID:90490-1728720000-1728741600@events.bridgeport.edu
SUMMARY:BCYL Tutoring
DESCRIPTION:
URL:https://events.bridgeport.edu/event/bcyl-tutoring-110/
LOCATION:MAN 323 Campus: Main Campus\, 230 Park Avenue\, Bridgeport\, CT\, 06604\, United States
CATEGORIES:Community
END:VEVENT
BEGIN:VEVENT
DTSTART;TZID=America/New_York:20241012T080000
DTEND;TZID=America/New_York:20241012T140000
DTSTAMP:20260423T000416
CREATED:20240920T000442Z
LAST-MODIFIED:20241012T173251Z
UID:90487-1728720000-1728741600@events.bridgeport.edu
SUMMARY:BCYL Tutoring
DESCRIPTION:
URL:https://events.bridgeport.edu/event/bcyl-tutoring-107/
LOCATION:MAN 318 Campus: Main Campus\, 230 Park Avenue\, Bridgeport\, CT\, 06604\, United States
CATEGORIES:Community
END:VEVENT
BEGIN:VEVENT
DTSTART;TZID=America/New_York:20241012T080000
DTEND;TZID=America/New_York:20241012T140000
DTSTAMP:20260423T000416
CREATED:20240920T000442Z
LAST-MODIFIED:20241012T173251Z
UID:90488-1728720000-1728741600@events.bridgeport.edu
SUMMARY:BCYL Tutoring
DESCRIPTION:
URL:https://events.bridgeport.edu/event/bcyl-tutoring-108/
LOCATION:MAN 321 Campus: Main Campus\, 230 Park Avenue\, Bridgeport\, CT\, 06604\, United States
CATEGORIES:Community
END:VEVENT
BEGIN:VEVENT
DTSTART;TZID=America/New_York:20241012T080000
DTEND;TZID=America/New_York:20241012T160000
DTSTAMP:20260423T000416
CREATED:20240830T011804Z
LAST-MODIFIED:20240830T181800Z
UID:87700-1728720000-1728748800@events.bridgeport.edu
SUMMARY:32BJ Training
DESCRIPTION:
URL:https://events.bridgeport.edu/event/32bj-training/
LOCATION:MAN 303 Campus: Main Campus\, 230 Park Avenue\, Bridgeport\, CT\, 06604\, United States
CATEGORIES:Community
END:VEVENT
BEGIN:VEVENT
DTSTART;TZID=America/New_York:20241012T083000
DTEND;TZID=America/New_York:20241012T150000
DTSTAMP:20260423T000416
CREATED:20240830T011804Z
LAST-MODIFIED:20240926T013417Z
UID:87699-1728721800-1728745200@events.bridgeport.edu
SUMMARY:B2BJ Training Course
DESCRIPTION:
URL:https://events.bridgeport.edu/event/b2bj-training-course-4/
LOCATION:MAN 220 Campus: Main Campus\, 230 Park Avenue\, Bridgeport\, CT\, 06604\, United States
CATEGORIES:Community
END:VEVENT
BEGIN:VEVENT
DTSTART;TZID=America/New_York:20241012T083000
DTEND;TZID=America/New_York:20241012T150000
DTSTAMP:20260423T000416
CREATED:20240830T191813Z
LAST-MODIFIED:20241012T184755Z
UID:87846-1728721800-1728745200@events.bridgeport.edu
SUMMARY:32BJ Training
DESCRIPTION:
URL:https://events.bridgeport.edu/event/32bj-training-3/
LOCATION:MAN 303 Campus: Main Campus\, 230 Park Avenue\, Bridgeport\, CT\, 06604\, United States
CATEGORIES:Community
END:VEVENT
BEGIN:VEVENT
DTSTART;TZID=America/New_York:20241012T083000
DTEND;TZID=America/New_York:20241012T150000
DTSTAMP:20260423T000416
CREATED:20240926T024854Z
LAST-MODIFIED:20241012T184755Z
UID:91385-1728721800-1728745200@events.bridgeport.edu
SUMMARY:B2BJ Training Course
DESCRIPTION:
URL:https://events.bridgeport.edu/event/b2bj-training-course-13/
LOCATION:MAN 216 Campus: Main Campus\, 230 Park Avenue\, Bridgeport\, CT\, 06604\, United States
CATEGORIES:Community
END:VEVENT
BEGIN:VEVENT
DTSTART;TZID=America/New_York:20241014T003000
DTEND;TZID=America/New_York:20241014T013000
DTSTAMP:20260423T000416
CREATED:20240930T201832Z
LAST-MODIFIED:20241014T051750Z
UID:91890-1728865800-1728869400@events.bridgeport.edu
SUMMARY:Fairfield Bowling
DESCRIPTION:
URL:https://events.bridgeport.edu/event/fairfield-bowling-31/
LOCATION:JCSC UBowl Campus: Main Campus
CATEGORIES:Community
END:VEVENT
BEGIN:VEVENT
DTSTART;TZID=America/New_York:20241014T093000
DTEND;TZID=America/New_York:20241014T110000
DTSTAMP:20260423T000416
CREATED:20240912T173328Z
LAST-MODIFIED:20241014T140251Z
UID:89272-1728898200-1728903600@events.bridgeport.edu
SUMMARY:Fairfield Schools
DESCRIPTION:
URL:https://events.bridgeport.edu/event/fairfield-schools-14/
LOCATION:MAN MAN 9 Campus: Main Campus
CATEGORIES:Community
END:VEVENT
BEGIN:VEVENT
DTSTART;TZID=America/New_York:20241014T120000
DTEND;TZID=America/New_York:20241014T133000
DTSTAMP:20260423T000416
CREATED:20240830T191813Z
LAST-MODIFIED:20240930T190333Z
UID:87847-1728907200-1728912600@events.bridgeport.edu
SUMMARY:Fairfield Bowling
DESCRIPTION:
URL:https://events.bridgeport.edu/event/fairfield-bowling-20/
LOCATION:JCSC UBowl Campus: Main Campus
CATEGORIES:Community
END:VEVENT
BEGIN:VEVENT
DTSTART;TZID=America/New_York:20241015T093000
DTEND;TZID=America/New_York:20241015T110000
DTSTAMP:20260423T000416
CREATED:20240912T173328Z
LAST-MODIFIED:20241015T134831Z
UID:89273-1728984600-1728990000@events.bridgeport.edu
SUMMARY:Fairfield Schools
DESCRIPTION:
URL:https://events.bridgeport.edu/event/fairfield-schools-15/
LOCATION:MAN MAN 9 Campus: Main Campus
CATEGORIES:Community
END:VEVENT
BEGIN:VEVENT
DTSTART;TZID=America/New_York:20241016T090000
DTEND;TZID=America/New_York:20241016T110000
DTSTAMP:20260423T000416
CREATED:20241015T200250Z
LAST-MODIFIED:20241016T140251Z
UID:93661-1729069200-1729076400@events.bridgeport.edu
SUMMARY:BIA Class/Senior Picture Day: Green Room
DESCRIPTION:
URL:https://events.bridgeport.edu/event/bia-class-senior-picture-day-green-room/
LOCATION:JCSC 100 Campus: Main Campus\, 244 University Avenue\, Bridgeport\, CT\, 06604\, United States
CATEGORIES:Community
END:VEVENT
BEGIN:VEVENT
DTSTART;TZID=America/New_York:20241016T093000
DTEND;TZID=America/New_York:20241016T110000
DTSTAMP:20260423T000416
CREATED:20240913T000349Z
LAST-MODIFIED:20241016T140251Z
UID:89558-1729071000-1729076400@events.bridgeport.edu
SUMMARY:Fairfield Schools
DESCRIPTION:
URL:https://events.bridgeport.edu/event/fairfield-schools-135/
LOCATION:MAN MAN 9 Campus: Main Campus
CATEGORIES:Community
END:VEVENT
BEGIN:VEVENT
DTSTART;TZID=America/New_York:20241016T150000
DTEND;TZID=America/New_York:20241016T163000
DTSTAMP:20260423T000416
CREATED:20241012T013344Z
LAST-MODIFIED:20241016T201819Z
UID:93269-1729090800-1729096200@events.bridgeport.edu
SUMMARY:CBIA Manufacturing Bus Tour
DESCRIPTION:
URL:https://events.bridgeport.edu/event/cbia-manufacturing-bus-tour/
LOCATION:MAN Weld Wing  Campus: Main Campus
CATEGORIES:Community
END:VEVENT
BEGIN:VEVENT
DTSTART;TZID=America/New_York:20241017T093000
DTEND;TZID=America/New_York:20241017T110000
DTSTAMP:20260423T000416
CREATED:20240912T173340Z
LAST-MODIFIED:20241017T140330Z
UID:89274-1729157400-1729162800@events.bridgeport.edu
SUMMARY:Fairfield Schools
DESCRIPTION:
URL:https://events.bridgeport.edu/event/fairfield-schools-16/
LOCATION:MAN MAN 9 Campus: Main Campus
CATEGORIES:Community
END:VEVENT
BEGIN:VEVENT
DTSTART;TZID=America/New_York:20241017T100000
DTEND;TZID=America/New_York:20241017T130000
DTSTAMP:20260423T000416
CREATED:20241002T024837Z
LAST-MODIFIED:20241017T163249Z
UID:92035-1729159200-1729170000@events.bridgeport.edu
SUMMARY:Flu Clinic: Free flu clinic for UB students\, faculty\, and staff - hosted by Student Affairs
DESCRIPTION:
URL:https://events.bridgeport.edu/event/flu-clinic-free-flu-clinic-for-ub-students-faculty-and-staff-hosted-by-student-affairs/
LOCATION:JCSC 100 Campus: Main Campus\, 244 University Avenue\, Bridgeport\, CT\, 06604\, United States
CATEGORIES:Community
END:VEVENT
BEGIN:VEVENT
DTSTART;TZID=America/New_York:20241017T160000
DTEND;TZID=America/New_York:20241017T180000
DTSTAMP:20260423T000416
CREATED:20240815T013314Z
LAST-MODIFIED:20241017T201749Z
UID:86098-1729180800-1729188000@events.bridgeport.edu
SUMMARY:Turner School of Construction Management 8 Week Program
DESCRIPTION:
URL:https://events.bridgeport.edu/event/turner-school-of-construction-management-8-week-program-5/
LOCATION:MAN 1 Campus: Main Campus\, 230 Park Avenue\, Bridgeport\, CT\, 06604\, United States
CATEGORIES:Community
END:VEVENT
BEGIN:VEVENT
DTSTART;TZID=America/New_York:20241018T093000
DTEND;TZID=America/New_York:20241018T110000
DTSTAMP:20260423T000416
CREATED:20240912T173340Z
LAST-MODIFIED:20241018T140253Z
UID:89275-1729243800-1729249200@events.bridgeport.edu
SUMMARY:Fairfield Schools
DESCRIPTION:
URL:https://events.bridgeport.edu/event/fairfield-schools-17/
LOCATION:MAN MAN 9 Campus: Main Campus
CATEGORIES:Community
END:VEVENT
BEGIN:VEVENT
DTSTART;TZID=America/New_York:20241018T093000
DTEND;TZID=America/New_York:20241018T113000
DTSTAMP:20260423T000416
CREATED:20240918T000339Z
LAST-MODIFIED:20241018T151751Z
UID:90206-1729243800-1729251000@events.bridgeport.edu
SUMMARY:Fairfield Edu Job Skills Training
DESCRIPTION:
URL:https://events.bridgeport.edu/event/fairfield-edu-job-skills-training-4/
LOCATION:MAN 16 Campus: Main Campus\, 230 Park Avenue\, Bridgeport\, CT\, 06604\, United States
CATEGORIES:Community
END:VEVENT
BEGIN:VEVENT
DTSTART;TZID=America/New_York:20241019T080000
DTEND;TZID=America/New_York:20241019T140000
DTSTAMP:20260423T000416
CREATED:20240920T000455Z
LAST-MODIFIED:20241019T171832Z
UID:90494-1729324800-1729346400@events.bridgeport.edu
SUMMARY:BCYL Tutoring
DESCRIPTION:
URL:https://events.bridgeport.edu/event/bcyl-tutoring-114/
LOCATION:MAN 318 Campus: Main Campus\, 230 Park Avenue\, Bridgeport\, CT\, 06604\, United States
CATEGORIES:Community
END:VEVENT
BEGIN:VEVENT
DTSTART;TZID=America/New_York:20241019T080000
DTEND;TZID=America/New_York:20241019T140000
DTSTAMP:20260423T000416
CREATED:20240920T000455Z
LAST-MODIFIED:20241019T171833Z
UID:90495-1729324800-1729346400@events.bridgeport.edu
SUMMARY:BCYL Tutoring
DESCRIPTION:
URL:https://events.bridgeport.edu/event/bcyl-tutoring-115/
LOCATION:MAN 311 Campus: Main Campus\, 230 Park Avenue\, Bridgeport\, CT\, 06604\, United States
CATEGORIES:Community
END:VEVENT
END:VCALENDAR