

BEGIN:VCALENDAR
VERSION:2.0
PRODID:-//Campus Events - ECPv6.15.20//NONSGML v1.0//EN
CALSCALE:GREGORIAN
METHOD:PUBLISH
X-ORIGINAL-URL:https://events.bridgeport.edu
X-WR-CALDESC:Events for Campus Events
REFRESH-INTERVAL;VALUE=DURATION:PT1H
X-Robots-Tag:noindex
X-PUBLISHED-TTL:PT1H
BEGIN:VTIMEZONE
TZID:America/New_York
BEGIN:DAYLIGHT
TZOFFSETFROM:-0500
TZOFFSETTO:-0400
TZNAME:EDT
DTSTART:20240310T070000
END:DAYLIGHT
BEGIN:STANDARD
TZOFFSETFROM:-0400
TZOFFSETTO:-0500
TZNAME:EST
DTSTART:20241103T060000
END:STANDARD
BEGIN:DAYLIGHT
TZOFFSETFROM:-0500
TZOFFSETTO:-0400
TZNAME:EDT
DTSTART:20250309T070000
END:DAYLIGHT
BEGIN:STANDARD
TZOFFSETFROM:-0400
TZOFFSETTO:-0500
TZNAME:EST
DTSTART:20251102T060000
END:STANDARD
BEGIN:DAYLIGHT
TZOFFSETFROM:-0500
TZOFFSETTO:-0400
TZNAME:EDT
DTSTART:20260308T070000
END:DAYLIGHT
BEGIN:STANDARD
TZOFFSETFROM:-0400
TZOFFSETTO:-0500
TZNAME:EST
DTSTART:20261101T060000
END:STANDARD
END:VTIMEZONE
BEGIN:VEVENT
DTSTART;TZID=America/New_York:20250315T080000
DTEND;TZID=America/New_York:20250315T140000
DTSTAMP:20260422T133304
CREATED:20250111T102110Z
LAST-MODIFIED:20250315T173252Z
UID:103106-1742025600-1742047200@events.bridgeport.edu
SUMMARY:BCYL
DESCRIPTION:
URL:https://events.bridgeport.edu/event/bcyl-95/
LOCATION:MAN 223 Campus: Main Campus\, 230 Park Avenue\, Bridgeport\, CT\, 06604\, United States
CATEGORIES:Community
END:VEVENT
BEGIN:VEVENT
DTSTART;TZID=America/New_York:20250315T080000
DTEND;TZID=America/New_York:20250315T140000
DTSTAMP:20260422T133304
CREATED:20250111T102122Z
LAST-MODIFIED:20250315T173252Z
UID:103107-1742025600-1742047200@events.bridgeport.edu
SUMMARY:BCYL
DESCRIPTION:
URL:https://events.bridgeport.edu/event/bcyl-96/
LOCATION:MAN 222 Campus: Main Campus\, 230 Park Avenue\, Bridgeport\, CT\, 06604\, United States
CATEGORIES:Community
END:VEVENT
BEGIN:VEVENT
DTSTART;TZID=America/New_York:20250315T080000
DTEND;TZID=America/New_York:20250315T140000
DTSTAMP:20260422T133304
CREATED:20250207T204954Z
LAST-MODIFIED:20250315T173252Z
UID:106120-1742025600-1742047200@events.bridgeport.edu
SUMMARY:BCYL
DESCRIPTION:
URL:https://events.bridgeport.edu/event/bcyl-104/
LOCATION:MAN 220 Campus: Main Campus\, 230 Park Avenue\, Bridgeport\, CT\, 06604\, United States
CATEGORIES:Community
END:VEVENT
BEGIN:VEVENT
DTSTART;TZID=America/New_York:20250315T083000
DTEND;TZID=America/New_York:20250315T133000
DTSTAMP:20260422T133304
CREATED:20241220T125154Z
LAST-MODIFIED:20250315T161751Z
UID:100726-1742027400-1742045400@events.bridgeport.edu
SUMMARY:32BJ Training Program
DESCRIPTION:
URL:https://events.bridgeport.edu/event/32bj-training-program-11/
LOCATION:MAN 216 Campus: Main Campus\, 230 Park Avenue\, Bridgeport\, CT\, 06604\, United States
CATEGORIES:Community
END:VEVENT
BEGIN:VEVENT
DTSTART;TZID=America/New_York:20250315T083000
DTEND;TZID=America/New_York:20250315T133000
DTSTAMP:20260422T133304
CREATED:20241220T125155Z
LAST-MODIFIED:20250315T161751Z
UID:100727-1742027400-1742045400@events.bridgeport.edu
SUMMARY:32BJ Training Program
DESCRIPTION:
URL:https://events.bridgeport.edu/event/32bj-training-program-12/
LOCATION:MAN 303 Campus: Main Campus\, 230 Park Avenue\, Bridgeport\, CT\, 06604\, United States
CATEGORIES:Community
END:VEVENT
BEGIN:VEVENT
DTSTART;TZID=America/New_York:20250317T093000
DTEND;TZID=America/New_York:20250317T110000
DTSTAMP:20260422T133304
CREATED:20240913T000717Z
LAST-MODIFIED:20250317T143248Z
UID:89590-1742203800-1742209200@events.bridgeport.edu
SUMMARY:Fairfield Schools
DESCRIPTION:
URL:https://events.bridgeport.edu/event/fairfield-schools-166/
LOCATION:MAN MAN 9 Campus: Main Campus
CATEGORIES:Community
END:VEVENT
BEGIN:VEVENT
DTSTART;TZID=America/New_York:20250318T093000
DTEND;TZID=America/New_York:20250318T110000
DTSTAMP:20260422T133304
CREATED:20240913T000717Z
LAST-MODIFIED:20250318T143248Z
UID:89591-1742290200-1742295600@events.bridgeport.edu
SUMMARY:Fairfield Schools
DESCRIPTION:
URL:https://events.bridgeport.edu/event/fairfield-schools-167/
LOCATION:MAN MAN 9 Campus: Main Campus
CATEGORIES:Community
END:VEVENT
BEGIN:VEVENT
DTSTART;TZID=America/New_York:20250319T093000
DTEND;TZID=America/New_York:20250319T110000
DTSTAMP:20260422T133304
CREATED:20240912T173557Z
LAST-MODIFIED:20250319T140249Z
UID:89345-1742376600-1742382000@events.bridgeport.edu
SUMMARY:Fairfield Schools
DESCRIPTION:
URL:https://events.bridgeport.edu/event/fairfield-schools-87/
LOCATION:MAN MAN 9 Campus: Main Campus
CATEGORIES:Community
END:VEVENT
BEGIN:VEVENT
DTSTART;TZID=America/New_York:20250320T093000
DTEND;TZID=America/New_York:20250320T110000
DTSTAMP:20260422T133304
CREATED:20240913T000731Z
LAST-MODIFIED:20250320T141748Z
UID:89592-1742463000-1742468400@events.bridgeport.edu
SUMMARY:Fairfield Schools
DESCRIPTION:
URL:https://events.bridgeport.edu/event/fairfield-schools-168/
LOCATION:MAN MAN 9 Campus: Main Campus
CATEGORIES:Community
END:VEVENT
BEGIN:VEVENT
DTSTART;TZID=America/New_York:20250321T093000
DTEND;TZID=America/New_York:20250321T110000
DTSTAMP:20260422T133304
CREATED:20240912T173557Z
LAST-MODIFIED:20250321T140250Z
UID:89346-1742549400-1742554800@events.bridgeport.edu
SUMMARY:Fairfield Schools
DESCRIPTION:
URL:https://events.bridgeport.edu/event/fairfield-schools-88/
LOCATION:MAN MAN 9 Campus: Main Campus
CATEGORIES:Community
END:VEVENT
BEGIN:VEVENT
DTSTART;TZID=America/New_York:20250321T153000
DTEND;TZID=America/New_York:20250321T173000
DTSTAMP:20260422T133304
CREATED:20241114T000837Z
LAST-MODIFIED:20250321T194748Z
UID:96819-1742571000-1742578200@events.bridgeport.edu
SUMMARY:BackCountry Jazz Music Program
DESCRIPTION:
URL:https://events.bridgeport.edu/event/backcountry-jazz-music-program-49/
LOCATION:JCSC Knight S7 Campus: Main Campus
CATEGORIES:Community
END:VEVENT
BEGIN:VEVENT
DTSTART;TZID=America/New_York:20250321T153000
DTEND;TZID=America/New_York:20250321T173000
DTSTAMP:20260422T133304
CREATED:20241114T000837Z
LAST-MODIFIED:20250321T194748Z
UID:96820-1742571000-1742578200@events.bridgeport.edu
SUMMARY:BackCountry Jazz Music Program
DESCRIPTION:
URL:https://events.bridgeport.edu/event/backcountry-jazz-music-program-50/
LOCATION:JCSC 213-215 Campus: Main Campus\, 244 University Avenue\, Bridgeport\, CT\, 06604\, United States
CATEGORIES:Community
END:VEVENT
BEGIN:VEVENT
DTSTART;TZID=America/New_York:20250321T153000
DTEND;TZID=America/New_York:20250321T173000
DTSTAMP:20260422T133304
CREATED:20241114T000837Z
LAST-MODIFIED:20250321T194748Z
UID:96821-1742571000-1742578200@events.bridgeport.edu
SUMMARY:BackCountry Jazz Music Program
DESCRIPTION:
URL:https://events.bridgeport.edu/event/backcountry-jazz-music-program-51/
LOCATION:JCSC 207-209 Campus: Main Campus\, 244 University Avenue\, Bridgeport\, CT\, 06604\, United States
CATEGORIES:Community
END:VEVENT
BEGIN:VEVENT
DTSTART;TZID=America/New_York:20250322T080000
DTEND;TZID=America/New_York:20250322T140000
DTSTAMP:20260422T133304
CREATED:20250111T102136Z
LAST-MODIFIED:20250322T171754Z
UID:103108-1742630400-1742652000@events.bridgeport.edu
SUMMARY:BCYL
DESCRIPTION:
URL:https://events.bridgeport.edu/event/bcyl-97/
LOCATION:MAN 222 Campus: Main Campus\, 230 Park Avenue\, Bridgeport\, CT\, 06604\, United States
CATEGORIES:Community
END:VEVENT
BEGIN:VEVENT
DTSTART;TZID=America/New_York:20250322T080000
DTEND;TZID=America/New_York:20250322T140000
DTSTAMP:20260422T133304
CREATED:20250111T102136Z
LAST-MODIFIED:20250322T171754Z
UID:103109-1742630400-1742652000@events.bridgeport.edu
SUMMARY:BCYL
DESCRIPTION:
URL:https://events.bridgeport.edu/event/bcyl-98/
LOCATION:MAN 223 Campus: Main Campus\, 230 Park Avenue\, Bridgeport\, CT\, 06604\, United States
CATEGORIES:Community
END:VEVENT
BEGIN:VEVENT
DTSTART;TZID=America/New_York:20250322T080000
DTEND;TZID=America/New_York:20250322T140000
DTSTAMP:20260422T133304
CREATED:20250207T205006Z
LAST-MODIFIED:20250322T171754Z
UID:106121-1742630400-1742652000@events.bridgeport.edu
SUMMARY:BCYL
DESCRIPTION:
URL:https://events.bridgeport.edu/event/bcyl-105/
LOCATION:MAN 220 Campus: Main Campus\, 230 Park Avenue\, Bridgeport\, CT\, 06604\, United States
CATEGORIES:Community
END:VEVENT
BEGIN:VEVENT
DTSTART;TZID=America/New_York:20250322T083000
DTEND;TZID=America/New_York:20250322T133000
DTSTAMP:20260422T133304
CREATED:20241220T125207Z
LAST-MODIFIED:20250322T171754Z
UID:100728-1742632200-1742650200@events.bridgeport.edu
SUMMARY:32BJ Training Program
DESCRIPTION:
URL:https://events.bridgeport.edu/event/32bj-training-program-13/
LOCATION:MAN 216 Campus: Main Campus\, 230 Park Avenue\, Bridgeport\, CT\, 06604\, United States
CATEGORIES:Community
END:VEVENT
BEGIN:VEVENT
DTSTART;TZID=America/New_York:20250324T093000
DTEND;TZID=America/New_York:20250324T110000
DTSTAMP:20260422T133304
CREATED:20240913T000732Z
LAST-MODIFIED:20250324T141747Z
UID:89593-1742808600-1742814000@events.bridgeport.edu
SUMMARY:Fairfield Schools
DESCRIPTION:
URL:https://events.bridgeport.edu/event/fairfield-schools-169/
LOCATION:MAN MAN 9 Campus: Main Campus
CATEGORIES:Community
END:VEVENT
BEGIN:VEVENT
DTSTART;TZID=America/New_York:20250325T093000
DTEND;TZID=America/New_York:20250325T110000
DTSTAMP:20260422T133304
CREATED:20240913T000732Z
LAST-MODIFIED:20250325T140249Z
UID:89594-1742895000-1742900400@events.bridgeport.edu
SUMMARY:Fairfield Schools
DESCRIPTION:
URL:https://events.bridgeport.edu/event/fairfield-schools-170/
LOCATION:MAN MAN 9 Campus: Main Campus
CATEGORIES:Community
END:VEVENT
BEGIN:VEVENT
DTSTART;TZID=America/New_York:20250326T093000
DTEND;TZID=America/New_York:20250326T110000
DTSTAMP:20260422T133304
CREATED:20240912T173557Z
LAST-MODIFIED:20250326T140248Z
UID:89347-1742981400-1742986800@events.bridgeport.edu
SUMMARY:Fairfield Schools
DESCRIPTION:
URL:https://events.bridgeport.edu/event/fairfield-schools-89/
LOCATION:MAN MAN 9 Campus: Main Campus
CATEGORIES:Community
END:VEVENT
BEGIN:VEVENT
DTSTART;TZID=America/New_York:20250327T093000
DTEND;TZID=America/New_York:20250327T110000
DTSTAMP:20260422T133304
CREATED:20240912T173557Z
LAST-MODIFIED:20250327T141748Z
UID:89348-1743067800-1743073200@events.bridgeport.edu
SUMMARY:Fairfield Schools
DESCRIPTION:
URL:https://events.bridgeport.edu/event/fairfield-schools-90/
LOCATION:MAN MAN 9 Campus: Main Campus
CATEGORIES:Community
END:VEVENT
BEGIN:VEVENT
DTSTART;TZID=America/New_York:20250328T093000
DTEND;TZID=America/New_York:20250328T110000
DTSTAMP:20260422T133304
CREATED:20240912T173557Z
LAST-MODIFIED:20250328T141749Z
UID:89349-1743154200-1743159600@events.bridgeport.edu
SUMMARY:Fairfield Schools
DESCRIPTION:
URL:https://events.bridgeport.edu/event/fairfield-schools-91/
LOCATION:MAN MAN 9 Campus: Main Campus
CATEGORIES:Community
END:VEVENT
BEGIN:VEVENT
DTSTART;TZID=America/New_York:20250328T153000
DTEND;TZID=America/New_York:20250328T173000
DTSTAMP:20260422T133304
CREATED:20241114T000849Z
LAST-MODIFIED:20250328T194747Z
UID:96822-1743175800-1743183000@events.bridgeport.edu
SUMMARY:BackCountry Jazz Music Program
DESCRIPTION:
URL:https://events.bridgeport.edu/event/backcountry-jazz-music-program-52/
LOCATION:JCSC 207-209 Campus: Main Campus\, 244 University Avenue\, Bridgeport\, CT\, 06604\, United States
CATEGORIES:Community
END:VEVENT
BEGIN:VEVENT
DTSTART;TZID=America/New_York:20250328T153000
DTEND;TZID=America/New_York:20250328T173000
DTSTAMP:20260422T133304
CREATED:20241114T000849Z
LAST-MODIFIED:20250328T194747Z
UID:96823-1743175800-1743183000@events.bridgeport.edu
SUMMARY:BackCountry Jazz Music Program
DESCRIPTION:
URL:https://events.bridgeport.edu/event/backcountry-jazz-music-program-53/
LOCATION:JCSC Knight S7 Campus: Main Campus
CATEGORIES:Community
END:VEVENT
BEGIN:VEVENT
DTSTART;TZID=America/New_York:20250328T153000
DTEND;TZID=America/New_York:20250328T173000
DTSTAMP:20260422T133304
CREATED:20241114T000850Z
LAST-MODIFIED:20250328T194747Z
UID:96824-1743175800-1743183000@events.bridgeport.edu
SUMMARY:BackCountry Jazz Music Program
DESCRIPTION:
URL:https://events.bridgeport.edu/event/backcountry-jazz-music-program-54/
LOCATION:JCSC 213-215 Campus: Main Campus\, 244 University Avenue\, Bridgeport\, CT\, 06604\, United States
CATEGORIES:Community
END:VEVENT
BEGIN:VEVENT
DTSTART;TZID=America/New_York:20250328T180000
DTEND;TZID=America/New_York:20250328T200000
DTSTAMP:20260422T133304
CREATED:20250123T000641Z
LAST-MODIFIED:20250124T175108Z
UID:104351-1743184800-1743192000@events.bridgeport.edu
SUMMARY:ARV-RYSAP Community Conversations
DESCRIPTION:
URL:https://events.bridgeport.edu/event/arv-rysap-community-conversations-3/
LOCATION:WAHL HC Main Area  Campus: Main Campus
CATEGORIES:Community
END:VEVENT
BEGIN:VEVENT
DTSTART;TZID=America/New_York:20250328T180000
DTEND;TZID=America/New_York:20250328T200000
DTSTAMP:20260422T133304
CREATED:20250124T190645Z
LAST-MODIFIED:20250328T194747Z
UID:104581-1743184800-1743192000@events.bridgeport.edu
SUMMARY:ARV-Catalyst CT: Community Conversations
DESCRIPTION:
URL:https://events.bridgeport.edu/event/arv-catalyst-ct-community-conversations-3/
LOCATION:WAHL HC Main Area  Campus: Main Campus
CATEGORIES:Community
END:VEVENT
BEGIN:VEVENT
DTSTART;TZID=America/New_York:20250329T083000
DTEND;TZID=America/New_York:20250329T133000
DTSTAMP:20260422T133304
CREATED:20241220T125219Z
LAST-MODIFIED:20250329T171751Z
UID:100729-1743237000-1743255000@events.bridgeport.edu
SUMMARY:32BJ Training Program
DESCRIPTION:
URL:https://events.bridgeport.edu/event/32bj-training-program-14/
LOCATION:MAN 216 Campus: Main Campus\, 230 Park Avenue\, Bridgeport\, CT\, 06604\, United States
CATEGORIES:Community
END:VEVENT
BEGIN:VEVENT
DTSTART;TZID=America/New_York:20250331T093000
DTEND;TZID=America/New_York:20250331T110000
DTSTAMP:20260422T133304
CREATED:20240912T173557Z
LAST-MODIFIED:20250331T140247Z
UID:89350-1743413400-1743418800@events.bridgeport.edu
SUMMARY:Fairfield Schools
DESCRIPTION:
URL:https://events.bridgeport.edu/event/fairfield-schools-92/
LOCATION:MAN MAN 9 Campus: Main Campus
CATEGORIES:Community
END:VEVENT
BEGIN:VEVENT
DTSTART;TZID=America/New_York:20250401T093000
DTEND;TZID=America/New_York:20250401T110000
DTSTAMP:20260422T133304
CREATED:20240912T173557Z
LAST-MODIFIED:20250401T141750Z
UID:89351-1743499800-1743505200@events.bridgeport.edu
SUMMARY:Fairfield Schools
DESCRIPTION:
URL:https://events.bridgeport.edu/event/fairfield-schools-93/
LOCATION:MAN MAN 9 Campus: Main Campus
CATEGORIES:Community
END:VEVENT
END:VCALENDAR