

BEGIN:VCALENDAR
VERSION:2.0
PRODID:-//Campus Events - ECPv6.15.20//NONSGML v1.0//EN
CALSCALE:GREGORIAN
METHOD:PUBLISH
X-WR-CALNAME:Campus Events
X-ORIGINAL-URL:https://events.bridgeport.edu
X-WR-CALDESC:Events for Campus Events
REFRESH-INTERVAL;VALUE=DURATION:PT1H
X-Robots-Tag:noindex
X-PUBLISHED-TTL:PT1H
BEGIN:VTIMEZONE
TZID:America/New_York
BEGIN:DAYLIGHT
TZOFFSETFROM:-0500
TZOFFSETTO:-0400
TZNAME:EDT
DTSTART:20230312T070000
END:DAYLIGHT
BEGIN:STANDARD
TZOFFSETFROM:-0400
TZOFFSETTO:-0500
TZNAME:EST
DTSTART:20231105T060000
END:STANDARD
BEGIN:DAYLIGHT
TZOFFSETFROM:-0500
TZOFFSETTO:-0400
TZNAME:EDT
DTSTART:20240310T070000
END:DAYLIGHT
BEGIN:STANDARD
TZOFFSETFROM:-0400
TZOFFSETTO:-0500
TZNAME:EST
DTSTART:20241103T060000
END:STANDARD
BEGIN:DAYLIGHT
TZOFFSETFROM:-0500
TZOFFSETTO:-0400
TZNAME:EDT
DTSTART:20250309T070000
END:DAYLIGHT
BEGIN:STANDARD
TZOFFSETFROM:-0400
TZOFFSETTO:-0500
TZNAME:EST
DTSTART:20251102T060000
END:STANDARD
END:VTIMEZONE
BEGIN:VEVENT
DTSTART;TZID=America/New_York:20240810T083000
DTEND;TZID=America/New_York:20240810T140000
DTSTAMP:20260422T224144
CREATED:20240610T201032Z
LAST-MODIFIED:20240810T173250Z
UID:79485-1723278600-1723298400@events.bridgeport.edu
SUMMARY:Bridgeport Caribe Youth Leaders Saturday Summer Tutoring 2024
DESCRIPTION:
URL:https://events.bridgeport.edu/event/bridgeport-caribe-youth-leaders-saturday-summer-tutoring-2024-33/
LOCATION:MAN 318 Campus: Main Campus\, 230 Park Avenue\, Bridgeport\, CT\, 06604\, United States
CATEGORIES:Community
END:VEVENT
BEGIN:VEVENT
DTSTART;TZID=America/New_York:20240810T083000
DTEND;TZID=America/New_York:20240810T140000
DTSTAMP:20260422T224144
CREATED:20240610T201032Z
LAST-MODIFIED:20240810T173249Z
UID:79486-1723278600-1723298400@events.bridgeport.edu
SUMMARY:Bridgeport Caribe Youth Leaders Saturday Summer Tutoring 2024
DESCRIPTION:
URL:https://events.bridgeport.edu/event/bridgeport-caribe-youth-leaders-saturday-summer-tutoring-2024-34/
LOCATION:MAN 316 Campus: Main Campus\, 230 Park Avenue\, Bridgeport\, CT\, 06604\, United States
CATEGORIES:Community
END:VEVENT
BEGIN:VEVENT
DTSTART;TZID=America/New_York:20240813T083000
DTEND;TZID=America/New_York:20240813T140000
DTSTAMP:20260422T224144
CREATED:20240610T201032Z
LAST-MODIFIED:20240813T164748Z
UID:79488-1723537800-1723557600@events.bridgeport.edu
SUMMARY:Bridgeport Caribe Youth Leaders S.U.C.C.E.S.S Summer Program
DESCRIPTION:
URL:https://events.bridgeport.edu/event/bridgeport-caribe-youth-leaders-s-u-c-c-e-s-s-summer-program-11/
LOCATION:MAN 301 Campus: Main Campus\, 230 Park Avenue\, Bridgeport\, CT\, 06604\, United States
CATEGORIES:Community
END:VEVENT
BEGIN:VEVENT
DTSTART;TZID=America/New_York:20240815T083000
DTEND;TZID=America/New_York:20240815T140000
DTSTAMP:20260422T224144
CREATED:20240610T201033Z
LAST-MODIFIED:20240815T173250Z
UID:79489-1723710600-1723730400@events.bridgeport.edu
SUMMARY:Bridgeport Caribe Youth Leaders S.U.C.C.E.S.S Summer Program
DESCRIPTION:
URL:https://events.bridgeport.edu/event/bridgeport-caribe-youth-leaders-s-u-c-c-e-s-s-summer-program-12/
LOCATION:MAN 301 Campus: Main Campus\, 230 Park Avenue\, Bridgeport\, CT\, 06604\, United States
CATEGORIES:Community
END:VEVENT
BEGIN:VEVENT
DTSTART;TZID=America/New_York:20240817T083000
DTEND;TZID=America/New_York:20240817T140000
DTSTAMP:20260422T224144
CREATED:20240610T201033Z
LAST-MODIFIED:20240817T170306Z
UID:79492-1723883400-1723903200@events.bridgeport.edu
SUMMARY:Bridgeport Caribe Youth Leaders Summer Tutoring 2024
DESCRIPTION:
URL:https://events.bridgeport.edu/event/bridgeport-caribe-youth-leaders-summer-tutoring-2024-12/
LOCATION:MAN 220 Campus: Main Campus\, 230 Park Avenue\, Bridgeport\, CT\, 06604\, United States
CATEGORIES:Community
END:VEVENT
BEGIN:VEVENT
DTSTART;TZID=America/New_York:20240817T083000
DTEND;TZID=America/New_York:20240817T140000
DTSTAMP:20260422T224144
CREATED:20240610T201033Z
LAST-MODIFIED:20240817T170253Z
UID:79493-1723883400-1723903200@events.bridgeport.edu
SUMMARY:Bridgeport Caribe Youth Leaders Saturday Summer Tutoring 2024
DESCRIPTION:
URL:https://events.bridgeport.edu/event/bridgeport-caribe-youth-leaders-saturday-summer-tutoring-2024-37/
LOCATION:MAN 321 Campus: Main Campus\, 230 Park Avenue\, Bridgeport\, CT\, 06604\, United States
CATEGORIES:Community
END:VEVENT
BEGIN:VEVENT
DTSTART;TZID=America/New_York:20240817T083000
DTEND;TZID=America/New_York:20240817T140000
DTSTAMP:20260422T224144
CREATED:20240610T201033Z
LAST-MODIFIED:20240817T170253Z
UID:79490-1723883400-1723903200@events.bridgeport.edu
SUMMARY:Bridgeport Caribe Youth Leaders Summer Tutoring 2024
DESCRIPTION:
URL:https://events.bridgeport.edu/event/bridgeport-caribe-youth-leaders-summer-tutoring-2024-11/
LOCATION:MAN 218 Campus: Main Campus\, 230 Park Avenue\, Bridgeport\, CT\, 06604\, United States
CATEGORIES:Community
END:VEVENT
BEGIN:VEVENT
DTSTART;TZID=America/New_York:20240817T083000
DTEND;TZID=America/New_York:20240817T140000
DTSTAMP:20260422T224144
CREATED:20240610T201033Z
LAST-MODIFIED:20240817T170253Z
UID:79491-1723883400-1723903200@events.bridgeport.edu
SUMMARY:Bridgeport Caribe Youth Leaders Saturday Summer Tutoring 2024
DESCRIPTION:
URL:https://events.bridgeport.edu/event/bridgeport-caribe-youth-leaders-saturday-summer-tutoring-2024-36/
LOCATION:MAN 316 Campus: Main Campus\, 230 Park Avenue\, Bridgeport\, CT\, 06604\, United States
CATEGORIES:Community
END:VEVENT
BEGIN:VEVENT
DTSTART;TZID=America/New_York:20240817T083000
DTEND;TZID=America/New_York:20240817T140000
DTSTAMP:20260422T224144
CREATED:20240610T201044Z
LAST-MODIFIED:20240817T170253Z
UID:79497-1723883400-1723903200@events.bridgeport.edu
SUMMARY:Bridgeport Caribe Youth Leaders Saturday Summer Tutoring 2024
DESCRIPTION:
URL:https://events.bridgeport.edu/event/bridgeport-caribe-youth-leaders-saturday-summer-tutoring-2024-41/
LOCATION:MAN 320 Campus: Main Campus\, 230 Park Avenue\, Bridgeport\, CT\, 06604\, United States
CATEGORIES:Community
END:VEVENT
BEGIN:VEVENT
DTSTART;TZID=America/New_York:20240817T083000
DTEND;TZID=America/New_York:20240817T140000
DTSTAMP:20260422T224144
CREATED:20240610T201044Z
LAST-MODIFIED:20240817T170253Z
UID:79498-1723883400-1723903200@events.bridgeport.edu
SUMMARY:Bridgeport Caribe Youth Leaders Saturday Summer Tutoring 2024
DESCRIPTION:
URL:https://events.bridgeport.edu/event/bridgeport-caribe-youth-leaders-saturday-summer-tutoring-2024-42/
LOCATION:MAN 311 Campus: Main Campus\, 230 Park Avenue\, Bridgeport\, CT\, 06604\, United States
CATEGORIES:Community
END:VEVENT
BEGIN:VEVENT
DTSTART;TZID=America/New_York:20240817T083000
DTEND;TZID=America/New_York:20240817T140000
DTSTAMP:20260422T224144
CREATED:20240610T201044Z
LAST-MODIFIED:20240817T170253Z
UID:79494-1723883400-1723903200@events.bridgeport.edu
SUMMARY:Bridgeport Caribe Youth Leaders Saturday Summer Tutoring 2024
DESCRIPTION:
URL:https://events.bridgeport.edu/event/bridgeport-caribe-youth-leaders-saturday-summer-tutoring-2024-38/
LOCATION:MAN 319 Campus: Main Campus\, 230 Park Avenue\, Bridgeport\, CT\, 06604\, United States
CATEGORIES:Community
END:VEVENT
BEGIN:VEVENT
DTSTART;TZID=America/New_York:20240817T083000
DTEND;TZID=America/New_York:20240817T140000
DTSTAMP:20260422T224144
CREATED:20240610T201044Z
LAST-MODIFIED:20240817T170253Z
UID:79495-1723883400-1723903200@events.bridgeport.edu
SUMMARY:Bridgeport Caribe Youth Leaders Saturday Summer Tutoring 2024
DESCRIPTION:
URL:https://events.bridgeport.edu/event/bridgeport-caribe-youth-leaders-saturday-summer-tutoring-2024-39/
LOCATION:MAN 318 Campus: Main Campus\, 230 Park Avenue\, Bridgeport\, CT\, 06604\, United States
CATEGORIES:Community
END:VEVENT
BEGIN:VEVENT
DTSTART;TZID=America/New_York:20240817T083000
DTEND;TZID=America/New_York:20240817T140000
DTSTAMP:20260422T224144
CREATED:20240610T201044Z
LAST-MODIFIED:20240817T170253Z
UID:79496-1723883400-1723903200@events.bridgeport.edu
SUMMARY:Bridgeport Caribe Youth Leaders Saturday Summer Tutoring 2024
DESCRIPTION:
URL:https://events.bridgeport.edu/event/bridgeport-caribe-youth-leaders-saturday-summer-tutoring-2024-40/
LOCATION:MAN 322 Campus: Main Campus\, 230 Park Avenue\, Bridgeport\, CT\, 06604\, United States
CATEGORIES:Community
END:VEVENT
BEGIN:VEVENT
DTSTART;TZID=America/New_York:20240817T100000
DTEND;TZID=America/New_York:20240817T133000
DTSTAMP:20260422T224144
CREATED:20240723T200439Z
LAST-MODIFIED:20240817T170253Z
UID:83746-1723888800-1723901400@events.bridgeport.edu
SUMMARY:Full Circle Youth Development
DESCRIPTION:
URL:https://events.bridgeport.edu/event/full-circle-youth-development/
LOCATION:MAN 107 Campus: Main Campus\, 230 Park Avenue\, Bridgeport\, CT\, 06604\, United States
CATEGORIES:Community
END:VEVENT
BEGIN:VEVENT
DTSTART;TZID=America/New_York:20240817T100000
DTEND;TZID=America/New_York:20240817T133000
DTSTAMP:20260422T224144
CREATED:20240723T200439Z
LAST-MODIFIED:20240817T170253Z
UID:83747-1723888800-1723901400@events.bridgeport.edu
SUMMARY:Full Circle Youth Development
DESCRIPTION:
URL:https://events.bridgeport.edu/event/full-circle-youth-development-2/
LOCATION:JCSC KNIGHT S1 – Social Room Campus: Main Campus
CATEGORIES:Community
END:VEVENT
BEGIN:VEVENT
DTSTART;TZID=America/New_York:20240817T100000
DTEND;TZID=America/New_York:20240817T133000
DTSTAMP:20260422T224144
CREATED:20240723T200439Z
LAST-MODIFIED:20240813T180250Z
UID:83748-1723888800-1723901400@events.bridgeport.edu
SUMMARY:Full Circle Youth Development
DESCRIPTION:
URL:https://events.bridgeport.edu/event/full-circle-youth-development-3/
LOCATION:MAN 3 Campus: Main Campus\, 230 Park Avenue\, Bridgeport\, CT\, 06604\, United States
CATEGORIES:Community
END:VEVENT
BEGIN:VEVENT
DTSTART;TZID=America/New_York:20240817T100000
DTEND;TZID=America/New_York:20240817T133000
DTSTAMP:20260422T224144
CREATED:20240723T200440Z
LAST-MODIFIED:20240815T173250Z
UID:83749-1723888800-1723901400@events.bridgeport.edu
SUMMARY:Full Circle Youth Development
DESCRIPTION:
URL:https://events.bridgeport.edu/event/full-circle-youth-development-4/
LOCATION:MAN 1 Campus: Main Campus\, 230 Park Avenue\, Bridgeport\, CT\, 06604\, United States
CATEGORIES:Community
END:VEVENT
BEGIN:VEVENT
DTSTART;TZID=America/New_York:20240817T100000
DTEND;TZID=America/New_York:20240817T133000
DTSTAMP:20260422T224144
CREATED:20240813T190302Z
LAST-MODIFIED:20240817T170306Z
UID:85953-1723888800-1723901400@events.bridgeport.edu
SUMMARY:Full Circle Youth Development
DESCRIPTION:
URL:https://events.bridgeport.edu/event/full-circle-youth-development-5/
LOCATION:MAN 104 Campus: Main Campus\, 230 Park Avenue\, Bridgeport\, CT\, 06604\, United States
CATEGORIES:Community
END:VEVENT
BEGIN:VEVENT
DTSTART;TZID=America/New_York:20240826T080000
DTEND;TZID=America/New_York:20240826T140000
DTSTAMP:20260422T224144
CREATED:20240816T163302Z
LAST-MODIFIED:20240826T173339Z
UID:86278-1724659200-1724680800@events.bridgeport.edu
SUMMARY:Fairfield Schools Welcome
DESCRIPTION:
URL:https://events.bridgeport.edu/event/fairfield-schools-welcome/
LOCATION:WAHL HC – LC2 Campus: Main Campus
CATEGORIES:Community
END:VEVENT
BEGIN:VEVENT
DTSTART;TZID=America/New_York:20240830T180000
DTEND;TZID=America/New_York:20240830T200000
DTSTAMP:20260422T224144
CREATED:20240625T000724Z
LAST-MODIFIED:20240830T203247Z
UID:80825-1725040800-1725048000@events.bridgeport.edu
SUMMARY:ARV Community Conversations - RYSAP hosted by the Office of Civic Engagement
DESCRIPTION:
URL:https://events.bridgeport.edu/event/arv-community-conversations-rysap-hosted-by-the-office-of-civic-engagement-6/
LOCATION:WAHL HC Main Area  Campus: Main Campus
CATEGORIES:Community
END:VEVENT
BEGIN:VEVENT
DTSTART;TZID=America/New_York:20240911T170000
DTEND;TZID=America/New_York:20240911T200000
DTSTAMP:20260422T224144
CREATED:20240830T191747Z
LAST-MODIFIED:20240911T214748Z
UID:87841-1726074000-1726084800@events.bridgeport.edu
SUMMARY:Community Advisory Committee  Meeting-Connecticut Metropolitan Council of Governments
DESCRIPTION:
URL:https://events.bridgeport.edu/event/community-advisory-committee-meeting-connecticut-metropolitan-council-of-governments/
LOCATION:CARH 252 Campus: Main Campus\, 303 University Avenue\, Bridgeport\, CT\, 06604\, United States
CATEGORIES:Community
END:VEVENT
BEGIN:VEVENT
DTSTART;TZID=America/New_York:20240912T094500
DTEND;TZID=America/New_York:20240912T110000
DTSTAMP:20260422T224144
CREATED:20240911T164749Z
LAST-MODIFIED:20240912T140247Z
UID:89139-1726134300-1726138800@events.bridgeport.edu
SUMMARY:Fairfield Public School Training
DESCRIPTION:
URL:https://events.bridgeport.edu/event/fairfield-public-school-training/
LOCATION:WAHL HC – LC2 Campus: Main Campus
CATEGORIES:Community
END:VEVENT
BEGIN:VEVENT
DTSTART;TZID=America/New_York:20240912T180000
DTEND;TZID=America/New_York:20240912T200000
DTSTAMP:20260422T224144
CREATED:20240808T210311Z
LAST-MODIFIED:20240912T194804Z
UID:85411-1726164000-1726171200@events.bridgeport.edu
SUMMARY:South End NRZ Meetings
DESCRIPTION:
URL:https://events.bridgeport.edu/event/south-end-nrz-meetings/
LOCATION:BAUH 111 Campus: Main Campus\, 82 Marina Park Street\, Bridgeport\, CT\, 06604\, United States
CATEGORIES:Community
END:VEVENT
BEGIN:VEVENT
DTSTART;TZID=America/New_York:20240914T130000
DTEND;TZID=America/New_York:20240914T170000
DTSTAMP:20260422T224144
CREATED:20240828T024748Z
LAST-MODIFIED:20240914T201751Z
UID:87473-1726318800-1726333200@events.bridgeport.edu
SUMMARY:Escape Alive!: Self Defense Systems Survival Skills
DESCRIPTION:
URL:https://events.bridgeport.edu/event/escape-alive-self-defense-systems-survival-skills/
LOCATION:WRC Field House 1 Campus: Main Campus
CATEGORIES:Community
END:VEVENT
BEGIN:VEVENT
DTSTART;TZID=America/New_York:20240916T093000
DTEND;TZID=America/New_York:20240916T110000
DTSTAMP:20260422T224144
CREATED:20240912T173251Z
LAST-MODIFIED:20240916T134821Z
UID:89257-1726479000-1726484400@events.bridgeport.edu
SUMMARY:Fairfield Schools
DESCRIPTION:
URL:https://events.bridgeport.edu/event/fairfield-schools/
LOCATION:MAN MAN 9 Campus: Main Campus
CATEGORIES:Community
END:VEVENT
BEGIN:VEVENT
DTSTART;TZID=America/New_York:20240916T093000
DTEND;TZID=America/New_York:20240916T113000
DTSTAMP:20260422T224144
CREATED:20240910T000252Z
LAST-MODIFIED:20240916T150250Z
UID:88964-1726479000-1726486200@events.bridgeport.edu
SUMMARY:Fairfield Schools Training
DESCRIPTION:
URL:https://events.bridgeport.edu/event/fairfield-schools-training/
LOCATION:WAHL HC – LC2 Campus: Main Campus
CATEGORIES:Community
END:VEVENT
BEGIN:VEVENT
DTSTART;TZID=America/New_York:20240916T120000
DTEND;TZID=America/New_York:20240916T133000
DTSTAMP:20260422T224144
CREATED:20240830T191748Z
LAST-MODIFIED:20240916T161750Z
UID:87842-1726488000-1726493400@events.bridgeport.edu
SUMMARY:Fairfield Bowling
DESCRIPTION:
URL:https://events.bridgeport.edu/event/fairfield-bowling-16/
LOCATION:JCSC UBowl Campus: Main Campus
CATEGORIES:Community
END:VEVENT
BEGIN:VEVENT
DTSTART;TZID=America/New_York:20240917T093000
DTEND;TZID=America/New_York:20240917T110000
DTSTAMP:20260422T224144
CREATED:20240913T000251Z
LAST-MODIFIED:20240917T140309Z
UID:89537-1726565400-1726570800@events.bridgeport.edu
SUMMARY:Fairfield Schools
DESCRIPTION:
URL:https://events.bridgeport.edu/event/fairfield-schools-128/
LOCATION:MAN MAN 9 Campus: Main Campus
CATEGORIES:Community
END:VEVENT
BEGIN:VEVENT
DTSTART;TZID=America/New_York:20240918T093000
DTEND;TZID=America/New_York:20240918T110000
DTSTAMP:20260422T224144
CREATED:20240912T173251Z
LAST-MODIFIED:20240918T140300Z
UID:89259-1726651800-1726657200@events.bridgeport.edu
SUMMARY:Fairfield Schools
DESCRIPTION:
URL:https://events.bridgeport.edu/event/fairfield-schools-2/
LOCATION:MAN MAN 9 Campus: Main Campus
CATEGORIES:Community
END:VEVENT
BEGIN:VEVENT
DTSTART;TZID=America/New_York:20240919T093000
DTEND;TZID=America/New_York:20240919T110000
DTSTAMP:20260422T224144
CREATED:20240912T173251Z
LAST-MODIFIED:20240919T134750Z
UID:89260-1726738200-1726743600@events.bridgeport.edu
SUMMARY:Fairfield Schools
DESCRIPTION:
URL:https://events.bridgeport.edu/event/fairfield-schools-3/
LOCATION:MAN MAN 9 Campus: Main Campus
CATEGORIES:Community
END:VEVENT
END:VCALENDAR