

BEGIN:VCALENDAR
VERSION:2.0
PRODID:-//Campus Events - ECPv6.15.20//NONSGML v1.0//EN
CALSCALE:GREGORIAN
METHOD:PUBLISH
X-ORIGINAL-URL:https://events.bridgeport.edu
X-WR-CALDESC:Events for Campus Events
REFRESH-INTERVAL;VALUE=DURATION:PT1H
X-Robots-Tag:noindex
X-PUBLISHED-TTL:PT1H
BEGIN:VTIMEZONE
TZID:America/New_York
BEGIN:DAYLIGHT
TZOFFSETFROM:-0500
TZOFFSETTO:-0400
TZNAME:EDT
DTSTART:20240310T070000
END:DAYLIGHT
BEGIN:STANDARD
TZOFFSETFROM:-0400
TZOFFSETTO:-0500
TZNAME:EST
DTSTART:20241103T060000
END:STANDARD
BEGIN:DAYLIGHT
TZOFFSETFROM:-0500
TZOFFSETTO:-0400
TZNAME:EDT
DTSTART:20250309T070000
END:DAYLIGHT
BEGIN:STANDARD
TZOFFSETFROM:-0400
TZOFFSETTO:-0500
TZNAME:EST
DTSTART:20251102T060000
END:STANDARD
BEGIN:DAYLIGHT
TZOFFSETFROM:-0500
TZOFFSETTO:-0400
TZNAME:EDT
DTSTART:20260308T070000
END:DAYLIGHT
BEGIN:STANDARD
TZOFFSETFROM:-0400
TZOFFSETTO:-0500
TZNAME:EST
DTSTART:20261101T060000
END:STANDARD
END:VTIMEZONE
BEGIN:VEVENT
DTSTART;TZID=America/New_York:20250221T080000
DTEND;TZID=America/New_York:20250221T160000
DTSTAMP:20260422T045148
CREATED:20241106T000713Z
LAST-MODIFIED:20250217T154753Z
UID:95904-1740124800-1740153600@events.bridgeport.edu
SUMMARY:Regional In Service Police Training
DESCRIPTION:
URL:https://events.bridgeport.edu/event/regional-in-service-police-training-5/
LOCATION:JCSC KNIGHT S1 – Social Room Campus: Main Campus
CATEGORIES:Community
END:VEVENT
BEGIN:VEVENT
DTSTART;TZID=America/New_York:20250221T093000
DTEND;TZID=America/New_York:20250221T110000
DTSTAMP:20260422T045148
CREATED:20240912T173545Z
LAST-MODIFIED:20250217T154753Z
UID:89336-1740130200-1740135600@events.bridgeport.edu
SUMMARY:Fairfield Schools
DESCRIPTION:
URL:https://events.bridgeport.edu/event/fairfield-schools-78/
LOCATION:MAN MAN 9 Campus: Main Campus
CATEGORIES:Community
END:VEVENT
BEGIN:VEVENT
DTSTART;TZID=America/New_York:20250221T153000
DTEND;TZID=America/New_York:20250221T173000
DTSTAMP:20260422T045148
CREATED:20241114T000733Z
LAST-MODIFIED:20250217T154805Z
UID:96807-1740151800-1740159000@events.bridgeport.edu
SUMMARY:BackCountry Jazz Music Program
DESCRIPTION:
URL:https://events.bridgeport.edu/event/backcountry-jazz-music-program-37/
LOCATION:JCSC Knight S7 Campus: Main Campus
CATEGORIES:Community
END:VEVENT
BEGIN:VEVENT
DTSTART;TZID=America/New_York:20250221T153000
DTEND;TZID=America/New_York:20250221T173000
DTSTAMP:20260422T045148
CREATED:20241114T000733Z
LAST-MODIFIED:20250217T154805Z
UID:96808-1740151800-1740159000@events.bridgeport.edu
SUMMARY:BackCountry Jazz Music Program
DESCRIPTION:
URL:https://events.bridgeport.edu/event/backcountry-jazz-music-program-38/
LOCATION:JCSC 213-215 Campus: Main Campus\, 244 University Avenue\, Bridgeport\, CT\, 06604\, United States
CATEGORIES:Community
END:VEVENT
BEGIN:VEVENT
DTSTART;TZID=America/New_York:20250221T153000
DTEND;TZID=America/New_York:20250221T173000
DTSTAMP:20260422T045148
CREATED:20241114T000733Z
LAST-MODIFIED:20250217T154805Z
UID:96809-1740151800-1740159000@events.bridgeport.edu
SUMMARY:BackCountry Jazz Music Program
DESCRIPTION:
URL:https://events.bridgeport.edu/event/backcountry-jazz-music-program-39/
LOCATION:JCSC 207-209 Campus: Main Campus\, 244 University Avenue\, Bridgeport\, CT\, 06604\, United States
CATEGORIES:Community
END:VEVENT
BEGIN:VEVENT
DTSTART;TZID=America/New_York:20250222T080000
DTEND;TZID=America/New_York:20250222T140000
DTSTAMP:20260422T045148
CREATED:20241003T040958Z
LAST-MODIFIED:20250217T154805Z
UID:92215-1740211200-1740232800@events.bridgeport.edu
SUMMARY:BCYL
DESCRIPTION:
URL:https://events.bridgeport.edu/event/bcyl-66/
LOCATION:MAN 318 Campus: Main Campus\, 230 Park Avenue\, Bridgeport\, CT\, 06604\, United States
CATEGORIES:Community
END:VEVENT
BEGIN:VEVENT
DTSTART;TZID=America/New_York:20250222T080000
DTEND;TZID=America/New_York:20250222T140000
DTSTAMP:20260422T045148
CREATED:20241003T040958Z
LAST-MODIFIED:20250111T090509Z
UID:92214-1740211200-1740232800@events.bridgeport.edu
SUMMARY:BCYL
DESCRIPTION:
URL:https://events.bridgeport.edu/event/bcyl-65/
LOCATION:MAN 319 Campus: Main Campus\, 230 Park Avenue\, Bridgeport\, CT\, 06604\, United States
CATEGORIES:Community
END:VEVENT
BEGIN:VEVENT
DTSTART;TZID=America/New_York:20250222T080000
DTEND;TZID=America/New_York:20250222T140000
DTSTAMP:20260422T045148
CREATED:20241003T040959Z
LAST-MODIFIED:20250217T154805Z
UID:92216-1740211200-1740232800@events.bridgeport.edu
SUMMARY:BCYL
DESCRIPTION:
URL:https://events.bridgeport.edu/event/bcyl-67/
LOCATION:MAN 322 Campus: Main Campus\, 230 Park Avenue\, Bridgeport\, CT\, 06604\, United States
CATEGORIES:Community
END:VEVENT
BEGIN:VEVENT
DTSTART;TZID=America/New_York:20250222T080000
DTEND;TZID=America/New_York:20250222T140000
DTSTAMP:20260422T045148
CREATED:20241003T040959Z
LAST-MODIFIED:20250217T154805Z
UID:92217-1740211200-1740232800@events.bridgeport.edu
SUMMARY:BCYL
DESCRIPTION:
URL:https://events.bridgeport.edu/event/bcyl-68/
LOCATION:MAN 311 Campus: Main Campus\, 230 Park Avenue\, Bridgeport\, CT\, 06604\, United States
CATEGORIES:Community
END:VEVENT
BEGIN:VEVENT
DTSTART;TZID=America/New_York:20250222T080000
DTEND;TZID=America/New_York:20250222T140000
DTSTAMP:20260422T045148
CREATED:20241003T041012Z
LAST-MODIFIED:20250217T154805Z
UID:92218-1740211200-1740232800@events.bridgeport.edu
SUMMARY:BCYL
DESCRIPTION:
URL:https://events.bridgeport.edu/event/bcyl-69/
LOCATION:MAN 321 Campus: Main Campus\, 230 Park Avenue\, Bridgeport\, CT\, 06604\, United States
CATEGORIES:Community
END:VEVENT
BEGIN:VEVENT
DTSTART;TZID=America/New_York:20250222T080000
DTEND;TZID=America/New_York:20250222T140000
DTSTAMP:20260422T045148
CREATED:20241003T041013Z
LAST-MODIFIED:20250217T154805Z
UID:92220-1740211200-1740232800@events.bridgeport.edu
SUMMARY:BCYL
DESCRIPTION:
URL:https://events.bridgeport.edu/event/bcyl-71/
LOCATION:MAN 320 Campus: Main Campus\, 230 Park Avenue\, Bridgeport\, CT\, 06604\, United States
CATEGORIES:Community
END:VEVENT
BEGIN:VEVENT
DTSTART;TZID=America/New_York:20250222T080000
DTEND;TZID=America/New_York:20250222T140000
DTSTAMP:20260422T045148
CREATED:20241003T041013Z
LAST-MODIFIED:20250217T154805Z
UID:92221-1740211200-1740232800@events.bridgeport.edu
SUMMARY:BCYL
DESCRIPTION:
URL:https://events.bridgeport.edu/event/bcyl-72/
LOCATION:MAN 323 Campus: Main Campus\, 230 Park Avenue\, Bridgeport\, CT\, 06604\, United States
CATEGORIES:Community
END:VEVENT
BEGIN:VEVENT
DTSTART;TZID=America/New_York:20250222T080000
DTEND;TZID=America/New_York:20250222T140000
DTSTAMP:20260422T045148
CREATED:20241003T041013Z
LAST-MODIFIED:20250217T154805Z
UID:92219-1740211200-1740232800@events.bridgeport.edu
SUMMARY:BCYL
DESCRIPTION:
URL:https://events.bridgeport.edu/event/bcyl-70/
LOCATION:MAN 316 Campus: Main Campus\, 230 Park Avenue\, Bridgeport\, CT\, 06604\, United States
CATEGORIES:Community
END:VEVENT
BEGIN:VEVENT
DTSTART;TZID=America/New_York:20250222T080000
DTEND;TZID=America/New_York:20250222T140000
DTSTAMP:20260422T045148
CREATED:20250111T102009Z
LAST-MODIFIED:20250217T154817Z
UID:103100-1740211200-1740232800@events.bridgeport.edu
SUMMARY:BCYL
DESCRIPTION:
URL:https://events.bridgeport.edu/event/bcyl-89/
LOCATION:MAN 222 Campus: Main Campus\, 230 Park Avenue\, Bridgeport\, CT\, 06604\, United States
CATEGORIES:Community
END:VEVENT
BEGIN:VEVENT
DTSTART;TZID=America/New_York:20250222T080000
DTEND;TZID=America/New_York:20250222T140000
DTSTAMP:20260422T045148
CREATED:20250111T102021Z
LAST-MODIFIED:20250217T154817Z
UID:103101-1740211200-1740232800@events.bridgeport.edu
SUMMARY:BCYL
DESCRIPTION:
URL:https://events.bridgeport.edu/event/bcyl-90/
LOCATION:MAN 223 Campus: Main Campus\, 230 Park Avenue\, Bridgeport\, CT\, 06604\, United States
CATEGORIES:Community
END:VEVENT
BEGIN:VEVENT
DTSTART;TZID=America/New_York:20250222T080000
DTEND;TZID=America/New_York:20250222T140000
DTSTAMP:20260422T045148
CREATED:20250207T204853Z
LAST-MODIFIED:20250217T154817Z
UID:106117-1740211200-1740232800@events.bridgeport.edu
SUMMARY:BCYL
DESCRIPTION:
URL:https://events.bridgeport.edu/event/bcyl-101/
LOCATION:MAN 220 Campus: Main Campus\, 230 Park Avenue\, Bridgeport\, CT\, 06604\, United States
CATEGORIES:Community
END:VEVENT
BEGIN:VEVENT
DTSTART;TZID=America/New_York:20250222T083000
DTEND;TZID=America/New_York:20250222T133000
DTSTAMP:20260422T045148
CREATED:20241220T125103Z
LAST-MODIFIED:20250217T154817Z
UID:100722-1740213000-1740231000@events.bridgeport.edu
SUMMARY:32BJ Training Program
DESCRIPTION:
URL:https://events.bridgeport.edu/event/32bj-training-program-7/
LOCATION:MAN 216 Campus: Main Campus\, 230 Park Avenue\, Bridgeport\, CT\, 06604\, United States
CATEGORIES:Community
END:VEVENT
BEGIN:VEVENT
DTSTART;TZID=America/New_York:20250224T093000
DTEND;TZID=America/New_York:20250224T110000
DTSTAMP:20260422T045148
CREATED:20240913T000703Z
LAST-MODIFIED:20250217T154817Z
UID:89583-1740389400-1740394800@events.bridgeport.edu
SUMMARY:Fairfield Schools
DESCRIPTION:
URL:https://events.bridgeport.edu/event/fairfield-schools-159/
LOCATION:MAN MAN 9 Campus: Main Campus
CATEGORIES:Community
END:VEVENT
BEGIN:VEVENT
DTSTART;TZID=America/New_York:20250225T083000
DTEND;TZID=America/New_York:20250225T140000
DTSTAMP:20260422T045148
CREATED:20250104T125115Z
LAST-MODIFIED:20250114T125029Z
UID:102330-1740472200-1740492000@events.bridgeport.edu
SUMMARY:Homes for the Brave Training
DESCRIPTION:
URL:https://events.bridgeport.edu/event/homes-for-the-brave-training/
LOCATION:JCSC 100 Campus: Main Campus\, 244 University Avenue\, Bridgeport\, CT\, 06604\, United States
CATEGORIES:Community
END:VEVENT
BEGIN:VEVENT
DTSTART;TZID=America/New_York:20250225T083000
DTEND;TZID=America/New_York:20250225T140000
DTSTAMP:20260422T045148
CREATED:20250114T140543Z
LAST-MODIFIED:20250214T001841Z
UID:103441-1740472200-1740492000@events.bridgeport.edu
SUMMARY:Homes for the Brave: All Staff Training
DESCRIPTION:
URL:https://events.bridgeport.edu/event/homes-for-the-brave-all-staff-training/
LOCATION:JCSC 100 Campus: Main Campus\, 244 University Avenue\, Bridgeport\, CT\, 06604\, United States
CATEGORIES:Community
END:VEVENT
BEGIN:VEVENT
DTSTART;TZID=America/New_York:20250225T083000
DTEND;TZID=America/New_York:20250225T140000
DTSTAMP:20260422T045148
CREATED:20250214T013339Z
LAST-MODIFIED:20250217T154817Z
UID:106909-1740472200-1740492000@events.bridgeport.edu
SUMMARY:Homes for the Brave: All Staff Training
DESCRIPTION:
URL:https://events.bridgeport.edu/event/homes-for-the-brave-all-staff-training-2/
LOCATION:Campus:
CATEGORIES:Community
END:VEVENT
BEGIN:VEVENT
DTSTART;TZID=America/New_York:20250225T090000
DTEND;TZID=America/New_York:20250225T150000
DTSTAMP:20260422T045148
CREATED:20250214T013339Z
LAST-MODIFIED:20250217T154817Z
UID:106907-1740474000-1740495600@events.bridgeport.edu
SUMMARY:Bridgeport Science and Engineering Exposition for Grades 7-12 - Provost Office
DESCRIPTION:
URL:https://events.bridgeport.edu/event/bridgeport-science-and-engineering-exposition-for-grades-7-12-provost-office/
LOCATION:JCSC KNIGHT S1 – Social Room Campus: Main Campus
CATEGORIES:Community
END:VEVENT
BEGIN:VEVENT
DTSTART;TZID=America/New_York:20250225T093000
DTEND;TZID=America/New_York:20250225T110000
DTSTAMP:20260422T045148
CREATED:20240912T173545Z
LAST-MODIFIED:20250217T154817Z
UID:89337-1740475800-1740481200@events.bridgeport.edu
SUMMARY:Fairfield Schools
DESCRIPTION:
URL:https://events.bridgeport.edu/event/fairfield-schools-79/
LOCATION:MAN MAN 9 Campus: Main Campus
CATEGORIES:Community
END:VEVENT
BEGIN:VEVENT
DTSTART;TZID=America/New_York:20250225T140000
DTEND;TZID=America/New_York:20250225T160000
DTSTAMP:20260422T045148
CREATED:20250104T125114Z
LAST-MODIFIED:20250214T001841Z
UID:102329-1740492000-1740499200@events.bridgeport.edu
SUMMARY:Homes for the Brave Bowling Social
DESCRIPTION:
URL:https://events.bridgeport.edu/event/homes-for-the-brave-bowling-social/
LOCATION:JCSC UBowl Campus: Main Campus
CATEGORIES:Community
END:VEVENT
BEGIN:VEVENT
DTSTART;TZID=America/New_York:20250225T140000
DTEND;TZID=America/New_York:20250225T160000
DTSTAMP:20260422T045148
CREATED:20250214T013339Z
LAST-MODIFIED:20250217T154817Z
UID:106908-1740492000-1740499200@events.bridgeport.edu
SUMMARY:Homes for the Brave Bowling Social
DESCRIPTION:
URL:https://events.bridgeport.edu/event/homes-for-the-brave-bowling-social-2/
LOCATION:Campus:
CATEGORIES:Community
END:VEVENT
BEGIN:VEVENT
DTSTART;TZID=America/New_York:20250226T093000
DTEND;TZID=America/New_York:20250226T110000
DTSTAMP:20260422T045148
CREATED:20240913T000703Z
LAST-MODIFIED:20250217T154817Z
UID:89584-1740562200-1740567600@events.bridgeport.edu
SUMMARY:Fairfield Schools
DESCRIPTION:
URL:https://events.bridgeport.edu/event/fairfield-schools-160/
LOCATION:MAN MAN 9 Campus: Main Campus
CATEGORIES:Community
END:VEVENT
BEGIN:VEVENT
DTSTART;TZID=America/New_York:20250226T130000
DTEND;TZID=America/New_York:20250226T180000
DTSTAMP:20260422T045148
CREATED:20241022T200736Z
LAST-MODIFIED:20241116T125345Z
UID:94421-1740574800-1740592800@events.bridgeport.edu
SUMMARY:Blood Drive - Center for Student Involvement
DESCRIPTION:
URL:https://events.bridgeport.edu/event/blood-drive-center-for-student-involvement-4/
LOCATION:JCSC KNIGHT S1 – Social Room Campus: Main Campus
CATEGORIES:Community
END:VEVENT
BEGIN:VEVENT
DTSTART;TZID=America/New_York:20250227T093000
DTEND;TZID=America/New_York:20250227T110000
DTSTAMP:20260422T045148
CREATED:20240912T173545Z
LAST-MODIFIED:20250217T154828Z
UID:89338-1740648600-1740654000@events.bridgeport.edu
SUMMARY:Fairfield Schools
DESCRIPTION:
URL:https://events.bridgeport.edu/event/fairfield-schools-80/
LOCATION:MAN MAN 9 Campus: Main Campus
CATEGORIES:Community
END:VEVENT
BEGIN:VEVENT
DTSTART;TZID=America/New_York:20250228T093000
DTEND;TZID=America/New_York:20250228T110000
DTSTAMP:20260422T045148
CREATED:20240912T173545Z
LAST-MODIFIED:20250217T154828Z
UID:89339-1740735000-1740740400@events.bridgeport.edu
SUMMARY:Fairfield Schools
DESCRIPTION:
URL:https://events.bridgeport.edu/event/fairfield-schools-81/
LOCATION:MAN MAN 9 Campus: Main Campus
CATEGORIES:Community
END:VEVENT
BEGIN:VEVENT
DTSTART;TZID=America/New_York:20250228T153000
DTEND;TZID=America/New_York:20250228T173000
DTSTAMP:20260422T045148
CREATED:20241114T000758Z
LAST-MODIFIED:20250217T154828Z
UID:96811-1740756600-1740763800@events.bridgeport.edu
SUMMARY:BackCountry Jazz Music Program
DESCRIPTION:
URL:https://events.bridgeport.edu/event/backcountry-jazz-music-program-41/
LOCATION:JCSC Knight S7 Campus: Main Campus
CATEGORIES:Community
END:VEVENT
END:VCALENDAR